BEGIN:VCALENDAR
VERSION:2.0
PRODID:-//CCIRS - ECPv6.15.18//NONSGML v1.0//EN
CALSCALE:GREGORIAN
METHOD:PUBLISH
X-WR-CALNAME:CCIRS
X-ORIGINAL-URL:https://ccirs.qc.ca
X-WR-CALDESC:Évènements pour CCIRS
REFRESH-INTERVAL;VALUE=DURATION:PT1H
X-Robots-Tag:noindex
X-PUBLISHED-TTL:PT1H
BEGIN:VTIMEZONE
TZID:America/Toronto
BEGIN:DAYLIGHT
TZOFFSETFROM:-0500
TZOFFSETTO:-0400
TZNAME:EDT
DTSTART:20250309T070000
END:DAYLIGHT
BEGIN:STANDARD
TZOFFSETFROM:-0400
TZOFFSETTO:-0500
TZNAME:EST
DTSTART:20251102T060000
END:STANDARD
BEGIN:DAYLIGHT
TZOFFSETFROM:-0500
TZOFFSETTO:-0400
TZNAME:EDT
DTSTART:20260308T070000
END:DAYLIGHT
BEGIN:STANDARD
TZOFFSETFROM:-0400
TZOFFSETTO:-0500
TZNAME:EST
DTSTART:20261101T060000
END:STANDARD
BEGIN:DAYLIGHT
TZOFFSETFROM:-0500
TZOFFSETTO:-0400
TZNAME:EDT
DTSTART:20270314T070000
END:DAYLIGHT
BEGIN:STANDARD
TZOFFSETFROM:-0400
TZOFFSETTO:-0500
TZNAME:EST
DTSTART:20271107T060000
END:STANDARD
END:VTIMEZONE
BEGIN:VEVENT
DTSTART;TZID=America/Toronto:20260203T120000
DTEND;TZID=America/Toronto:20260203T140000
DTSTAMP:20260422T141529
CREATED:20251211T185422Z
LAST-MODIFIED:20260202T185030Z
UID:14015-1770120000-1770127200@ccirs.qc.ca
SUMMARY:Grande Rencontre – Perspectives économiques 2026 avec Isabelle Hudon et Pierre Cléroux (BDC)
DESCRIPTION:La Chambre de commerce et d’industrie de la Rive-Sud vous convie à sa Grande Rencontre annuelle consacrée aux perspectives économiques de l’année 2026 — un rendez-vous incontournable pour les dirigeants et décideurs qui souhaitent amorcer l’année avec une lecture juste des tendances et des leviers d’action. \nDans un contexte où les entreprises doivent composer avec des environnements économiques\, financiers et géopolitiques incertains\, cette rencontre offrira une analyse rigoureuse des principaux indicateurs à surveiller\, ainsi qu’un éclairage stratégique sur les opportunités et les risques à venir. \nPierre Cléroux\, vice-président\, Recherche et économiste en chef de la Banque de développement du Canada (BDC)\, livrera son analyse des grandes tendances économiques qui façonneront l’année 2026\, avec un focus particulier sur les PME\, l’investissement\, la productivité et l’innovation. \nIsabelle Hudon\, présidente et cheffe de la direction de la Banque de développement du Canada\, et figure de proue du milieu des affaires\, apportera pour sa part un regard privilégié de dirigeante sur les défis de leadership\, la transformation des organisations\, l’accès au capital et la croissance des entreprises dans un contexte de transition économique. \nUne occasion unique de conjuguer lecture macroéconomique\, vision d’affaires et réflexion stratégique pour mieux orienter ses décisions en début d’année. \nVous aimeriez être partenaire de cet événement? Communiquez avec Amine et Marion : developpement@ccirs.qc.ca \nTarifs :\nMembre : 115$\nRégulier : 150$ \nTables (8 personnes) :\nMembre : 920$\nRégulier : 1200$  \nTables VIP (8 personnes) :\nMembre : 1750$ \n\nTable de 8 personnes avec logo de l’entreprise\n2 passes VIP \n\nRégulier : 2000$ \n\nTable de 8 personnes avec logo de l’entreprise\n2 passes VIP \n\nLe billet inclut un repas 3 services. \nInscription\n  \nPartenaires des Grandes Rencontres de la Rive-Sud \n \n \n  \n  \n  \n  \nPartenaires de l’événement 
URL:https://ccirs.qc.ca/evenements/grande-rencontre-perspectives-economiques-2026-avec-isabelle-hudon-et-pierre-cleroux-bdc/
LOCATION:Parcours du Cerf\, 2500\, boulevard Fernand-Lafontaine\, Longueuil\, Québec\, J4N 1M5\, Canada
CATEGORIES:Grande rencontre
ATTACH;FMTTYPE=image/png:https://ccirs.qc.ca/wp-content/uploads/2025/12/Grande-Rencontre_Perspectives-economiques-2026_1200-x-628-VF-3.png
END:VEVENT
BEGIN:VEVENT
DTSTART;TZID=America/Toronto:20260210T170000
DTEND;TZID=America/Toronto:20260210T200000
DTSTAMP:20260422T141529
CREATED:20260108T170100Z
LAST-MODIFIED:20260206T154753Z
UID:14061-1770742800-1770753600@ccirs.qc.ca
SUMMARY:COMPLET – Aile jeunesse – Cocktail réseautage : Jouer pour mieux connecter
DESCRIPTION:*L’événement affiche maintenant complet* \nL’Aile jeunesse a le plaisir de vous inviter le 10 février prochain à la Brasserie Gaspard à Boucherville pour un événement unique alliant réseautage et quiz animé! \nAu programme : un jeu-questionnaire convivial et interactif qui mettra vos connaissances générales à l’épreuve tout en créant de véritables occasions de rencontres et de réseautage dans une ambiance décontractée et chaleureuse. Que vous soyez un passionné de trivia ou simplement curieux de rencontrer de nouvelles personnes\, cette soirée est pensée pour allier plaisir\, apprentissage et échanges enrichissants\, le tout autour des savoureuses bières artisanales de la Brasserie Gaspard! \nRejoignez-nous pour une expérience ludique où le jeu devient le moteur des connexions! \nTarifs :   \nMembres : 70 $\nRégulier : 85 $ \nLe billet inclut des bouchées et une consommation. \nInscription \n  \nPartenaire présentateur de l’Aile jeunesse : \n \n  \n 
URL:https://ccirs.qc.ca/evenements/aile-jeunesse-cocktail-reseautage-jouer-pour-mieux-connecter/
LOCATION:Gaspard – Brasserie artisanale\, 280 Bd du Fort-Saint-Louis\, Boucherville\, Québec\, J4B 1S1\, Canada
CATEGORIES:Aile Jeunesse,Réseautage
ATTACH;FMTTYPE=image/png:https://ccirs.qc.ca/wp-content/uploads/2026/01/AJ_1200-x-628_Template-bleu-fonce_bleu-fonce-1.png
END:VEVENT
BEGIN:VEVENT
DTSTART;TZID=America/Toronto:20260219T170000
DTEND;TZID=America/Toronto:20260219T190000
DTSTAMP:20260422T141529
CREATED:20260128T151049Z
LAST-MODIFIED:20260128T151049Z
UID:14149-1771520400-1771527600@ccirs.qc.ca
SUMMARY:Soirée Desjardins des nouvelles entreprises de Calixa-Lavallée\, Contrecoeur et Verchères 2026
DESCRIPTION:En collaboration avec Rues Principales Verchères\, le Quartier des Affaires\, la MRC de Marguerite-D’Youville et la Caisse Desjardins des Patriotes\, la Chambre de commerce et d’industrie de la Rive-Sud invite le milieu des affaires à participer à cette soirée de présentation des nouvelles entreprises de Calixa-Lavallée\, Contrecoeur et Verchères. \nCet événement de réseautage est l’opportunité idéale pour créer des liens privilégiés\, élargir votre réseau professionnel et découvrir les dynamiques entrepreneuriales qui animent notre communauté d’affaires. \nPrix : Gratuit pour tous \nInscription\n 
URL:https://ccirs.qc.ca/evenements/soiree-desjardins-des-nouvelles-entreprises-de-calixa-lavallee-contrecoeur-et-vercheres-2026/
LOCATION:771 Chem. de la Beauce\, 771 Chemin de la Beauce\, Calixa-Lavallée\, QC\, J4Y 0B6\, Canada
CATEGORIES:Réseautage
ATTACH;FMTTYPE=image/jpeg:https://ccirs.qc.ca/wp-content/uploads/2026/01/soiree-desjardins-Calixa-Lavalle.jpg
END:VEVENT
BEGIN:VEVENT
DTSTART;TZID=America/Toronto:20260224T160000
DTEND;TZID=America/Toronto:20260224T180000
DTSTAMP:20260422T141529
CREATED:20260114T184548Z
LAST-MODIFIED:20260219T165555Z
UID:14094-1771948800-1771956000@ccirs.qc.ca
SUMMARY:4 à 6 Nouveaux membres – Février 2026
DESCRIPTION:La Chambre de commerce et d’industrie de la Rive-Sud vous invite à sa prochaine rencontre pour nouveaux membres\, qui se tiendra en personne. \nActivité réseautage conviviale en formule 4 à 6\, réservé aux nouveaux membres. \nUne consommation et des bouchées seront servies pendant la rencontre. \nAu plaisir de faire votre connaissance! \nSur invitation seulement. \nPour en savoir plus : contactez Marie-Eve Pipon – mepipon@ccirs.qc.ca 
URL:https://ccirs.qc.ca/evenements/4-a-6-nouveaux-membres-fevrier-2026/
LOCATION:Hedhofis Quartier DIX30 – 3e étage\, 6000 Boul. de Rome\, Brossard\, Québec\, J4Y 0B6\, Canada
CATEGORIES:Rencontres Membres
ATTACH;FMTTYPE=image/png:https://ccirs.qc.ca/wp-content/uploads/2026/01/Visuel-4-a-6-nouveaux-membres.png
END:VEVENT
BEGIN:VEVENT
DTSTART;TZID=America/Toronto:20260226T073000
DTEND;TZID=America/Toronto:20260226T090000
DTSTAMP:20260422T141529
CREATED:20260204T205814Z
LAST-MODIFIED:20260213T195527Z
UID:14183-1772091000-1772096400@ccirs.qc.ca
SUMMARY:COMPLET – Matin Express – Générer des leads qualifiés en 2026 : ce qui fonctionne vraiment en B2B (IA\, contenu et prospection)
DESCRIPTION:*L’événement affiche maintenant complet* \nEn 2026\, générer des leads en B2B est devenu plus complexe\, plus coûteux… et plus confus. \nEntre l’intelligence artificielle\, la saturation des canaux et la méfiance des décideurs\, plusieurs stratégies marketing traditionnelles ne livrent plus les résultats attendus. Lors de cette conférence\, Simon Deschênes\, président d’AUX B2B\, présentera les leviers concrets qui fonctionnent réellement aujourd’hui pour générer des leads qualifiés en B2B : combinaison intelligente de contenu\, de prospection et d’IA\, erreurs à éviter et signaux à surveiller. \nLa conférence sera enrichie d’un cas réel\, présenté avec Nicolas St-Germain\, PDG de Réseau B\, qui partagera son expérience terrain et les impacts concrets sur son acquisition de clients. \nUne conférence pragmatique\, orientée décisions et résultats\, destinée aux dirigeants et entrepreneurs qui veulent cesser d’improviser leur croissance. \nTarifs : \nMembre : 45$\nRégulier : 60$ \n\n\n\nLe billet inclut un déjeuner continental. \nInscription\n  \nDéroulement :  \n7 h 30 : Arrivée des participants et réseautage \n8 h 00 : Début de la conférence \n8 h 45 : Période de questions \n9 h : Fin de l’événement \n  \nConférencier :  \n \n  \nSimon Deschênes\nPrésident\,\nAUX B2B\n \n  \n  \n  \n  \n  \n  \n  \nPartenaire de série : \n \n  \n  \nPartenaire présentateur : 
URL:https://ccirs.qc.ca/evenements/matin-express-generer-des-leads-qualifies-en-2026-ce-qui-fonctionne-vraiment-en-b2b-ia-contenu-et-prospection/
LOCATION:Hedhofis Quartier DIX30 – 3e étage\, 6000 Boul. de Rome\, Brossard\, Québec\, J4Y 0B6\, Canada
CATEGORIES:Matins express
ATTACH;FMTTYPE=image/png:https://ccirs.qc.ca/wp-content/uploads/2026/02/Matin-Express_1200-x-628_B2B.png
END:VEVENT
BEGIN:VEVENT
DTSTART;TZID=America/Toronto:20260226T170000
DTEND;TZID=America/Toronto:20260226T190000
DTSTAMP:20260422T141529
CREATED:20260128T151214Z
LAST-MODIFIED:20260128T151539Z
UID:14155-1772125200-1772132400@ccirs.qc.ca
SUMMARY:Soirée Desjardins des nouvelles entreprises de Saint-Amable\, Sainte-Julie et Varennes 2026
DESCRIPTION:En collaboration avec  l’AGA Saint-Amable\, la MRC de Marguerite-D’Youville et la Caisse Desjardins des Patriotes\, la Chambre de commerce et d’industrie de la Rive-Sud invite le milieu des affaires à participer à cette soirée de présentation des nouvelles entreprises de Saint-Amable\, Sainte-Julie et Varennes. \nCet événement de réseautage est l’opportunité idéale pour créer des liens privilégiés\, élargir votre réseau professionnel et découvrir les dynamiques entrepreneuriales qui animent notre communauté d’affaires. \nLes bouchées seront servies par Festin 2 Chefs. \nPrix : Gratuit pour tous \nInscription\n 
URL:https://ccirs.qc.ca/evenements/soiree-desjardins-des-nouvelles-entreprises-de-saint-amable-sainte-julie-et-varennes-2026/
LOCATION:Espace des Bâtisseurs\, 2022 Pl du 350e\, Varennes\, Québec\, J3X 0K9\, Canada
CATEGORIES:Réseautage
ATTACH;FMTTYPE=image/jpeg:https://ccirs.qc.ca/wp-content/uploads/2026/01/soiree-desjardins-Varennes.jpg
END:VEVENT
END:VCALENDAR