BEGIN:VCALENDAR
VERSION:2.0
PRODID:-//CCIRS - ECPv6.15.18//NONSGML v1.0//EN
CALSCALE:GREGORIAN
METHOD:PUBLISH
X-WR-CALNAME:CCIRS
X-ORIGINAL-URL:https://ccirs.qc.ca
X-WR-CALDESC:Évènements pour CCIRS
REFRESH-INTERVAL;VALUE=DURATION:PT1H
X-Robots-Tag:noindex
X-PUBLISHED-TTL:PT1H
BEGIN:VTIMEZONE
TZID:America/Toronto
BEGIN:DAYLIGHT
TZOFFSETFROM:-0500
TZOFFSETTO:-0400
TZNAME:EDT
DTSTART:20250309T070000
END:DAYLIGHT
BEGIN:STANDARD
TZOFFSETFROM:-0400
TZOFFSETTO:-0500
TZNAME:EST
DTSTART:20251102T060000
END:STANDARD
BEGIN:DAYLIGHT
TZOFFSETFROM:-0500
TZOFFSETTO:-0400
TZNAME:EDT
DTSTART:20260308T070000
END:DAYLIGHT
BEGIN:STANDARD
TZOFFSETFROM:-0400
TZOFFSETTO:-0500
TZNAME:EST
DTSTART:20261101T060000
END:STANDARD
BEGIN:DAYLIGHT
TZOFFSETFROM:-0500
TZOFFSETTO:-0400
TZNAME:EDT
DTSTART:20270314T070000
END:DAYLIGHT
BEGIN:STANDARD
TZOFFSETFROM:-0400
TZOFFSETTO:-0500
TZNAME:EST
DTSTART:20271107T060000
END:STANDARD
END:VTIMEZONE
BEGIN:VEVENT
DTSTART;TZID=America/Toronto:20260122T170000
DTEND;TZID=America/Toronto:20260122T200000
DTSTAMP:20260422T124542
CREATED:20251203T150346Z
LAST-MODIFIED:20260122T143623Z
UID:13986-1769101200-1769112000@ccirs.qc.ca
SUMMARY:COMPLET – Rendez-vous de la présidence 2026
DESCRIPTION:*L’événement affiche maintenant complet.** \nLa Chambre de commerce et d’industrie de la Rive-Sud vous invite à célébrer la nouvelle année dans une ambiance des plus festives à l’occasion du Rendez-vous de la présidence! Nous vous donnons rendez-vous le 22 janvier 2026\, au DOCK619 à Longueuil\, pour cette rencontre annuelle tant attendue par nos membres et l’ensemble de la communauté d’affaires de la Rive-Sud. \n\n\n\n\n\n\n\nCet événement privilégié constitue une occasion unique de tisser des liens durables\, de renforcer vos relations d’affaires et d’élargir votre réseau professionnel dans un cadre stimulant et convivial. \n\n\n\n\n\n\n\nLe Rendez-vous de la présidence est aussi une occasion unique de mettre en lumière votre entreprise grâce à notre plan de partenariat avantageux. Vous aimeriez être partenaire de cet événement? Communiquez avec Amine et Marion : developpement@ccirs.qc.ca \nTarifs : \nMembre : gratuit\nRégulier : 60$ \nINSCRIPTION\n  \nPartenaire cocktail : 
URL:https://ccirs.qc.ca/evenements/rendez-vous-de-la-presidence-2026/
LOCATION:DOCK 619\, 619 Rue le Breton\, Longueuil\, Québec\, J4G 1R9\, Canada
CATEGORIES:Réseautage
ATTACH;FMTTYPE=image/png:https://ccirs.qc.ca/wp-content/uploads/2025/12/Visuel-RDV-presidence-2026-1200x628-1.png
END:VEVENT
BEGIN:VEVENT
DTSTART;TZID=America/Toronto:20260129T073000
DTEND;TZID=America/Toronto:20260129T090000
DTSTAMP:20260422T124542
CREATED:20260108T152918Z
LAST-MODIFIED:20260116T183545Z
UID:14065-1769671800-1769677200@ccirs.qc.ca
SUMMARY:Matin Express – Leadership en action
DESCRIPTION:*Célébrez le début de la nouvelle année avec notre offre 2 pour 1! \nRejoignez-nous pour un Matin Express inspirant consacré au leadership et aux réalités concrètes des dirigeants d’aujourd’hui. \nÀ travers un panel de leaders d’ici\, cet événement mettra en lumière des parcours inspirants\, des défis réels et des stratégies concrètes pour mobiliser ses équipes\, prendre des décisions stratégiques et exercer un leadership authentique dans un contexte en constante évolution. \nLes panélistes partageront leurs expériences\, leurs apprentissages et leurs meilleures pratiques\, tout en prenant part à un échange dynamique avec les participants.  \nUne occasion privilégiée de poser vos questions\, de nourrir votre réflexion et de repartir avec des outils applicables à votre réalité d’entrepreneur ou de gestionnaire. \n\n\nTarifs : \nMembre : 45$ (2 pour 1)\nRégulier : 60$ (2 pour 1)\nLe billet inclut un déjeuner continental. \nInscription\n  \nDéroulement :  \n7 h 30 : Arrivée des participants et réseautage \n8 h 00 : Début de la conférence \n8 h 45 : Période de questions \n9 h : Fin de l’événement \n  \nConférenciers :  \n \n  \nMartin Choinière\nPrésident\,\nCivilia\n \n  \n  \n  \n  \n  \n  \n  \n  \n \n  \n  \nDominique Lapierre\nDirectrice générale\,\nThéâtre de la Ville \n  \n  \n  \n  \n  \n  \n  \n \n  \nBenoit Vigneau\nPrésident\,\nAutomatisation Pneumac\n  \n  \n  \n  \n  \n  \n  \n  \nPartenaire de série : \n \n  \n 
URL:https://ccirs.qc.ca/evenements/matin-express-leadership-en-action/
LOCATION:Hedhofis Quartier DIX30 – 3e étage\, 6000 Boul. de Rome\, Brossard\, Québec\, J4Y 0B6\, Canada
CATEGORIES:Matins express
ATTACH;FMTTYPE=image/png:https://ccirs.qc.ca/wp-content/uploads/2026/01/Matin-Express_1200-x-628_Leadership-V2.png
END:VEVENT
END:VCALENDAR