BEGIN:VCALENDAR
VERSION:2.0
PRODID:-//CCIRS - ECPv6.15.18//NONSGML v1.0//EN
CALSCALE:GREGORIAN
METHOD:PUBLISH
X-ORIGINAL-URL:https://ccirs.qc.ca
X-WR-CALDESC:Évènements pour CCIRS
REFRESH-INTERVAL;VALUE=DURATION:PT1H
X-Robots-Tag:noindex
X-PUBLISHED-TTL:PT1H
BEGIN:VTIMEZONE
TZID:America/Toronto
BEGIN:DAYLIGHT
TZOFFSETFROM:-0500
TZOFFSETTO:-0400
TZNAME:EDT
DTSTART:20240310T070000
END:DAYLIGHT
BEGIN:STANDARD
TZOFFSETFROM:-0400
TZOFFSETTO:-0500
TZNAME:EST
DTSTART:20241103T060000
END:STANDARD
BEGIN:DAYLIGHT
TZOFFSETFROM:-0500
TZOFFSETTO:-0400
TZNAME:EDT
DTSTART:20250309T070000
END:DAYLIGHT
BEGIN:STANDARD
TZOFFSETFROM:-0400
TZOFFSETTO:-0500
TZNAME:EST
DTSTART:20251102T060000
END:STANDARD
BEGIN:DAYLIGHT
TZOFFSETFROM:-0500
TZOFFSETTO:-0400
TZNAME:EDT
DTSTART:20260308T070000
END:DAYLIGHT
BEGIN:STANDARD
TZOFFSETFROM:-0400
TZOFFSETTO:-0500
TZNAME:EST
DTSTART:20261101T060000
END:STANDARD
END:VTIMEZONE
BEGIN:VEVENT
DTSTART;TZID=America/Toronto:20251001T160000
DTEND;TZID=America/Toronto:20251001T180000
DTSTAMP:20260422T081841
CREATED:20250912T170746Z
LAST-MODIFIED:20250912T170746Z
UID:13401-1759334400-1759341600@ccirs.qc.ca
SUMMARY:4 à 6 Nouveaux membres – Octobre 2025
DESCRIPTION:La Chambre de commerce et d’industrie de la Rive-Sud vous invite à sa prochaine rencontre pour nouveaux membres\, qui se tiendra en personne . \nActivité réseautage conviviale en formule 4 à 6\, réservé aux nouveaux membres. \nUne consommation et des bouchées seront servies pendant la rencontre. \nAu plaisir de faire votre connaissance ! \nSur invitation seulement. \nPour en savoir plus : contactez Marie-Eve Pipon – mepipon@ccirs.qc.ca 
URL:https://ccirs.qc.ca/evenements/4-a-6-nouveaux-membres-octobre-2025/
LOCATION:Hedhofis Quartier DIX30 – 3e étage\, 6000 Boul. de Rome\, Brossard\, Québec\, J4Y 0B6\, Canada
CATEGORIES:Rencontres Membres
ATTACH;FMTTYPE=image/jpeg:https://ccirs.qc.ca/wp-content/uploads/2023/08/Visuel_Nouveaux_membres_1200x628px_230815.jpg
END:VEVENT
BEGIN:VEVENT
DTSTART;TZID=America/Toronto:20251002T180000
DTEND;TZID=America/Toronto:20251002T200000
DTSTAMP:20260422T081841
CREATED:20250912T142409Z
LAST-MODIFIED:20250925T191848Z
UID:13293-1759428000-1759435200@ccirs.qc.ca
SUMMARY:Lancement du livre Comprendre le harcèlement au travail et rencontre avec le ministre du Travail du Québec
DESCRIPTION:Venez assister au lancement du livre Comprendre le harcèlement au travail de Maryse Audet et rencontrer le ministre du Travail du Québec\, monsieur Jean Boulet. \nLa Loi visant à prévenir et à combattre le harcèlement psychologique et la violence à caractère sexuel en milieu de travail suscite bien des questionnements. Le monde du travail est en grande évolution et vit des changements importants. \nCet ouvrage outillera le monde des affaires pour arriver à mieux comprendre l’arrière-scène du harcèlement (les relations toxiques)\, mieux reconnaître les signes du harcèlement et ses effets. Ce mode d’emploi pour les gestionnaires contribuera à la transformation de leur leadership à travers cette nouvelle réalité. \nTarif : 25$ \nInscription\n  \nInvités \n \n  \nMaryse Audet\nConférencière\, formatrice et auteure du livre Comprendre le harcèlement au travail \n  \n  \n  \n  \n  \n  \n  \n \n  \nJean Boulet\nMinistre du Travail\, ministre responsable de la région de la Mauricie \n  \n  \n  \n  \n  \n  \n  \n  \nPartenaires de l’événement \n 
URL:https://ccirs.qc.ca/evenements/lancement-du-livre-comprendre-le-harcelement-au-travail-et-rencontre-avec-le-ministre-du-travail-du-quebec/
LOCATION:Hedhofis Quartier DIX30 – 3e étage\, 6000 Boul. de Rome\, Brossard\, Québec\, J4Y 0B6\, Canada
CATEGORIES:5 à 7
ATTACH;FMTTYPE=image/png:https://ccirs.qc.ca/wp-content/uploads/2025/09/Lancement-livre-Maryse-Audet_1200-x-628-4.png
END:VEVENT
BEGIN:VEVENT
DTSTART;TZID=America/Toronto:20251023T120000
DTEND;TZID=America/Toronto:20251023T140000
DTSTAMP:20260422T081841
CREATED:20250925T133150Z
LAST-MODIFIED:20251020T160451Z
UID:13422-1761220800-1761228000@ccirs.qc.ca
SUMMARY:Grande Rencontre : Stéphane Brochu – ArcelorMittal : L’industrie de l’acier au cœur de notre souveraineté économique
DESCRIPTION:Véritable fleuron de la Rive-Sud\, ArcelorMittal Produits longs Canada façonne bien plus que de l’acier : l’entreprise forge un pan essentiel de notre économie et de notre souveraineté industrielle. À l’occasion de cette Grande Rencontre\, nous accueillerons son président-directeur général\, Stéphane Brochu\, pour une discussion franche et stratégique sur l’avenir d’un secteur méconnu mais vital. \nL’acier demeure le socle invisible de nos infrastructures\, de nos réseaux de transport\, de notre transition énergétique et de notre sécurité nationale. Selon l’Association canadienne des producteurs d’acier (ACPA)\, chaque emploi direct dans cette industrie soutient environ quatre emplois additionnels dans l’économie. ArcelorMittal représente à lui seul près de 45 % de la production nationale\, confirmant son rôle central dans la chaîne d’approvisionnement. \nPourtant\, cette industrie doit composer avec des pressions commerciales persistantes\, des tarifs étrangers lourds et une concurrence mondiale exacerbée. Dans ce contexte\, la question dépasse la simple production : comment le Canada peut-il se doter d’outils stratégiques – qu’il s’agisse d’un stock national d’acier\, de politiques d’achats publics responsables ou d’incitatifs vers l’acier à faible empreinte carbone – pour assurer sa résilience et son autonomie? \nCette rencontre offrira l’occasion d’explorer ces choix collectifs\, alors que l’acier redevient un enjeu central de prospérité et d’indépendance économique. \nVous aimeriez être partenaire de cet événement? Communiquez avec Amine Essoulimani\, Gestionnaire de projets et développement des affaires et Marion Cordier\, Responsable\, Croissance et partenariats stratégiques : developpement@ccirs.qc.ca \nTarifs :\nMembre : 115$\nRégulier : 150$ \nTables (8 personnes) :\nMembre : 920$\nRégulier : 1200$  \nTables VIP (8 personnes) :\nMembre : 1750$ \n\nTable de 8 personnes avec logo de l’entreprise\n2 passes VIP \n\nRégulier : 2000$ \n\nTable de 8 personnes avec logo de l’entreprise\n2 passes VIP \n\nInscription\n  \nPartenaires des Grandes Rencontres de la Rive-Sud \n \n \n \n \n  \n  \n  \n  \nPartenaire réseau
URL:https://ccirs.qc.ca/evenements/grande-rencontre-stephane-brochu-arcelormittal-lindustrie-de-lacier-au-coeur-de-notre-souverainete-economique/
LOCATION:Parcours du Cerf\, 2500\, boulevard Fernand-Lafontaine\, Longueuil\, Québec\, J4N 1M5\, Canada
CATEGORIES:Grande rencontre
ATTACH;FMTTYPE=image/png:https://ccirs.qc.ca/wp-content/uploads/2025/09/Grande-Rencontre_1200-X-628_Martin-Brassard-7.png
END:VEVENT
BEGIN:VEVENT
DTSTART;TZID=America/Toronto:20251023T170000
DTEND;TZID=America/Toronto:20251023T200000
DTSTAMP:20260422T081841
CREATED:20250902T192905Z
LAST-MODIFIED:20251021T180407Z
UID:13330-1761238800-1761249600@ccirs.qc.ca
SUMMARY:COMPLET – Le Rendez-vous Montérégie Affaires
DESCRIPTION:*L’événement affiche maintenant complet.** \n  \nUnir. Connecter. Rayonner.\nUne grande première en Montérégie!\nPour la toute première fois\, Montérégie Affaires et les neuf chambres de commerce de la région s’unissent pour vous présenter l’événement d’affaires à ne pas manquer cet automne. \nCette première édition sera accueillie par la Chambre de commerce et d’industrie de la Rive-Sud\, fière chambre hôte de l’événement\, qui ouvre ses portes afin de rassembler la communauté d’affaires de toute la Montérégie. Ce moment privilégié est l’occasion parfaite pour développer votre réseau\, renforcer vos relations d’affaires et découvrir toute la force et la diversité de la Montérégie. \nCet événement unique a pour objectif de créer des liens durables\, stimuler de nouvelles collaborations et mettre en lumière la richesse de notre belle et grande région comme moteur d’affaires incontournable. Le temps d’une soirée\, retrouvez-vous dans une ambiance chaleureuse aux allures de paradis tropical grâce à Oasis Surf\, où opportunités d’affaires\, synergies\, inspirations et succès vous attendent. \nAu programme : un cadre festif et chaleureux\, réseautage de qualité\, moments d’échange inspirants et cadeaux exclusifs. \nTarifs :\nTous : 75$ (+taxes) \nLe billet inclut un cocktail de bienvenue\, deux consommations et un repas cocktail dînatoire. \nMontérégie Affaires versera les surplus de la soirée à un organisme de la région. \nInscription\n  \n À propos de Montérégie Affaires \nDirigé par Marie-Josée Grenier\, Directrice des ventes affaires chez Tourisme Montérégie\, Montérégie Affaires a pour mission de positionner la région comme une destination incontournable pour le tourisme d’affaires et les événements corporatifs. \nGrâce à un service gratuit d’accompagnement\, l’équipe soutient les entreprises\, associations et organisateurs dans la planification et la réalisation de leurs événements\, en mettant de l’avant la diversité des infrastructures\, la richesse de l’offre régionale et la qualité de l’accueil en Montérégie. \nSon objectif : simplifier vos démarches\, créer des liens avec les bons partenaires et faire rayonner la Montérégie comme moteur d’affaires et d’innovation.
URL:https://ccirs.qc.ca/evenements/le-rendez-vous-monteregie-affaires/
LOCATION:Oasis Surf\, 9520 boulevard Leduc suite 01\, Brossard\, Québec\, J4Y 0B3\, Canada
CATEGORIES:Réseautage
ATTACH;FMTTYPE=image/png:https://ccirs.qc.ca/wp-content/uploads/2025/09/Invitation.png
END:VEVENT
BEGIN:VEVENT
DTSTART;TZID=America/Toronto:20251028T073000
DTEND;TZID=America/Toronto:20251028T090000
DTSTAMP:20260422T081841
CREATED:20251002T160304Z
LAST-MODIFIED:20251002T172829Z
UID:13460-1761636600-1761642000@ccirs.qc.ca
SUMMARY:Matin Express – Marque employeur : 5 stratégies pour attirer et fidéliser les meilleurs talents
DESCRIPTION:La rareté de main-d’œuvre et l’évolution rapide des attentes des employés obligent les PME à repenser leurs façons de faire. Dans ce contexte\, la marque employeur n’est plus seulement une vitrine de recrutement : elle devient un puissant levier stratégique pour attirer\, mobiliser et fidéliser les talents. \nLors de ce Matin Express\, découvrez cinq stratégies concrètes pour transformer votre marque employeur en moteur de croissance et de performance pour votre entreprise. \nL’atelier sera animé par Valérie Martin\, directrice générale et consultante sénior en ressources humaines de Soluflex Rive-Sud\, qui accompagne chaque jour les PME dans l’optimisation de leurs pratiques RH et dans l’obtention de la Certification Employeur Élite. \nPour enrichir la discussion\, elle sera accompagnée par Maude Berger et Sébastien Lazure\, dirigeants d’Outils Pierre Berger\, entreprise certifiée Employeur Élite\, qui viendront partager leur expérience terrain\, les apprentissages tirés de leur démarche et les bénéfices tangibles qu’ils en retirent. \n \n\n\nTarifs : \nMembre : 45$\nRégulier : 60$\nLe billet inclut un déjeuner continental. \nInscription\n  \nDéroulement :  \n7 h 30 : Arrivée des participants et réseautage \n8 h 00 : Début de la conférence \n8 h 45 : Période de questions \n9 h : Fin de l’événement \n  \n  \nConférencière :  \n \n  \nValérie Martin\nDirectrice générale et consultante senior en RH\,\nSoluflex \n  \n  \n  \n  \n  \n  \n  \n  \nPartenaire de série : \n \n  \n 
URL:https://ccirs.qc.ca/evenements/matin-express-marque-employeur-5-strategies-pour-attirer-et-fideliser-les-meilleurs-talents/
LOCATION:Bernard & Brassard\, 2265 Bd Fernand-Lafontaine bureau 300\, Longueuil\, Québec\, J4G 2R8\, Canada
CATEGORIES:Matins express
ATTACH;FMTTYPE=image/png:https://ccirs.qc.ca/wp-content/uploads/2025/10/Matin-Express_1200-x-628_Soluflex.png
END:VEVENT
BEGIN:VEVENT
DTSTART;TZID=America/Toronto:20251029T160000
DTEND;TZID=America/Toronto:20251029T170000
DTSTAMP:20260422T081841
CREATED:20250930T204201Z
LAST-MODIFIED:20251029T165947Z
UID:13433-1761753600-1761757200@ccirs.qc.ca
SUMMARY:Assemblée générale annuelle
DESCRIPTION:Nous avons le plaisir de vous convier à l’Assemblée générale annuelle (AGA) de la Chambre de commerce et d’industrie de la Rive-Sud\, un moment clé pour notre organisation. Votre participation active à cette assemblée est essentielle pour façonner l’avenir de la Chambre et de notre communauté d’affaires. \nEn plus de la présentation du rapport financier de l’année précédente\, cet événement vous donnera l’occasion de rencontrer les membres actuels du conseil d’administration de la Chambre et de prendre part au processus d’élection des nouveaux administrateurs. \nVotre présence et votre engagement à l’AGA sont importants pour assurer la vitalité de notre Chambre. Nous espérons vous y voir nombreux\, prêts à contribuer à la croissance et aux succès de la deuxième région économique en importance au Québec. \nOuverture des portes : 15 h 30 \nHeure AGA : 16 h à 17 h \nOrdre du jour de l’assemblée : Cliquez ici \nDécouvrir les candidatures : Cliquez ici \nÉtats financiers 2024-2025 : à venir  \nProcès-verbal de l’AGA 2024 : Cliquez ici \nPrix : Gratuit (Accessible aux membres en règle** seulement) \n*L’assemblée est ouverte aux membres en règle seulement.\n**Un membre en règle est un membre qui a payé sa cotisation au 25 octobre 2025\nSeuls les délégués associés au compte membre peuvent voter à l’AGA\, le nombre de délégués permis par entreprise est déterminé en fonction de la taille de l’entreprise. Si vous ne retrouvez pas votre nom lors de l’inscription\, écrivez à membres@ccirs.qc.ca \nInscription\n  \nDans une atmosphère décontractée et conviviale\, l’Assemblée générale annuelle sera suivie d’un cocktail réseautage ouvert à tous. Le 29 octobre dès 17 h\, venez rencontrer la communauté d’affaires de la Rive-Sud et profiter de belles opportunités de maillage. Nous en profiterons également pour lancer la 42e édition des Prix Excellence de la Rive-Sud! \nEn savoir plus
URL:https://ccirs.qc.ca/evenements/assemblee-generale-annuelle-6/
LOCATION:Hôtel Alt\, 6500 Boul. de Rome\, Brossard\, Québec\, J4Y 0B6\, Canada
CATEGORIES:Assemblée générale annuelle
ATTACH;FMTTYPE=image/png:https://ccirs.qc.ca/wp-content/uploads/2025/09/AGA_1200-x-628-1.png
END:VEVENT
BEGIN:VEVENT
DTSTART;TZID=America/Toronto:20251029T170000
DTEND;TZID=America/Toronto:20251029T190000
DTSTAMP:20260422T081841
CREATED:20250930T204144Z
LAST-MODIFIED:20251024T152633Z
UID:13437-1761757200-1761764400@ccirs.qc.ca
SUMMARY:Cocktail réseautage et lancement des Prix Excellence 2026
DESCRIPTION:Le 29 octobre prochain\, dans une atmosphère décontractée et conviviale\, venez rencontrer la communauté d’affaires de la Rive-Sud et profiter de belles opportunités de maillage. \nNous profiterons de cette occasion pour lancer la 42e édition des Prix Excellence de la Rive-Sud\, dont les gagnants seront révélés lors du Gala annuel en mai 2026. Une belle occasion de rencontrer nos ambassadeurs/ambassadrices et parrains/marraines de l’Excellence. \nVous envisagez de participer aux Prix Excellence? Ce cocktail constitue une opportunité idéale pour discuter avec d’anciens lauréats et finalistes\, pour poser vos questions et pour en apprendre davantage sur leur expérience et les bénéfices qu’ils en ont tirés. \nCet événement est ouvert à tous\, assurez-vous d’y inviter vos collègues\, partenaires et amis! \nTarifs :  \nMembre : 50$ \nRégulier : 70$ \nDéroulement : \nAccueil : 16 h 30 (dans le lounge de l’hôtel) \nDébut du cocktail : 17 h \n  \nInscription\n  \nLe cocktail réseautage sera précédé de l’Assemblée générale annuelle. Vous êtes membre et souhaitez participer à l’Assemblée? Inscrivez-vous dès maintenant! \nEn savoir plus\n  \nPartenaire présentateur des Prix Excellence : 
URL:https://ccirs.qc.ca/evenements/cocktail-reseautage-et-lancement-des-prix-excellence-2026/
LOCATION:Hôtel Alt\, 6500 Boul. de Rome\, Brossard\, Québec\, J4Y 0B6\, Canada
CATEGORIES:Réseautage
ATTACH;FMTTYPE=image/png:https://ccirs.qc.ca/wp-content/uploads/2025/09/Excellence-2026_1200-x-628_Cocktail-lancement-1.png
END:VEVENT
END:VCALENDAR