BEGIN:VCALENDAR
VERSION:2.0
PRODID:-//CCIRS - ECPv6.15.18//NONSGML v1.0//EN
CALSCALE:GREGORIAN
METHOD:PUBLISH
X-WR-CALNAME:CCIRS
X-ORIGINAL-URL:https://ccirs.qc.ca
X-WR-CALDESC:Évènements pour CCIRS
REFRESH-INTERVAL;VALUE=DURATION:PT1H
X-Robots-Tag:noindex
X-PUBLISHED-TTL:PT1H
BEGIN:VTIMEZONE
TZID:America/Toronto
BEGIN:DAYLIGHT
TZOFFSETFROM:-0500
TZOFFSETTO:-0400
TZNAME:EDT
DTSTART:20240310T070000
END:DAYLIGHT
BEGIN:STANDARD
TZOFFSETFROM:-0400
TZOFFSETTO:-0500
TZNAME:EST
DTSTART:20241103T060000
END:STANDARD
BEGIN:DAYLIGHT
TZOFFSETFROM:-0500
TZOFFSETTO:-0400
TZNAME:EDT
DTSTART:20250309T070000
END:DAYLIGHT
BEGIN:STANDARD
TZOFFSETFROM:-0400
TZOFFSETTO:-0500
TZNAME:EST
DTSTART:20251102T060000
END:STANDARD
BEGIN:DAYLIGHT
TZOFFSETFROM:-0500
TZOFFSETTO:-0400
TZNAME:EDT
DTSTART:20260308T070000
END:DAYLIGHT
BEGIN:STANDARD
TZOFFSETFROM:-0400
TZOFFSETTO:-0500
TZNAME:EST
DTSTART:20261101T060000
END:STANDARD
END:VTIMEZONE
BEGIN:VEVENT
DTSTART;TZID=America/Toronto:20250128T090000
DTEND;TZID=America/Toronto:20250128T100000
DTSTAMP:20260422T163124
CREATED:20241218T190218Z
LAST-MODIFIED:20250109T215350Z
UID:12355-1738054800-1738058400@ccirs.qc.ca
SUMMARY:Propulsez la croissance et la gestion de votre entreprise avec les Services aux entreprises du gouvernement du Québec
DESCRIPTION:En partenariat avec l’équipe des Services aux entreprises du ministère de l’Emploi et de la Solidarité sociale (MESS)\, la Chambre de commerce et d’industrie de la Rive-Sud vous invite à un webinaire gratuit de 60 minutes. Profitez de cette occasion pour échanger avec une conseillère experte en accompagnement d’entreprises et explorer les solutions offertes par l’organisation pour répondre à vos besoins\, notamment en gestion des ressources humaines et en formation. \nUn témoignage inspirant d’une entreprise locale\, ayant bénéficié du soutien de l’équipe des Services aux entreprises du MESS\, viendra enrichir la discussion en démontrant l’impact concret de ces services sur leur développement. \nNe ratez pas cette occasion unique de découvrir les ressources et programmes gouvernementaux qui peuvent transformer vos pratiques d’affaires\, renforcer vos équipes et vous aider à atteindre vos objectifs. \nQue vous soyez en démarrage ou en pleine expansion\, ce webinaire vous offrira des pistes concrètes et adaptées à vos défis professionnels. \nTarif :\nGratuit \nInscription
URL:https://ccirs.qc.ca/evenements/propulsez-la-croissance-et-la-gestion-de-votre-entreprise-avec-les-services-aux-entreprises-du-gouvernement-du-quebec/
LOCATION:Virtuel (lien zoom sera envoyé avant la réunion)
CATEGORIES:Webinaire
ATTACH;FMTTYPE=image/png:https://ccirs.qc.ca/wp-content/uploads/2024/12/Webinaire-Services-Quebec_1200-x-628-V2.png
END:VEVENT
END:VCALENDAR