BEGIN:VCALENDAR
VERSION:2.0
PRODID:-//CCIRS - ECPv6.15.18//NONSGML v1.0//EN
CALSCALE:GREGORIAN
METHOD:PUBLISH
X-WR-CALNAME:CCIRS
X-ORIGINAL-URL:https://ccirs.qc.ca
X-WR-CALDESC:Évènements pour CCIRS
REFRESH-INTERVAL;VALUE=DURATION:PT1H
X-Robots-Tag:noindex
X-PUBLISHED-TTL:PT1H
BEGIN:VTIMEZONE
TZID:America/Toronto
BEGIN:DAYLIGHT
TZOFFSETFROM:-0500
TZOFFSETTO:-0400
TZNAME:EDT
DTSTART:20190310T070000
END:DAYLIGHT
BEGIN:STANDARD
TZOFFSETFROM:-0400
TZOFFSETTO:-0500
TZNAME:EST
DTSTART:20191103T060000
END:STANDARD
BEGIN:DAYLIGHT
TZOFFSETFROM:-0500
TZOFFSETTO:-0400
TZNAME:EDT
DTSTART:20200308T070000
END:DAYLIGHT
BEGIN:STANDARD
TZOFFSETFROM:-0400
TZOFFSETTO:-0500
TZNAME:EST
DTSTART:20201101T060000
END:STANDARD
BEGIN:DAYLIGHT
TZOFFSETFROM:-0500
TZOFFSETTO:-0400
TZNAME:EDT
DTSTART:20210314T070000
END:DAYLIGHT
BEGIN:STANDARD
TZOFFSETFROM:-0400
TZOFFSETTO:-0500
TZNAME:EST
DTSTART:20211107T060000
END:STANDARD
END:VTIMEZONE
BEGIN:VEVENT
DTSTART;TZID=America/Toronto:20201014T080000
DTEND;TZID=America/Toronto:20201014T090000
DTSTAMP:20260425T231233
CREATED:20200922T160450Z
LAST-MODIFIED:20200925T132039Z
UID:4786-1602662400-1602666000@ccirs.qc.ca
SUMMARY:Le retour à l’anormal
DESCRIPTION:Présenté en collaboration avec \n \nPour gérer la relance et l’évolution des affaires \nLes entreprises de toutes tailles font face à de nombreux défis pour relancer leurs affaires et assurer leur avenir. Les décisions à prendre et les éléments à considérer sont nombreux et il peut être difficile d’avoir une vue d’ensemble de la situation et des priorités. Ce webinaire animé par un CPA vous aidera à planifier la suite des choses par un diagnostic de la situation\, une bonne gestion du changement et l’identification des principaux risques et de leurs impacts. Découvrez des pistes et des outils concrets pour planifier la suite des choses et être prêt pour un retour à «l’anormal». \n  \nPrésenté par Richard Morrisseau\, FCPA\, FCMA\nCo-fondateur | Gardien du positionnement stratégique\, Bluemind \nDétenant le titre de Fellow de l’Ordre des CPA\, Richard Morrisseau est associé chez Bluemind\, société qui accompagne des dirigeants passionnés et animés par le désir d’en apprendre plus quant à la gestion stratégique de leur organisation.\nIl a occupé des postes de leadership de direction\, autant dans les grandes entreprises que dans les PME et les OSBL. Il a principalement travaillé pour des organisations telles que Petro-Canada\, AXA et BMO au Canada\, en France et aux États-Unis ainsi que pour le compte de plusieurs PME. Il a aussi été nommé responsable de la promotion de la vision stratégique et des programmes de formation en approvisionnement au niveau mondial au Conseil stratégique international en approvisionnement à Paris. Il y représentait le Canada au sujet de l’élaboration des lignes directrices en matière de «sourcing& procurement» (sourçage et approvisionnement).\nIl est également le seul expert bilingue reconnu en Stratégie Océan Bleu en Amérique sur l’innovation\, la planification stratégique et le changement.\nDiplômé de l’Université McGill et de l’Université de Montréal\, puis ayant suivi et donné un riche éventail de formations en Europe\, aux États-Unis et en Asie\, Richard Morrisseau est formateur et conférencier aguerri depuis plus de 30 ans au niveau international. Ses sujets d’expertise sont la stratégie\, la création d’Océan Bleu\, la gestion de la performance et l’approvisionnement stratégique. Il accompagne aujourd’hui des dirigeants d’entreprise dans la gestion et la réflexion stratégique. \n  \nPrix membre : Gratuit\nPrix non-membre : 15$ \n  \nInscription \n  \nUne présentation de \n \nLes 20 minutes CPA sont une série de conférences animées par des CPA et s’adressant aux dirigeants de PME et aux entrepreneurs. Les thèmes présentés\, sous un format pratique et accessible\, permettent de démystifier des notions importantes liées à la comptabilité et aux finances et démontrent la valeur ajoutée des CPA dans le monde des affaires. \n  \nMerci à notre partenaire de la série Matin Espress! \n \n 
URL:https://ccirs.qc.ca/evenements/le-retour-a-lanormal/
CATEGORIES:Webinaire
ATTACH;FMTTYPE=image/jpeg:https://ccirs.qc.ca/wp-content/uploads/2020/09/Visuel_ME-Le-retour-a-lanormal.jpg
ORGANIZER;CN="CCIRS":MAILTO:info@ccirs.qc.ca
END:VEVENT
END:VCALENDAR