BEGIN:VCALENDAR
VERSION:2.0
PRODID:-//CCIRS - ECPv6.15.18//NONSGML v1.0//EN
CALSCALE:GREGORIAN
METHOD:PUBLISH
X-ORIGINAL-URL:https://ccirs.qc.ca
X-WR-CALDESC:Évènements pour CCIRS
REFRESH-INTERVAL;VALUE=DURATION:PT1H
X-Robots-Tag:noindex
X-PUBLISHED-TTL:PT1H
BEGIN:VTIMEZONE
TZID:America/Toronto
BEGIN:DAYLIGHT
TZOFFSETFROM:-0500
TZOFFSETTO:-0400
TZNAME:EDT
DTSTART:20200308T070000
END:DAYLIGHT
BEGIN:STANDARD
TZOFFSETFROM:-0400
TZOFFSETTO:-0500
TZNAME:EST
DTSTART:20201101T060000
END:STANDARD
BEGIN:DAYLIGHT
TZOFFSETFROM:-0500
TZOFFSETTO:-0400
TZNAME:EDT
DTSTART:20210314T070000
END:DAYLIGHT
BEGIN:STANDARD
TZOFFSETFROM:-0400
TZOFFSETTO:-0500
TZNAME:EST
DTSTART:20211107T060000
END:STANDARD
BEGIN:DAYLIGHT
TZOFFSETFROM:-0500
TZOFFSETTO:-0400
TZNAME:EDT
DTSTART:20220313T070000
END:DAYLIGHT
BEGIN:STANDARD
TZOFFSETFROM:-0400
TZOFFSETTO:-0500
TZNAME:EST
DTSTART:20221106T060000
END:STANDARD
END:VTIMEZONE
BEGIN:VEVENT
DTSTART;TZID=America/Toronto:20211215T120000
DTEND;TZID=America/Toronto:20211215T130000
DTSTAMP:20260424T232807
CREATED:20211125T193548Z
LAST-MODIFIED:20211125T195656Z
UID:7088-1639569600-1639573200@ccirs.qc.ca
SUMMARY:Session d'information - Une relève et un cédant bien appuyés pour une continuité assurée
DESCRIPTION:CÉDANT et RELEVEUR\, savez-vous que les enjeux humains sont la principale cause d’échec d’un transfert d’entreprise? Avec notre programme d’accompagnement\, dressez un plan de transfert personnalisé qui tient compte non seulement du volet financier et légal\, mais SURTOUT de l’aspect humain.\nNous vous offrons un webinaire gratuit avec notre collaborateur Intersources pour vous expliquer comment notre programme\, nos experts et outils créent des conditions gagnantes au transfert. \n  \nConcrètement\, ce programme vous donne accès à : \n\n6 ateliers thématiques en grand groupe ;\n5 rencontres de codéveloppement en sous-groupes ;\nun accompagnement personnalisé ;\ndes outils tangibles comme un plan de transfert personnalisé.\n\n\n\n\n\nVALEUR\n\nLe programme est offert à prix réduit de 4 490 $ (valeur de 20 000 $) grâce à la participation financière du gouvernement du Québec. \n\n\nConsultez la page du projet pour en savoir plus\n  \nINSCRIPTION\nInscription
URL:https://ccirs.qc.ca/evenements/session-dinformation/
LOCATION:Virtuel (lien zoom sera envoyé avant la réunion)
CATEGORIES:Webinaire
ATTACH;FMTTYPE=image/jpeg:https://ccirs.qc.ca/wp-content/uploads/2021/11/Releve-logo-Qc2.jpg
ORGANIZER;CN="CCIRS":MAILTO:info@ccirs.qc.ca
END:VEVENT
END:VCALENDAR