BEGIN:VCALENDAR
VERSION:2.0
PRODID:-//CCIRS - ECPv6.15.18//NONSGML v1.0//EN
CALSCALE:GREGORIAN
METHOD:PUBLISH
X-ORIGINAL-URL:https://ccirs.qc.ca
X-WR-CALDESC:Évènements pour CCIRS
REFRESH-INTERVAL;VALUE=DURATION:PT1H
X-Robots-Tag:noindex
X-PUBLISHED-TTL:PT1H
BEGIN:VTIMEZONE
TZID:America/Toronto
BEGIN:DAYLIGHT
TZOFFSETFROM:-0500
TZOFFSETTO:-0400
TZNAME:EDT
DTSTART:20190310T070000
END:DAYLIGHT
BEGIN:STANDARD
TZOFFSETFROM:-0400
TZOFFSETTO:-0500
TZNAME:EST
DTSTART:20191103T060000
END:STANDARD
BEGIN:DAYLIGHT
TZOFFSETFROM:-0500
TZOFFSETTO:-0400
TZNAME:EDT
DTSTART:20200308T070000
END:DAYLIGHT
BEGIN:STANDARD
TZOFFSETFROM:-0400
TZOFFSETTO:-0500
TZNAME:EST
DTSTART:20201101T060000
END:STANDARD
BEGIN:DAYLIGHT
TZOFFSETFROM:-0500
TZOFFSETTO:-0400
TZNAME:EDT
DTSTART:20210314T070000
END:DAYLIGHT
BEGIN:STANDARD
TZOFFSETFROM:-0400
TZOFFSETTO:-0500
TZNAME:EST
DTSTART:20211107T060000
END:STANDARD
END:VTIMEZONE
BEGIN:VEVENT
DTSTART;TZID=America/Toronto:20200903T120000
DTEND;TZID=America/Toronto:20200903T133000
DTSTAMP:20260425T231157
CREATED:20200817T131455Z
LAST-MODIFIED:20200817T131456Z
UID:4628-1599134400-1599139800@ccirs.qc.ca
SUMMARY:Les rencontres virtuelles 3.60 COREX – Élection présidentielle américaine : un scrutin décisif pour l’avenir des relations canado-américaines ?
DESCRIPTION:À 60 jours des élections américaines\, cet événement virtuel vous permettra d’entendre les perspectives d’intervenants de premier ordre sur la situation politique et commerciale aux États-Unis ainsi que sur l’impact que pourrait avoir chacun des candidats en lice sur les relations politiques\, économiques et commerciales entre le Canada et les États-Unis. \n \nSous forme d’entretien croisé mené par M. John Parisella\, avec la participation de M. Raymond Chrétien et de M. David Jacobson\, cette conversation vous donnera les clefs pour mieux appréhender le scrutin présidentiel américain et ses répercussions potentielles sur votre développement d’affaires aux États-Unis. \n  \n \nRaymond Chrétien\, C.C.\nConseiller stratégique\, Fasken Ancien ambassadeur du Canada aux États-Unis d’Amérique \n  \n \nDavid Jacobson\nVice-président du conseil\nBMO Groupe financier (Chicago)\nAncien ambassadeur des États-Unis au Canada \n  \n  \nPrésentées en collaboration avec le réseau des chambres du Centre-du-Québec\, de Chaudière-Appalaches\, de l’Estrie\, de la Gaspésie–Îles-de-la-Madeleine\, de Lanaudière\, de la Montérégie\, de l’Outaouais\, du Saguenay–Lac-Saint-Jean et Commerce International Québec. \n  \n  \nPrix membre: 0$ \nPrix non-membre: 0$ \n*L’inscription est gratuite\, mais obligatoire pour assister à cette activité. \n  \nS’inscrire\n*Veuillez noter que les échanges se dérouleront principalement en anglais. \n 
URL:https://ccirs.qc.ca/evenements/les-rencontres-virtuelles-3-60-corex-election-presidentielle-americaine-un-scrutin-decisif-pour-lavenir-des-relations-canado-americaines/
CATEGORIES:Webinaire
ATTACH;FMTTYPE=image/jpeg:https://ccirs.qc.ca/wp-content/uploads/2020/05/Image-médias-sociaux-–-Les-rencontres-virtuelles-360COREX-–-14-mai-2020-1-scaled.jpg
END:VEVENT
END:VCALENDAR