BEGIN:VCALENDAR
VERSION:2.0
PRODID:-//CCIRS - ECPv6.15.18//NONSGML v1.0//EN
CALSCALE:GREGORIAN
METHOD:PUBLISH
X-ORIGINAL-URL:https://ccirs.qc.ca
X-WR-CALDESC:Évènements pour CCIRS
REFRESH-INTERVAL;VALUE=DURATION:PT1H
X-Robots-Tag:noindex
X-PUBLISHED-TTL:PT1H
BEGIN:VTIMEZONE
TZID:America/Toronto
BEGIN:DAYLIGHT
TZOFFSETFROM:-0500
TZOFFSETTO:-0400
TZNAME:EDT
DTSTART:20230312T070000
END:DAYLIGHT
BEGIN:STANDARD
TZOFFSETFROM:-0400
TZOFFSETTO:-0500
TZNAME:EST
DTSTART:20231105T060000
END:STANDARD
BEGIN:DAYLIGHT
TZOFFSETFROM:-0500
TZOFFSETTO:-0400
TZNAME:EDT
DTSTART:20240310T070000
END:DAYLIGHT
BEGIN:STANDARD
TZOFFSETFROM:-0400
TZOFFSETTO:-0500
TZNAME:EST
DTSTART:20241103T060000
END:STANDARD
BEGIN:DAYLIGHT
TZOFFSETFROM:-0500
TZOFFSETTO:-0400
TZNAME:EDT
DTSTART:20250309T070000
END:DAYLIGHT
BEGIN:STANDARD
TZOFFSETFROM:-0400
TZOFFSETTO:-0500
TZNAME:EST
DTSTART:20251102T060000
END:STANDARD
END:VTIMEZONE
BEGIN:VEVENT
DTSTART;TZID=America/Toronto:20240618T073000
DTEND;TZID=America/Toronto:20240618T090000
DTSTAMP:20260423T060744
CREATED:20240603T190258Z
LAST-MODIFIED:20240612T211433Z
UID:11423-1718695800-1718701200@ccirs.qc.ca
SUMMARY:Matin Express – Optimisez vos opérations : comment aligner les technologies\, les processus et l’humain pour propulser la croissance
DESCRIPTION:** À l’occasion du dernier Matin Express de la saison 2023-2024\, profitez de notre promotion de fin de saison : deux accès pour le prix d’un! ** \nSuite au repreneuriat de l’entreprise en 2022\, la direction du Groupe Chevalier a choisi de miser sur un virage numérique pour soutenir sa croissance. Confrontée à la conjoncture économique résultant de la pandémie\, l’entreprise basée à Brossard a repensé son modèle d’affaires. Cette réorientation a englobé une refonte complète de son infrastructure informatique ainsi que la mise en œuvre de projets de cybersécurité\, d’automatisation des tâches de bureau et de chantier\, de formation (Lean Six Sigma Construction)\, d’ERP (« Enterprise Resource Planning »)\, d’intégration de l’intelligence artificielle\, et l’instauration d’indicateurs de performance extra-financiers ESG. Le Groupe Chevalier Séguin a également implanté un nouveau modèle de gouvernance visant à mieux protéger les investisseurs\, créanciers et clients de l’entreprise. \nDans le cadre de ce Matin Express\, Alexandre Cayer-Desforges – directeur\, développement et communications et figure clé de la transformation numérique de l’entreprise\, – partagera sa vision\, ses stratégies et ses expériences. Venez découvrir comment les technologies\, les processus\, l’intelligence artificielle et l’implication humaine peuvent révolutionner votre entreprise. Des pistes de solutions pratiques et concrètes vous seront également proposées afin de stimuler la croissance et la productivité de votre organisation. \nTarifs : \nMembre : 45$\nNon membre : 60$ \nInscription\n  \nDéroulement :  \n7 h 30 : Arrivée des participants et réseautage \n8 h 10 : Début de la conférence \n8 h 45 : Période de questions \n9h : Fin de l’événement \nConférencier : \n \n  \nAlexandre Cayer-Desforges\nDirecteur\, développement et communications –\nGroupe Chevalier Séguin \n  \n  \n  \n  \nEngagé dans la communauté des affaires\, Alexandre participe aux discussions sur l’intelligence artificielle appliquée en construction lors d’un panel en compagnie de KPMG à Batimatech\, ainsi que sur l’intégration des travailleurs étrangers lors de son passage à l’émission Zone Économie à Radio-Canada. Il a également récemment signé l’article « Optimiser les pratiques de construction pour des projets immobiliers durables et plus rentables » dans le magazine Immobilier Commercial et a été invité à titre de « membre influent » de la communauté au Sommet des médias de la Rive-Sud par le député de Longueuil-Saint-Hubert\, Denis Trudel. Alexandre œuvre depuis 10 ans au sein de la haute direction d’entreprises en pleine croissance sur la Rive-Sud et a longtemps offert des services de consultation avec un volet technologique. \nÀ propos du Groupe Chevalier Séguin : \nFondé en 2006\, Groupe Chevalier Séguin est un entrepreneur général en construction commerciale\, industrielle et multirésidentielle situé à Brossard. L’entreprise accorde une importance significative aux critères ESG (environnement\, social et gouvernance) et son amélioration continue repose sur la mise en place de pratiques durable en phase avec sa vision de responsabilité sociétale. L’organisation se positionne en tête de liste lorsqu’il s’agit de combler tous besoins en matière de construction de grande envergure. Groupe Chevalier Séguin œuvre avec intégrité et engagement afin de bâtir des communautés prospères et inclusives. \n  \nPartenaire de série :  \n \n 
URL:https://ccirs.qc.ca/evenements/matin-express-optimisez-vos-operations-comment-aligner-les-technologies-les-processus-et-lhumain-pour-propulser-la-croissance/
LOCATION:Hedhofis Quartier DIX30 – 3e étage\, 6000 Boul. de Rome\, Brossard\, Québec\, J4Y 0B6\, Canada
CATEGORIES:Matins express
ATTACH;FMTTYPE=image/png:https://ccirs.qc.ca/wp-content/uploads/2024/06/Matins-Express_1200-x-628_Chevalier-Seguin-1.png
END:VEVENT
END:VCALENDAR