BEGIN:VCALENDAR
VERSION:2.0
PRODID:-//CCIRS - ECPv6.15.18//NONSGML v1.0//EN
CALSCALE:GREGORIAN
METHOD:PUBLISH
X-WR-CALNAME:CCIRS
X-ORIGINAL-URL:https://ccirs.qc.ca
X-WR-CALDESC:Évènements pour CCIRS
REFRESH-INTERVAL;VALUE=DURATION:PT1H
X-Robots-Tag:noindex
X-PUBLISHED-TTL:PT1H
BEGIN:VTIMEZONE
TZID:America/Toronto
BEGIN:DAYLIGHT
TZOFFSETFROM:-0500
TZOFFSETTO:-0400
TZNAME:EDT
DTSTART:20220313T070000
END:DAYLIGHT
BEGIN:STANDARD
TZOFFSETFROM:-0400
TZOFFSETTO:-0500
TZNAME:EST
DTSTART:20221106T060000
END:STANDARD
BEGIN:DAYLIGHT
TZOFFSETFROM:-0500
TZOFFSETTO:-0400
TZNAME:EDT
DTSTART:20230312T070000
END:DAYLIGHT
BEGIN:STANDARD
TZOFFSETFROM:-0400
TZOFFSETTO:-0500
TZNAME:EST
DTSTART:20231105T060000
END:STANDARD
BEGIN:DAYLIGHT
TZOFFSETFROM:-0500
TZOFFSETTO:-0400
TZNAME:EDT
DTSTART:20240310T070000
END:DAYLIGHT
BEGIN:STANDARD
TZOFFSETFROM:-0400
TZOFFSETTO:-0500
TZNAME:EST
DTSTART:20241103T060000
END:STANDARD
END:VTIMEZONE
BEGIN:VEVENT
DTSTART;TZID=America/Toronto:20231213T080000
DTEND;TZID=America/Toronto:20231213T090000
DTSTAMP:20260423T144445
CREATED:20231110T205643Z
LAST-MODIFIED:20231205T185102Z
UID:10334-1702454400-1702458000@ccirs.qc.ca
SUMMARY:Matin Express – Transformation numérique\, ChatGPT et IA générative : une opportunité concrète pour les entrepreneurs\, présenté par Talsom
DESCRIPTION:La transformation numérique continue d’être un sujet d’actualité pour améliorer la performance et la compétitivité de nos entreprises. \nLa montée de l’intelligence artificielle générative (IA générative) influence la planification de plusieurs organisations et soulève autant de questions que d’inquiétudes parmi les dirigeants.es. \nVenez discuter avec nous de transformation numérique et d’intelligence artificielle en compagnie de Matthieu Delorme\, Chef des Technologies chez Canam\, un leader mondial dans la conception et la fabrication de produits métalliques\, et d’Olivier Laquinte\, président de Talsom\, une firme de conseil en transformation numérique\, qui porteront un regard croisé sur les défis des transformations à partir d’exemples concrets. \nQue ce soit pour améliorer votre efficacité opérationnelle\, stimuler la créativité au sein de votre équipe\, et ouvrir de nouvelles voies pour la croissance de votre entreprise\, nous explorerons ensemble à travers des études de cas\, des conseils pratiques\, et des perspectives diverses\, les opportunités que l’IA générative offre à votre organisation. \nTarifs : \nMembre : 65$\nNon membre : 80$ \nInscription\n  \nÀ propos des conférenciers  \n \n  \nOlivier Laquinte\nPrésident\, Talsom \n  \n  \n  \n  \n  \n \n  \nMatthieu Delorme\nVP Senior – Transformation numérique\, Groupe Canam inc. \n  \n  \n  \n  \n  \nPartenaire de série :  \n \n 
URL:https://ccirs.qc.ca/evenements/matin-express-transformation-numerique-chatgpt-et-ia-generative-une-opportunite-concrete-pour-les-entrepreneurs-presente-par-talsom/
LOCATION:Hedhofis Quartier DIX30 – 3e étage\, 6000 Boul. de Rome\, Brossard\, Québec\, J4Y 0B6\, Canada
CATEGORIES:Matins express
ATTACH;FMTTYPE=image/png:https://ccirs.qc.ca/wp-content/uploads/2023/11/Matins-Express_1200-x-628_Talsom-2.png
END:VEVENT
END:VCALENDAR