BEGIN:VCALENDAR
VERSION:2.0
PRODID:-//CCIRS - ECPv6.15.18//NONSGML v1.0//EN
CALSCALE:GREGORIAN
METHOD:PUBLISH
X-WR-CALNAME:CCIRS
X-ORIGINAL-URL:https://ccirs.qc.ca
X-WR-CALDESC:Évènements pour CCIRS
REFRESH-INTERVAL;VALUE=DURATION:PT1H
X-Robots-Tag:noindex
X-PUBLISHED-TTL:PT1H
BEGIN:VTIMEZONE
TZID:America/Toronto
BEGIN:DAYLIGHT
TZOFFSETFROM:-0500
TZOFFSETTO:-0400
TZNAME:EDT
DTSTART:20220313T070000
END:DAYLIGHT
BEGIN:STANDARD
TZOFFSETFROM:-0400
TZOFFSETTO:-0500
TZNAME:EST
DTSTART:20221106T060000
END:STANDARD
BEGIN:DAYLIGHT
TZOFFSETFROM:-0500
TZOFFSETTO:-0400
TZNAME:EDT
DTSTART:20230312T070000
END:DAYLIGHT
BEGIN:STANDARD
TZOFFSETFROM:-0400
TZOFFSETTO:-0500
TZNAME:EST
DTSTART:20231105T060000
END:STANDARD
BEGIN:DAYLIGHT
TZOFFSETFROM:-0500
TZOFFSETTO:-0400
TZNAME:EDT
DTSTART:20240310T070000
END:DAYLIGHT
BEGIN:STANDARD
TZOFFSETFROM:-0400
TZOFFSETTO:-0500
TZNAME:EST
DTSTART:20241103T060000
END:STANDARD
END:VTIMEZONE
BEGIN:VEVENT
DTSTART;TZID=America/Toronto:20230425T080000
DTEND;TZID=America/Toronto:20230425T090000
DTSTAMP:20260424T020250
CREATED:20230331T145052Z
LAST-MODIFIED:20230417T142925Z
UID:9421-1682409600-1682413200@ccirs.qc.ca
SUMMARY:Matin Express – Cybersécurité
DESCRIPTION:Cybersécurité et protection des données personnelles en entreprise (Loi 25)\nprésenté par \n \nLa cybersécurité\, les nouvelles responsabilités et les obligations des entreprises en matière de protection des renseignements personnels font de plus en plus les manchettes.\nLors de cet événement\, vous serez davantage informés sur les pistes d’actions et les bonnes pratiques à mettre en vigueur au sein de votre entreprise\, dès maintenant\, selon la loi 25 en vigueur depuis le 22 septembre 2022. \nPrix incluant déjeuner et conférence :  \n\nMembres : 55$\nNon-membres : 70$\n\n  \nInscription \nLes conférenciers :\n \n  \n  \n  \n  \n  \nIsabelle Ledoux\nConseillère d’affaires principale \nIsabelle Ledoux a près de 25 années d’expérience dans le domaine de la qualité\, des certifications et de l’efficacité opérationnelle. Elle a occupé différents postes de gestionnaire et d’auditeur dans les domaines manufacturiers et de service. Gestionnaire de projets à la BDC depuis plus de 10 ans\, elle s’est investie dans les trois dernières en sécurité de l’information et cybersécurité. \n \n  \n  \n  \n  \n  \nBenoît Tremblay\nSpécialiste en cybersécurité \nBenoît Tremblay a de l’expérience dans la gestion de crise et la gestion du changement humain. Son expertise permet la planification\, la mise en œuvre et le déploiement réussis de certification en intégrant les aspects humains\, processus et technologies dans une approche structurée. Il connaît toutes les réglementations et lois liées à la confidentialité\, à la cybersécurité et à la protection des informations personnelles. \n  \nLes Matins Express sont propulsés par : \n \n&
URL:https://ccirs.qc.ca/evenements/matin-express-bdc/
LOCATION:Country Club de Montréal\, 5 Rue Riverside\, Saint-Lambert\, Québec\, J4S 1B7\, Canada
CATEGORIES:Matins express
ATTACH;FMTTYPE=image/jpeg:https://ccirs.qc.ca/wp-content/uploads/2023/03/25AVRIL_230330.jpg
END:VEVENT
END:VCALENDAR