BEGIN:VCALENDAR
VERSION:2.0
PRODID:-//CCIRS - ECPv6.15.18//NONSGML v1.0//EN
CALSCALE:GREGORIAN
METHOD:PUBLISH
X-WR-CALNAME:CCIRS
X-ORIGINAL-URL:https://ccirs.qc.ca
X-WR-CALDESC:Évènements pour CCIRS
REFRESH-INTERVAL;VALUE=DURATION:PT1H
X-Robots-Tag:noindex
X-PUBLISHED-TTL:PT1H
BEGIN:VTIMEZONE
TZID:America/Toronto
BEGIN:DAYLIGHT
TZOFFSETFROM:-0500
TZOFFSETTO:-0400
TZNAME:EDT
DTSTART:20220313T070000
END:DAYLIGHT
BEGIN:STANDARD
TZOFFSETFROM:-0400
TZOFFSETTO:-0500
TZNAME:EST
DTSTART:20221106T060000
END:STANDARD
BEGIN:DAYLIGHT
TZOFFSETFROM:-0500
TZOFFSETTO:-0400
TZNAME:EDT
DTSTART:20230312T070000
END:DAYLIGHT
BEGIN:STANDARD
TZOFFSETFROM:-0400
TZOFFSETTO:-0500
TZNAME:EST
DTSTART:20231105T060000
END:STANDARD
BEGIN:DAYLIGHT
TZOFFSETFROM:-0500
TZOFFSETTO:-0400
TZNAME:EDT
DTSTART:20240310T070000
END:DAYLIGHT
BEGIN:STANDARD
TZOFFSETFROM:-0400
TZOFFSETTO:-0500
TZNAME:EST
DTSTART:20241103T060000
END:STANDARD
END:VTIMEZONE
BEGIN:VEVENT
DTSTART;TZID=America/Toronto:20230223T080000
DTEND;TZID=America/Toronto:20230223T090000
DTSTAMP:20260424T045802
CREATED:20221122T151012Z
LAST-MODIFIED:20230220T165907Z
UID:8641-1677139200-1677142800@ccirs.qc.ca
SUMMARY:Matin Express – Banque Nationale
DESCRIPTION:En collaboration avec la  \n \nDans le cadre des Matins Express\, la CCIRS a l’honneur de recevoir Madame Geneviève Turbide-Potvin\, Première vice-présidente\, qui viendra démystifier le contexte actuel de l’économie et son impact sur l’entreprenariat\, le temps d’un déjeuner. \nD’autres sujets seront abordés pendant la conférence : \n\nLe comparatif du patrimoine familial au Québec par rapport au reste du monde\nComment s’entourer pour faire face à une période de turbulence économique\nL’importance de faire travailler son équité d’entreprise au profit de son patrimoine\n\nTarifications : \n\nMembre : 55$\nNon-membre : 70$\n\nInscriptions\nMadame Geneviève Turbide-Potvin\nPremière vice-présidente\, Entreprises & Gestion privée 1859\, Québec & Est de l’Ontario \nDétenant près de 20 années d’expérience dans le secteur financier et plus spécifiquement dans les secteurs Entreprises et Marchés des capitaux\, Geneviève est dédiée depuis le début de sa carrière à l’accompagnement personnalisé et holistique d’entrepreneur.e.s\, de la  »startup » à la mise en bourse. \nÀ la Banque Nationale\, elle a occupé des postes successifs de vice-présidence au sein de la ligne d’affaires Entreprises qui l’ont amenée à chapeauter\, entre autres choses\, l’ensemble des initiatives et de la transformation ayant trait aux solutions transactionnelles et de financement. \nEn se joignant à l’équipe de Gestion privée 1859\, Geneviève souhaite continuer de concrétiser et de faire évoluer le patrimoine de même que les rêves des entrepreneur.e.s du Québec et de leurs familles en créant des expériences distinctives\, à valeur ajoutée. \nUne leader dynamique et passionnée\, Geneviève excelle dans l’orchestration d’équipes dévouées et engagées : elle sait tirer profit des expertises variées et les faire briller au bénéfice des clientes et des clients\, qu’elle met au cœur de ses actions et de ses réflexions. \nLes Matins Express sont propulsés par :
URL:https://ccirs.qc.ca/evenements/matin-express-banque-nationale/
LOCATION:Parcours du Cerf\, 2500\, boulevard Fernand-Lafontaine\, Longueuil\, Québec\, J4N 1M5\, Canada
CATEGORIES:Matins express
ATTACH;FMTTYPE=image/jpeg:https://ccirs.qc.ca/wp-content/uploads/2022/11/ME_23FEV_221121-2.jpg
END:VEVENT
END:VCALENDAR