BEGIN:VCALENDAR
VERSION:2.0
PRODID:-//CCIRS - ECPv6.15.18//NONSGML v1.0//EN
CALSCALE:GREGORIAN
METHOD:PUBLISH
X-ORIGINAL-URL:https://ccirs.qc.ca
X-WR-CALDESC:Évènements pour CCIRS
REFRESH-INTERVAL;VALUE=DURATION:PT1H
X-Robots-Tag:noindex
X-PUBLISHED-TTL:PT1H
BEGIN:VTIMEZONE
TZID:America/Toronto
BEGIN:DAYLIGHT
TZOFFSETFROM:-0500
TZOFFSETTO:-0400
TZNAME:EDT
DTSTART:20210314T070000
END:DAYLIGHT
BEGIN:STANDARD
TZOFFSETFROM:-0400
TZOFFSETTO:-0500
TZNAME:EST
DTSTART:20211107T060000
END:STANDARD
BEGIN:DAYLIGHT
TZOFFSETFROM:-0500
TZOFFSETTO:-0400
TZNAME:EDT
DTSTART:20220313T070000
END:DAYLIGHT
BEGIN:STANDARD
TZOFFSETFROM:-0400
TZOFFSETTO:-0500
TZNAME:EST
DTSTART:20221106T060000
END:STANDARD
BEGIN:DAYLIGHT
TZOFFSETFROM:-0500
TZOFFSETTO:-0400
TZNAME:EDT
DTSTART:20230312T070000
END:DAYLIGHT
BEGIN:STANDARD
TZOFFSETFROM:-0400
TZOFFSETTO:-0500
TZNAME:EST
DTSTART:20231105T060000
END:STANDARD
END:VTIMEZONE
BEGIN:VEVENT
DTSTART;TZID=America/Toronto:20221108T080000
DTEND;TZID=America/Toronto:20221108T090000
DTSTAMP:20260424T094042
CREATED:20220927T201426Z
LAST-MODIFIED:20220928T181717Z
UID:8364-1667894400-1667898000@ccirs.qc.ca
SUMMARY:Matin Express – Le réseau RTL\, revu et redessiné.
DESCRIPTION:Grâce à la présentation de monsieur Michel Veilleux\, directeur général du Réseau de transport de Longueuil\, découvrez  comment évolue le réseau en répondant aux nouvelles réalités de la mobilité\, et tenant compte de l’arrivée du  REM. \nLors de cette rencontre\, vous verrez les services du RTL mais aussi l’importance d’une offre en transport en commun arrimée aux besoins des entreprises\, des travailleurs et des citoyens\, comme levier économique pour la Rive-Sud et pour le grand Montréal\, et comme vecteur d’intervention pour  contrer les changements climatiques. \nMerci à  \nInscription\nLes Matins Express sont présentés par :
URL:https://ccirs.qc.ca/evenements/matin-express-le-reseau-rtl-revu-et-redessine/
LOCATION:Club de golf Country Club de Montréal\, 5 Promenade Riverside\, Saint-Lambert\, J4S1B7
CATEGORIES:Matins express
ATTACH;FMTTYPE=image/jpeg:https://ccirs.qc.ca/wp-content/uploads/2022/09/ME_8NOV_220923.jpg
END:VEVENT
END:VCALENDAR