BEGIN:VCALENDAR
VERSION:2.0
PRODID:-//CCIRS - ECPv6.15.18//NONSGML v1.0//EN
CALSCALE:GREGORIAN
METHOD:PUBLISH
X-WR-CALNAME:CCIRS
X-ORIGINAL-URL:https://ccirs.qc.ca
X-WR-CALDESC:Évènements pour CCIRS
REFRESH-INTERVAL;VALUE=DURATION:PT1H
X-Robots-Tag:noindex
X-PUBLISHED-TTL:PT1H
BEGIN:VTIMEZONE
TZID:America/Toronto
BEGIN:DAYLIGHT
TZOFFSETFROM:-0500
TZOFFSETTO:-0400
TZNAME:EDT
DTSTART:20230312T070000
END:DAYLIGHT
BEGIN:STANDARD
TZOFFSETFROM:-0400
TZOFFSETTO:-0500
TZNAME:EST
DTSTART:20231105T060000
END:STANDARD
BEGIN:DAYLIGHT
TZOFFSETFROM:-0500
TZOFFSETTO:-0400
TZNAME:EDT
DTSTART:20240310T070000
END:DAYLIGHT
BEGIN:STANDARD
TZOFFSETFROM:-0400
TZOFFSETTO:-0500
TZNAME:EST
DTSTART:20241103T060000
END:STANDARD
BEGIN:DAYLIGHT
TZOFFSETFROM:-0500
TZOFFSETTO:-0400
TZNAME:EDT
DTSTART:20250309T070000
END:DAYLIGHT
BEGIN:STANDARD
TZOFFSETFROM:-0400
TZOFFSETTO:-0500
TZNAME:EST
DTSTART:20251102T060000
END:STANDARD
END:VTIMEZONE
BEGIN:VEVENT
DTSTART;TZID=America/Toronto:20240423T073000
DTEND;TZID=America/Toronto:20240423T090000
DTSTAMP:20260423T073959
CREATED:20240319T151333Z
LAST-MODIFIED:20240416T154849Z
UID:10901-1713857400-1713862800@ccirs.qc.ca
SUMMARY:Matin Express – Stratégies ESG : Comment rendre votre entreprise plus résiliente dans un monde en transformation?
DESCRIPTION:À l’occasion de ce Matin Express\, nous explorerons les défis et les opportunités en termes de développement durable auxquels les entreprises sont confrontées dans un monde en pleine mutation. \nL’urgence d’agir ne fait que s’amplifier alors que 6 des 9 limites planétaires ont été dépassées et que nous venons de vivre l’année la plus chaude jamais enregistrée dans le monde. Les pressions des donneurs d’ordres\, des investisseurs et des employés envers les entreprises se multiplient afin d’intégrer la durabilité dans leur stratégie d’affaires\, que ce soit dans leurs produits\, services\, chaîne de valeurs\, etc. \nPourtant\, le constat reste mitigé en termes d’adoption de pratiques écoresponsables : une entreprise sur deux (CCMM\, 2022) n’a pas de politique en développement durable et l’indice moyen de transition climatique est seulement de 32\,4 sur 100 (Québec Net Positif\, 2023). Ce constat s’explique en partie par un manque de financement et de capacité à maîtriser l’expertise\, ainsi qu’à la complexité face au sujet ESG. \nCette conférence vise à vous partager les apprentissages clés tirés de plus de 250 projets ESG menés par COESIO\, une firme spécialisée en stratégie et gestion du développement durable (ESG)\, auprès de 140 clients\, afin de guider vos réflexions sur le sujet. Vous aurez également l’occasion de plonger dans le cas du leader nord-américain de la litière pour chat : Intersand. \nMarius André – directeur relations d’affaires et associés chez COESIO – et Kim Beauregard – Directrice innovation durable chez Intersand – se feront un plaisir de partager des études de cas inspirantes\, des conseils pratiques et des perspectives stratégiques pour guider votre entreprise vers un avenir plus durable et résilient. \nRejoignez-nous pour une discussion stimulante sur la voie à suivre pour transformer votre entreprise et la préparer aux défis majeurs des prochaines décennies. \nTarifs : \nMembre : 45$\nNon membre : 60$ \nInscription\n  \nDéroulement :  \n7 h 30 : Arrivée des participants et réseautage \n8 h 10 : Début de la conférence \n8 h 45 : Période de questions \n9h : Fin de l’événement \nConférenciers : \n \n  \nMarius André\nDirecteur relations d’affaires et associé\,\nCOESIO \nMarius André est directeur relations d’affaires et associé chez COESIO. C’est avec un enthousiasme contagieux que Marius allie ses connaissances des systèmes de gestion complexes à sa grande capacité d’analyse\, afin de faciliter la transformation des modèles d’affaires et l’intégration de pratiques de gestion écoresponsables. Ses clients apprécient grandement son côté pragmatique\, sa grande flexibilité et sa capacité à mobiliser. À la fine pointe de l’innovation en matière de pratiques écoresponsables\, Marius s’emploie à créer des projets engageants et transformationnels avec ses clients et le réseau d’affaires de COESIO. \n  \n  \n \n  \nKim Beauregard\, M.Sc.\nChimiste\, Directrice innovation durable\nIntersand \nKim a obtenu sa double maîtrise en chimie médicinale et immunopharmacologie à Montréal en 2012. Moins de 10 ans plus tard\, Kim a reçu le diagnostic d’une maladie incurable immunitaire qu’elle avait étudié pendant sa maîtrise\, pour laquelle elle s’implique maintenant pour sensibiliser le public et trouver des solutions aux effets destructeurs de celle-ci. \nMaman de deux enfants humains et deux enfants félins\, Kim œuvre comme leader de l’innovation durable chez Intersand\, en créant des soins astucieux d’hygiène et de santé animale viables\, durables et désirables à partir de résidus locaux. Elle souhaite ainsi transformer les déchets des uns en soins en or pour les chats! \n  \n  \nPartenaire de série :  \n \n 
URL:https://ccirs.qc.ca/evenements/matin-express-strategies-esg-comment-rendre-votre-entreprise-plus-resiliente-dans-un-monde-en-transformation/
LOCATION:Hedhofis Quartier DIX30 – 3e étage\, 6000 Boul. de Rome\, Brossard\, Québec\, J4Y 0B6\, Canada
CATEGORIES:Matins express
ATTACH;FMTTYPE=image/png:https://ccirs.qc.ca/wp-content/uploads/2024/03/Matins-Express_1200-x-628_COESIO-1.png
END:VEVENT
END:VCALENDAR