BEGIN:VCALENDAR
VERSION:2.0
PRODID:-//CCIRS - ECPv6.15.18//NONSGML v1.0//EN
CALSCALE:GREGORIAN
METHOD:PUBLISH
X-WR-CALNAME:CCIRS
X-ORIGINAL-URL:https://ccirs.qc.ca
X-WR-CALDESC:Évènements pour CCIRS
REFRESH-INTERVAL;VALUE=DURATION:PT1H
X-Robots-Tag:noindex
X-PUBLISHED-TTL:PT1H
BEGIN:VTIMEZONE
TZID:America/Toronto
BEGIN:DAYLIGHT
TZOFFSETFROM:-0500
TZOFFSETTO:-0400
TZNAME:EDT
DTSTART:20220313T070000
END:DAYLIGHT
BEGIN:STANDARD
TZOFFSETFROM:-0400
TZOFFSETTO:-0500
TZNAME:EST
DTSTART:20221106T060000
END:STANDARD
BEGIN:DAYLIGHT
TZOFFSETFROM:-0500
TZOFFSETTO:-0400
TZNAME:EDT
DTSTART:20230312T070000
END:DAYLIGHT
BEGIN:STANDARD
TZOFFSETFROM:-0400
TZOFFSETTO:-0500
TZNAME:EST
DTSTART:20231105T060000
END:STANDARD
BEGIN:DAYLIGHT
TZOFFSETFROM:-0500
TZOFFSETTO:-0400
TZNAME:EDT
DTSTART:20240310T070000
END:DAYLIGHT
BEGIN:STANDARD
TZOFFSETFROM:-0400
TZOFFSETTO:-0500
TZNAME:EST
DTSTART:20241103T060000
END:STANDARD
END:VTIMEZONE
BEGIN:VEVENT
DTSTART;TZID=America/Toronto:20231018T080000
DTEND;TZID=America/Toronto:20231018T090000
DTSTAMP:20260423T160842
CREATED:20230914T153730Z
LAST-MODIFIED:20230918T140945Z
UID:8779-1697616000-1697619600@ccirs.qc.ca
SUMMARY:Matin-Express : Votre réussite passe par votre image de marque\, présenté par Gravité
DESCRIPTION:Cette conférence fait ressortir l’importance d’une image de marque forte et ses impacts sur ses objectifs. Vous pourrez découvrir les aspects qui permettent de consolider cette image pour: \n\nSa croissance\nSa notoriété d’entreprise\nSon recrutement\nSa marque employeur.\n\nApprenez comment définir des indicateurs de performance (KPI) d’une image de marque qui ressort\, à développer une connexion émotive à la marque et susciter la satisfaction et recréer le désir! \nPrix incluant déjeuner et conférence :  \n\nMembres : 60$\nNon-membres : 75$\n\nInscription\nLes conférenciers : \nStephane Patry\, Directeur artistique et directeur de création \nDesigner graphique en agence depuis 30 ans\, Stéphane a un parcours bien rempli\, ayant travaillé dans de sympathiques petites agences ainsi que dans les plus grandes au pays : Cossette\, LG2\, Everest\, Brown\, pour n’en nommer que quelques-unes. Spécialiste de l’image de marque\, il a eu la chance de travailler sur des projets locaux\, régionaux\, nationaux et internationaux. Récipiendaire de plusieurs prix en design\, SIAL\, Grand Prix Gaïa\, Greniers d’or… \nSa force\, allier stratégie à la créativité\, ce qui permet de générer des résultats\, atteindre des objectifs et avoir un visuel plaisant qui perforrme auprès de la bonne cible. \n  \n  \nSandy Roy\, Directrice développement des affaires \n \nDepuis plus de 25 ans\, Sandy accompagne les PME dans l’atteinte de leur objectif marketing. \nAyant occupé différents postes de gestion au sein de l’entreprise\, elle possède une grande connaissance des défis et enjeux que vivent les entrepreneurs. \nProactive et toujours en mode solution\, elle excelle dans le développement de relations d’affaires à long terme. \n  \n 
URL:https://ccirs.qc.ca/evenements/matin-express-votre-reussite-passe-par-votre-image-de-marque-gravite/
LOCATION:Hôtel Imperia & Suites Boucherville\, 1550\, boulevard de Montarville\, Boucherville\, Québec\, J4B 5Y3\, Canada
CATEGORIES:Matins express
ATTACH;FMTTYPE=image/jpeg:https://ccirs.qc.ca/wp-content/uploads/2023/01/18OCT_230913.jpg
END:VEVENT
END:VCALENDAR