BEGIN:VCALENDAR
VERSION:2.0
PRODID:-//CCIRS - ECPv6.15.18//NONSGML v1.0//EN
CALSCALE:GREGORIAN
METHOD:PUBLISH
X-ORIGINAL-URL:https://ccirs.qc.ca
X-WR-CALDESC:Évènements pour CCIRS
REFRESH-INTERVAL;VALUE=DURATION:PT1H
X-Robots-Tag:noindex
X-PUBLISHED-TTL:PT1H
BEGIN:VTIMEZONE
TZID:America/Toronto
BEGIN:DAYLIGHT
TZOFFSETFROM:-0500
TZOFFSETTO:-0400
TZNAME:EDT
DTSTART:20220313T070000
END:DAYLIGHT
BEGIN:STANDARD
TZOFFSETFROM:-0400
TZOFFSETTO:-0500
TZNAME:EST
DTSTART:20221106T060000
END:STANDARD
BEGIN:DAYLIGHT
TZOFFSETFROM:-0500
TZOFFSETTO:-0400
TZNAME:EDT
DTSTART:20230312T070000
END:DAYLIGHT
BEGIN:STANDARD
TZOFFSETFROM:-0400
TZOFFSETTO:-0500
TZNAME:EST
DTSTART:20231105T060000
END:STANDARD
BEGIN:DAYLIGHT
TZOFFSETFROM:-0500
TZOFFSETTO:-0400
TZNAME:EDT
DTSTART:20240310T070000
END:DAYLIGHT
BEGIN:STANDARD
TZOFFSETFROM:-0400
TZOFFSETTO:-0500
TZNAME:EST
DTSTART:20241103T060000
END:STANDARD
END:VTIMEZONE
BEGIN:VEVENT
DTSTART;TZID=America/Toronto:20230926T080000
DTEND;TZID=America/Toronto:20230926T090000
DTSTAMP:20260423T173621
CREATED:20230906T191518Z
LAST-MODIFIED:20230914T133842Z
UID:9832-1695715200-1695718800@ccirs.qc.ca
SUMMARY:Matin-Express : Les défis et les perspectives des PME du Québec et de la Rive-Sud
DESCRIPTION:Ce Matin-Express vous permettra de découvrir les résultats d’un sondage portant sur les défis et les opportunités rencontrés par les PME du Québec et\, plus particulièrement\, de la Rive-Sud. M. François Vincent – Vice-Président\, Québec à la Fédération canadienne de l’entreprise indépendante – présentera des données nationales et régionales sur les PME\, notamment en ce qui concerne la pénurie de main-d’œuvre\, la fiscalité\, l’immigration et l’automatisation.Cet événement vous permettra également d’échanger avec les participants sur les défis et les opportunités du milieu des affaires. \nPrix incluant déjeuner et conférence :  \n\nMembres : 60$\nNon-membres : 75$\n\n  \nInscription \nLe conférencier :\n \n  \n  \n  \n  \n  \n  \nFrançois Vincent\nVice-président\, Québec \nFrançois Vincent dirige la FCEI du Québec\, la plus importante association de défense des droits et intérêts des petites et moyennes entreprises (PME) au pays. Il est un acteur clé auprès de nombreuses instances gouvernementales\, et copréside notamment le Comité-conseil sur l’allègement réglementaire et administratif du gouvernement du Québec. Très présent sur la scène médiatique\, il travaille sans relâche pour s’assurer que la réalité des PME est prise en considération par les décideurs politiques\, tant sur le plan municipal et provincial que fédéral.
URL:https://ccirs.qc.ca/evenements/matin-express-point-de-mire-sur-les-pme-parlons-affaires/
LOCATION:Courtyard Brossard\, 3300\, rue de l'Éclipse\, Brossard\, Québec\, J4Z 0P5\, Canada
CATEGORIES:Matins express
ATTACH;FMTTYPE=image/jpeg:https://ccirs.qc.ca/wp-content/uploads/2023/09/26SEPT_230913.jpg
END:VEVENT
END:VCALENDAR