BEGIN:VCALENDAR
VERSION:2.0
PRODID:-//CCIRS - ECPv6.15.18//NONSGML v1.0//EN
CALSCALE:GREGORIAN
METHOD:PUBLISH
X-WR-CALNAME:CCIRS
X-ORIGINAL-URL:https://ccirs.qc.ca
X-WR-CALDESC:Évènements pour CCIRS
REFRESH-INTERVAL;VALUE=DURATION:PT1H
X-Robots-Tag:noindex
X-PUBLISHED-TTL:PT1H
BEGIN:VTIMEZONE
TZID:America/Toronto
BEGIN:DAYLIGHT
TZOFFSETFROM:-0500
TZOFFSETTO:-0400
TZNAME:EDT
DTSTART:20210314T070000
END:DAYLIGHT
BEGIN:STANDARD
TZOFFSETFROM:-0400
TZOFFSETTO:-0500
TZNAME:EST
DTSTART:20211107T060000
END:STANDARD
BEGIN:DAYLIGHT
TZOFFSETFROM:-0500
TZOFFSETTO:-0400
TZNAME:EDT
DTSTART:20220313T070000
END:DAYLIGHT
BEGIN:STANDARD
TZOFFSETFROM:-0400
TZOFFSETTO:-0500
TZNAME:EST
DTSTART:20221106T060000
END:STANDARD
BEGIN:DAYLIGHT
TZOFFSETFROM:-0500
TZOFFSETTO:-0400
TZNAME:EDT
DTSTART:20230312T070000
END:DAYLIGHT
BEGIN:STANDARD
TZOFFSETFROM:-0400
TZOFFSETTO:-0500
TZNAME:EST
DTSTART:20231105T060000
END:STANDARD
END:VTIMEZONE
BEGIN:VEVENT
DTSTART;TZID=America/Toronto:20220407T073000
DTEND;TZID=America/Toronto:20220407T090000
DTSTAMP:20260424T183849
CREATED:20220126T200032Z
LAST-MODIFIED:20220303T145229Z
UID:7482-1649316600-1649322000@ccirs.qc.ca
SUMMARY:Quand les chiffres nous parlent\, on dort mieux!
DESCRIPTION:En collaboration avec :\n \nFlux de trésorerie\, tableau de bord\, indicateurs de performance\, seuil de rentabilité\, point mort… des termes qui semblent significatifs pour les banquiers\, financiers et comptables\, mais peu évidents pour les entrepreneurs! \nPourtant\, ces outils procurent une source d’information incroyable et facilitent bon nombre de décisions que vous devez prendre au quotidien pour le développement de votre entreprise. Présentée de façon simple\, cette conférence montre comment vous pouvez parvenir à une saine gestion grâce à une bonne utilisation des différentes données.  \nVous n’aimerez peut-être pas plus les chiffres\, mais votre sommeil\, oui!   \n  \n \nMerci à notre partenaire de la série Matin Express : \n 
URL:https://ccirs.qc.ca/evenements/quand-les-chiffres-nous-parlent-on-dort-mieux/
LOCATION:Parcours du Cerf\, 2500\, boulevard Fernand-Lafontaine\, Longueuil\, Québec\, J4N 1M5\, Canada
CATEGORIES:Matins express
ATTACH;FMTTYPE=image/jpeg:https://ccirs.qc.ca/wp-content/uploads/2022/01/7AVRIL_1200x628_2201282.jpg
ORGANIZER;CN="CCIRS":MAILTO:info@ccirs.qc.ca
END:VEVENT
END:VCALENDAR