BEGIN:VCALENDAR
VERSION:2.0
PRODID:-//CCIRS - ECPv6.15.18//NONSGML v1.0//EN
CALSCALE:GREGORIAN
METHOD:PUBLISH
X-ORIGINAL-URL:https://ccirs.qc.ca
X-WR-CALDESC:Évènements pour CCIRS
REFRESH-INTERVAL;VALUE=DURATION:PT1H
X-Robots-Tag:noindex
X-PUBLISHED-TTL:PT1H
BEGIN:VTIMEZONE
TZID:America/Toronto
BEGIN:DAYLIGHT
TZOFFSETFROM:-0500
TZOFFSETTO:-0400
TZNAME:EDT
DTSTART:20210314T070000
END:DAYLIGHT
BEGIN:STANDARD
TZOFFSETFROM:-0400
TZOFFSETTO:-0500
TZNAME:EST
DTSTART:20211107T060000
END:STANDARD
BEGIN:DAYLIGHT
TZOFFSETFROM:-0500
TZOFFSETTO:-0400
TZNAME:EDT
DTSTART:20220313T070000
END:DAYLIGHT
BEGIN:STANDARD
TZOFFSETFROM:-0400
TZOFFSETTO:-0500
TZNAME:EST
DTSTART:20221106T060000
END:STANDARD
BEGIN:DAYLIGHT
TZOFFSETFROM:-0500
TZOFFSETTO:-0400
TZNAME:EDT
DTSTART:20230312T070000
END:DAYLIGHT
BEGIN:STANDARD
TZOFFSETFROM:-0400
TZOFFSETTO:-0500
TZNAME:EST
DTSTART:20231105T060000
END:STANDARD
END:VTIMEZONE
BEGIN:VEVENT
DTSTART;TZID=America/Toronto:20220316T073000
DTEND;TZID=America/Toronto:20220316T090000
DTSTAMP:20260424T201041
CREATED:20220211T201324Z
LAST-MODIFIED:20220303T150922Z
UID:7571-1647415800-1647421200@ccirs.qc.ca
SUMMARY:Face aux crises actuelles\, faites du changement un allié de taille
DESCRIPTION:En collaboration avec :  \n \n  \nDepuis le début de la pandémie\, les défis se multiplient pour les entreprises. Que ce soit la crise du Covid\, la pénurie de main-d’œuvre ou encore le manque de matières premières\, plus que jamais\, les gestionnaires font face à l’adversité. De nombreux revirements sont nécessaires pour faire face à la gestion de crise. \n  \nDans cette conférence\, venez apprendre à composer\, accueillir et vivre avec les changements. Quelles sont les étapes à traverser ? Comment composer avec l’incertitude ? Comment intégrer les transformations dans votre entreprise ? Vous trouverez certainement réponse à vos questions pendant la rencontre. \nPRIX \n\nMembre : 50$\nNon-membre : 65$\n\n \nMerci à notre partenaire : \n  \n \n 
URL:https://ccirs.qc.ca/evenements/face-aux-crises-actuelles-faites-du-changement-un-allie-de-taille/
LOCATION:Parcours du Cerf\, 2500\, boulevard Fernand-Lafontaine\, Longueuil\, Québec\, J4N 1M5\, Canada
CATEGORIES:Matins express
ATTACH;FMTTYPE=image/jpeg:https://ccirs.qc.ca/wp-content/uploads/2022/02/16MARS_1200x628_220214.jpg
ORGANIZER;CN="CCIRS":MAILTO:info@ccirs.qc.ca
END:VEVENT
END:VCALENDAR