BEGIN:VCALENDAR
VERSION:2.0
PRODID:-//CCIRS - ECPv6.15.18//NONSGML v1.0//EN
CALSCALE:GREGORIAN
METHOD:PUBLISH
X-ORIGINAL-URL:https://ccirs.qc.ca
X-WR-CALDESC:Évènements pour CCIRS
REFRESH-INTERVAL;VALUE=DURATION:PT1H
X-Robots-Tag:noindex
X-PUBLISHED-TTL:PT1H
BEGIN:VTIMEZONE
TZID:America/Toronto
BEGIN:DAYLIGHT
TZOFFSETFROM:-0500
TZOFFSETTO:-0400
TZNAME:EDT
DTSTART:20200308T070000
END:DAYLIGHT
BEGIN:STANDARD
TZOFFSETFROM:-0400
TZOFFSETTO:-0500
TZNAME:EST
DTSTART:20201101T060000
END:STANDARD
BEGIN:DAYLIGHT
TZOFFSETFROM:-0500
TZOFFSETTO:-0400
TZNAME:EDT
DTSTART:20210314T070000
END:DAYLIGHT
BEGIN:STANDARD
TZOFFSETFROM:-0400
TZOFFSETTO:-0500
TZNAME:EST
DTSTART:20211107T060000
END:STANDARD
BEGIN:DAYLIGHT
TZOFFSETFROM:-0500
TZOFFSETTO:-0400
TZNAME:EDT
DTSTART:20220313T070000
END:DAYLIGHT
BEGIN:STANDARD
TZOFFSETFROM:-0400
TZOFFSETTO:-0500
TZNAME:EST
DTSTART:20221106T060000
END:STANDARD
END:VTIMEZONE
BEGIN:VEVENT
DTSTART;TZID=America/Toronto:20210506T080000
DTEND;TZID=America/Toronto:20210506T090000
DTSTAMP:20260425T114906
CREATED:20210415T152442Z
LAST-MODIFIED:20210429T164534Z
UID:6075-1620288000-1620291600@ccirs.qc.ca
SUMMARY:Matin Express - Bâtir une entreprise plus grande et meilleure en 2021
DESCRIPTION:Présenté en collaboration avec \n \n  \nLa CCIRS est heureuse de vous inviter au Matin Express Bâtir une entreprise plus grande et meilleure en 2021 présenté en collaboration avec l’équipe de la BDC. \nCette conférence s’adresse aux petites\, moyennes et grandes entreprises qui désirent continuer à s’adapter et qui recherchent activement des opportunités de croissance. \nLa dernière année n’avait rien d’une année habituelle. La bonne nouvelle? Il y a encore des occasions à saisir.\nDécouvrez comment une évaluation simple et complète de votre entreprise peut créer de nombreuses occasions de croissance. \n  \nM. Claude Larose\, partenaire client principal\, et Mme Anna Walkowiak\, conseillère d’affaires principale à la BDC\, aborderont les sujets suivants: \n• Exemple d’entreprises comme la vôtre qui se sont réorientées pour s’adapter aux nouvelles demandes des clients\n• Repenser le qui\, le quoi\, le où et le comment de votre entreprise : De quel type d’entreprise s’agit-il? Que vendez-vous? Qui sont vos clients? Où sont-ils? Comment arrivez-vous à les joindre?\n• Les premières étapes à suivre pour apporter de petits changements au sein de votre entreprise qui peuvent mener à de grandes occasions de croissance\n• Vos défis et vos perspectives \n  \nPrix membre : Gratuit\nPrix non-membre : 10$ \n  \nInscription \n  \nLES CONFÉRENCIERS\n\n \nClaude Larose\nPartenaire client principal\, BDC \nM. Larose a travaillé au fil des années à titre de Directeur Export dans des PME et des multinationales. Il a géré des équipes du développement des affaires sur les marchés Nord-Américain\, Européen et Asiatique. Ce qui lui a permis de développer une étroite collaboration avec des équipes de fabrication\, de logistique et des finances.\nDepuis bientôt 14 ans au Service-Conseil de la BDC. Il collabore avec une équipe multidisciplinaire de la BDC à l’analyse et à la modification du modèle d’affaires d’entreprises dans le but de protéger leur compétitivité dans une économie en constante évolution. \n  \n \nAnna Walkowiak\nConseillère d’affaires principale\, BDC \nAnna est une professionnelle chevronnée avec 20 ans d’expérience progressive dans le conseil en gestion et le leadership d’entreprise. Elle dirige actuellement le programme d’innovation par le modèle d’affaires au Canada pour les clients de BDC qui souhaitent transformer leur entreprise afin de mieux s’adapter à un environnement externe en mutation. Sa carrière a évolué chez Arthur Andersen\, puis chez Deloitte\, où elle a conseillé des clients canadiens et internationaux dans les domaines de la stratégie d’entreprise\, de la transformation organisationnelle et du développement durable. Plus récemment\, elle a occupé le poste de vice-présidente de l’innovation et du développement chez Recyc-Québec\, un organisme du gouvernement provincial supervisant la mise en œuvre de programmes d’économie circulaire dans les municipalités\, les institutions et le secteur privé. Cette expérience lui a permis de développer une passion pour la création de valeur durable en appliquant des concepts d’innovation d’entreprise\, du design thinking et du lean start up. Elle est titulaire d’une maitrise en commerce international de l’Université d’économie et de commerce de Poznan (Pologne) et est certifiée Project Management Professional (PMP) ainsi que Stratégie digitale par MIT. \n  \n\nMerci à notre partenaire de la série Matin Express! \n \n  \n  \n 
URL:https://ccirs.qc.ca/evenements/matin-express-batir-une-entreprise-plus-grande-et-meilleure-en-2021/
LOCATION:Québec
CATEGORIES:Matins express
ATTACH;FMTTYPE=image/jpeg:https://ccirs.qc.ca/wp-content/uploads/2021/04/6MAI_1200x628_20210416.jpg
ORGANIZER;CN="CCIRS":MAILTO:info@ccirs.qc.ca
END:VEVENT
END:VCALENDAR