BEGIN:VCALENDAR
VERSION:2.0
PRODID:-//CCIRS - ECPv6.15.18//NONSGML v1.0//EN
CALSCALE:GREGORIAN
METHOD:PUBLISH
X-WR-CALNAME:CCIRS
X-ORIGINAL-URL:https://ccirs.qc.ca
X-WR-CALDESC:Évènements pour CCIRS
REFRESH-INTERVAL;VALUE=DURATION:PT1H
X-Robots-Tag:noindex
X-PUBLISHED-TTL:PT1H
BEGIN:VTIMEZONE
TZID:America/Toronto
BEGIN:DAYLIGHT
TZOFFSETFROM:-0500
TZOFFSETTO:-0400
TZNAME:EDT
DTSTART:20200308T070000
END:DAYLIGHT
BEGIN:STANDARD
TZOFFSETFROM:-0400
TZOFFSETTO:-0500
TZNAME:EST
DTSTART:20201101T060000
END:STANDARD
BEGIN:DAYLIGHT
TZOFFSETFROM:-0500
TZOFFSETTO:-0400
TZNAME:EDT
DTSTART:20210314T070000
END:DAYLIGHT
BEGIN:STANDARD
TZOFFSETFROM:-0400
TZOFFSETTO:-0500
TZNAME:EST
DTSTART:20211107T060000
END:STANDARD
BEGIN:DAYLIGHT
TZOFFSETFROM:-0500
TZOFFSETTO:-0400
TZNAME:EDT
DTSTART:20220313T070000
END:DAYLIGHT
BEGIN:STANDARD
TZOFFSETFROM:-0400
TZOFFSETTO:-0500
TZNAME:EST
DTSTART:20221106T060000
END:STANDARD
END:VTIMEZONE
BEGIN:VEVENT
DTSTART;TZID=America/Toronto:20210408T080000
DTEND;TZID=America/Toronto:20210408T090000
DTSTAMP:20260425T131200
CREATED:20210322T185316Z
LAST-MODIFIED:20210407T203157Z
UID:5963-1617868800-1617872400@ccirs.qc.ca
SUMMARY:Matin Express - L'automatisation et l'optimisation de la gestion de vos finances avec Quickbooks en-ligne
DESCRIPTION:Présenté en collaboration avec \n \n  \nLes effets de l’automatisation et l’optimisation de la gestion de vos finances avec les outils infonuagiques tel que Quickbooks en-ligne\nLors de cette conférence\, les experts comptables de la firme Moquin Amyot aborderont les tendances du marché dans le contexte actuel quant à l’infonuagique\, le travail à distance\, la gestion des informations en temps réel et les tableaux de bord pour la prise de décisions éclairées.\nGrâce à un démonstration de la plateforme Quickbooks en-ligne\, vous comprendrez comment l’automatisation et l’optimisation des processus de gestion des finances peut réellement répondre aux préoccupations des PME et des travailleurs autonomes. \nComment atteindre un équilibre de charge mentale en utilisant l’infonuagique?\nComment pourrez-vous économiser du temps grâce à une meilleur gestion du temps consacré à la gestion des finances?\nQuel accompagnement est offert lors de la migration? \n  \nPrix : Gratuit pour tous \nInscription \nPour vous connecter à l’événement (à compter de 7h50) : cliquez ici > \n  \nLES CONFÉRENCIERS\nSébastien Rochefort\nAssocié\, Moquin Amyot \nMembre de l’Ordre des comptables professionnels agréés du Québec\, Sébastien cumule 25 ans d’expérience auprès d’entreprises en croissance.\nAssocié en certification chez Moquin Amyot\, il coordonne les travaux d’accompagnement d’entreprises œuvrant dans divers secteurs d’activités.\nReconnu pour proposer des solutions efficaces et novatrices liées aux fonctions opérationnelles\, financières\, comptables et administratives\, il est régulièrement impliqué dans des mandats spéciaux tel que des vérifications diligentes ainsi que pour la mises en place de financement dans le cadre de projets d’acquisitions d’entreprises. \n  \nMélanie Roy\nDirectrice principale – Services comptables\, Moquin Amyot\n \nMembre de l’Ordre des comptables professionnels agréés du Québec\nGestionnaire cumulant 23 ans d’expérience auprès de PME œuvrant dans divers secteurs d’activités dont notamment dans les domaines de la vente au détail\, manufacturier\, distribution\, services et agricole.\nMme Roy agit à titre de conseillère d’affaires notamment en comptabilité\, en gestion ainsi que pour le virage infonuagique des systèmes comptables. \n  \nAtiba Lewis\nArchitecte en solutions\, Intuit Quickbooks \nComptant plus de 20 ans d’expérience en technologies de l’information\, Atiba Lewis travaille chez Intuit depuis 4 ans. En tant qu’architecte en solutions sur la plateforme QuickBooks en ligne\, Atiba met à profit ses connaissances exceptionnelles pour aider les entreprises à combler l’écart entre la technologie et la comptabilité.\nSon rôle actuel l’amène à travailler avec les cabinets comptables pour développer des flux de travaux et des intégrations ainsi que pour démystifier l’écosystème d’applications Intuit. \n  \n  \n\n  \nMerci à notre partenaire de la série Matin Express! \n \n 
URL:https://ccirs.qc.ca/evenements/matin-express-lautomatisation-et-loptimisation-de-la-gestion-de-vos-finances-avec-quickbooks-en-ligne/
LOCATION:Québec
CATEGORIES:Matins express
ATTACH;FMTTYPE=image/jpeg:https://ccirs.qc.ca/wp-content/uploads/2021/03/Visuel_Quickbooks-1200x628-1.jpg
ORGANIZER;CN="CCIRS":MAILTO:info@ccirs.qc.ca
END:VEVENT
END:VCALENDAR