BEGIN:VCALENDAR
VERSION:2.0
PRODID:-//CCIRS - ECPv6.15.18//NONSGML v1.0//EN
CALSCALE:GREGORIAN
METHOD:PUBLISH
X-WR-CALNAME:CCIRS
X-ORIGINAL-URL:https://ccirs.qc.ca
X-WR-CALDESC:Évènements pour CCIRS
REFRESH-INTERVAL;VALUE=DURATION:PT1H
X-Robots-Tag:noindex
X-PUBLISHED-TTL:PT1H
BEGIN:VTIMEZONE
TZID:America/Toronto
BEGIN:DAYLIGHT
TZOFFSETFROM:-0500
TZOFFSETTO:-0400
TZNAME:EDT
DTSTART:20190310T070000
END:DAYLIGHT
BEGIN:STANDARD
TZOFFSETFROM:-0400
TZOFFSETTO:-0500
TZNAME:EST
DTSTART:20191103T060000
END:STANDARD
BEGIN:DAYLIGHT
TZOFFSETFROM:-0500
TZOFFSETTO:-0400
TZNAME:EDT
DTSTART:20200308T070000
END:DAYLIGHT
BEGIN:STANDARD
TZOFFSETFROM:-0400
TZOFFSETTO:-0500
TZNAME:EST
DTSTART:20201101T060000
END:STANDARD
BEGIN:DAYLIGHT
TZOFFSETFROM:-0500
TZOFFSETTO:-0400
TZNAME:EDT
DTSTART:20210314T070000
END:DAYLIGHT
BEGIN:STANDARD
TZOFFSETFROM:-0400
TZOFFSETTO:-0500
TZNAME:EST
DTSTART:20211107T060000
END:STANDARD
END:VTIMEZONE
BEGIN:VEVENT
DTSTART;TZID=America/Toronto:20201112T080000
DTEND;TZID=America/Toronto:20201112T090000
DTSTAMP:20260425T211113
CREATED:20201026T153321Z
LAST-MODIFIED:20201103T202910Z
UID:5065-1605168000-1605171600@ccirs.qc.ca
SUMMARY:Investissement Québec\, un levier stratégique pour le développement économique du Québec
DESCRIPTION:Présenté en collaboration avec \n \n  \nLa CCIRS\, en collaboration avec Investissement Québec\, vous invite à découvrir les moyens déployés par la Société pour stimuler l’innovation dans les entreprises\, encourager l’entrepreneuriat et accélérer la croissance de l’investissement et des exportations lors de ce Matin Express. Avec un réseau régional plus fort\, le lancement d’une nouvelle initiative pour appuyer la productivité et l’innovation et un soutien accru au développement des filières stratégiques\, Investissement Québec est mieux outillé que jamais pour faciliter la relance économique du Québec. \n  \n \nGuy LeBlanc\, président-directeur général d’Investissement Québec \nLeader performant et bon communicateur\, Guy LeBlanc possède une grande connaissance du milieu des affaires québécois et son parcours professionnel témoigne de son engagement à faire croître les entreprises. Son savoir-faire et son expérience sur le terrain lui permettront sans aucun doute de réaliser l’important mandat confié à Investissement Québec. \nGuy LeBlanc a été nommé président-directeur général d’Investissement Québec en avril 2019. \nHaut dirigeant chevronné\, il a œuvré au sein de la firme PricewaterhouseCoopers (PwC) pendant plus de 35 ans. En tant qu’associé directeur du groupe Transactions pour le Canada de 2002 à 2006 et à titre d’associé directeur du bureau de Montréal de 2006 à 2015\, il y a notamment géré une équipe de plus de 800 professionnels et avait la responsabilité d’adapter la stratégie du cabinet au marché québécois. Expert financier\, Guy LeBlanc est spécialiste des transactions\, tant en matière d’achat et de vente que sur le plan du financement d’entreprises. \nDiplômé de HEC Montréal\, diplômé émérite de l’Université de Montréal et détenteur du titre IAS.A de l’Institut des administrateurs de sociétés\, il est Fellow de l’Ordre des comptables professionnels agréés du Québec (FCPA). \nApprécié pour son leadership\, Guy LeBlanc a siégé aux conseils d’administration de plusieurs organisations\, incluant Groupe Canam\, Marché Goodfood\, la Compagnie Électrique Lion\, Groupe Meloche\, Groupe ATIS et Montréal International. \n  \n \nPatrick Guilbault\, directeur régional principal\, Rive-Sud et Montérégie\, Investissement Québec \nPatrick Guilbault est directeur régional principal\, Rive-Sud et Montérégie\, à Investissement Québec. Titulaire d’un baccalauréat en administration des affaires et d’un MBA en financement des entreprises\, M. Guilbault évolue depuis plus de 20 ans dans les secteurs bancaires et financiers. \nAprès un passage à la SADC\, il se joint à Investissement Québec en 2002\, d’abord à titre de directeur de portefeuilles puis comme directeur senior aux comptes majeurs ce qui lui a permis de développer une vaste connaissance du financement des entreprises. \nIl s’est également impliqué activement dans divers comités et projets internes et a supporté le vice-président du Réseau régional dans différents mandats\, entre autres dans le développement et l’implantation d’outils de gestion et la formation des employés. Il était le premier répondant sur les rôles et processus et s’assurait d’un suivi des résultats opérationnels des directions régionales principales de la vice-présidence. \n  \n  \nPrix membre: Gratuit \nPrix non-membre: Gratuit \n* L’inscription à l’événement est obligatoire\, car le lien de connexion sera envoyé seulement aux participants inscrits.  \nInscription\n  \n  \nMerci à notre partenaire de la série Matin Express!
URL:https://ccirs.qc.ca/evenements/investissement-quebec-un-levier-strategique-pour-le-developpement-economique-du-quebec/
LOCATION:Québec
CATEGORIES:Matins express
ATTACH;FMTTYPE=image/jpeg:https://ccirs.qc.ca/wp-content/uploads/2020/10/GUY_12NOV_1200x628px_201027.jpg
ORGANIZER;CN="CCIRS":MAILTO:info@ccirs.qc.ca
END:VEVENT
BEGIN:VEVENT
DTSTART;TZID=America/Toronto:20201119T080000
DTEND;TZID=America/Toronto:20201119T090000
DTSTAMP:20260425T211113
CREATED:20201029T174455Z
LAST-MODIFIED:20201106T153149Z
UID:5098-1605772800-1605776400@ccirs.qc.ca
SUMMARY:Stratégie et leadership présenté par la BDC
DESCRIPTION:Présenté en collaboration avec \n \n  \nLa CCIRS est heureuse de vous inviter à un second Matin Express présenté par l’équipe BDC Services-Conseils. \n  \nToute entreprise se doit de réfléchir et réviser les stratégies de son entreprise. Pour avoir une croissance à long terme\, une saine stratégie d’affaires qui vous guide dans vos décisions et vos actions est essentielle. \nLa mise sur pied d’une stratégie solide débute avec un leadership adéquat pour réussir à déployer et appliquer le plan d’action afin d’aligner votre équipe sur une vision commune. \n  \nCette conférence\, présentée par Mme Lucie Chouinard et M. Yves Guertin\, vous présentera les grandes stratégies d’affaires ainsi que leur élaboration à l’aide d’exemples concrets et vous illustrera un modèle de réflexion sur le leadership. \n  \n \nLucie Chouinard\, MBA\, CMC\, Adm.A\,\nConseillère d’affaires séniore\, BDC \nConseillère d’affaires séniore\, spécialiste de la planification stratégique\, chargée de cours sur la consultation au programme MBA de HEC Montréal\, Mme Chouinard est responsable de la réalisation des mandats de planification stratégique à la BDC. \n  \n \nYves Guertin MBA\, agr.\nPartenaire Client Principal\, BDC\n \nYves a joint les rangs de bdc services-conseils depuis plus de 6 ans maintenant. Grâce à son expérience bancaire\, à titre de directeur général d’entreprise et consultant en redressement\, Yves possède une vision globale des défis des entrepreneurs. Il a eu l’occasion de relever des défis dans différents secteurs d’activité tout en possédant une spécialisation dans le domaine de la transformation agroalimentaire. \n  \n  \nPrix membre : Gratuit\nPrix non-membre : 15$ \n  \nInscription \n  \nMerci à notre partenaire de la série Matin Express! \n \n 
URL:https://ccirs.qc.ca/evenements/strategie-et-leadership-presente-par-la-bdc/
LOCATION:Québec
CATEGORIES:Matins express
ATTACH;FMTTYPE=image/jpeg:https://ccirs.qc.ca/wp-content/uploads/2020/10/Visuel-1200x628-2.jpg
ORGANIZER;CN="CCIRS":MAILTO:info@ccirs.qc.ca
END:VEVENT
END:VCALENDAR