BEGIN:VCALENDAR
VERSION:2.0
PRODID:-//CCIRS - ECPv6.15.18//NONSGML v1.0//EN
CALSCALE:GREGORIAN
METHOD:PUBLISH
X-WR-CALNAME:CCIRS
X-ORIGINAL-URL:https://ccirs.qc.ca
X-WR-CALDESC:Évènements pour CCIRS
REFRESH-INTERVAL;VALUE=DURATION:PT1H
X-Robots-Tag:noindex
X-PUBLISHED-TTL:PT1H
BEGIN:VTIMEZONE
TZID:America/Toronto
BEGIN:DAYLIGHT
TZOFFSETFROM:-0500
TZOFFSETTO:-0400
TZNAME:EDT
DTSTART:20200308T070000
END:DAYLIGHT
BEGIN:STANDARD
TZOFFSETFROM:-0400
TZOFFSETTO:-0500
TZNAME:EST
DTSTART:20201101T060000
END:STANDARD
BEGIN:DAYLIGHT
TZOFFSETFROM:-0500
TZOFFSETTO:-0400
TZNAME:EDT
DTSTART:20210314T070000
END:DAYLIGHT
BEGIN:STANDARD
TZOFFSETFROM:-0400
TZOFFSETTO:-0500
TZNAME:EST
DTSTART:20211107T060000
END:STANDARD
BEGIN:DAYLIGHT
TZOFFSETFROM:-0500
TZOFFSETTO:-0400
TZNAME:EDT
DTSTART:20220313T070000
END:DAYLIGHT
BEGIN:STANDARD
TZOFFSETFROM:-0400
TZOFFSETTO:-0500
TZNAME:EST
DTSTART:20221106T060000
END:STANDARD
END:VTIMEZONE
BEGIN:VEVENT
DTSTART;VALUE=DATE:20211025
DTEND;VALUE=DATE:20211026
DTSTAMP:20260425T084956
CREATED:20211005T161010Z
LAST-MODIFIED:20211005T161010Z
UID:6651-1635120000-1635206399@ccirs.qc.ca
SUMMARY:Date limite d'inscription : Les clans d'affaires - cohorte novembre 2021
DESCRIPTION:Une idée originale de            En collaboration avec  \n      \n\n\n\n\n\n\n\n\nLa force du réseautage\nClans d’affaires est une série intensive de quatre rencontres de réseautage dans le cadre desquelles vous pourrez échanger avec le même groupe de 14 à 20 personnes à chaque réunion pour vous entraider et créer des liens d’affaires durables.  \nGrâce à un algorithme unique\, le maillage entre les candidats se fait intelligemment en fonction de leur profil et de leur parcours. Ainsi\, vous pourrez échanger avec le même petit groupe spécialement conçu pour vous\, à chaque rencontre\, afin de maximiser la qualité de vos échanges et de créer des liens durables. \n. \n« Les clans d’affaires offrent une expérience résolument enrichissante. Je constate combien le partage – qu’il s’agisse de connaissances\, d’expériences\, de succès\, d’échecs\, de conseils ou de relations professionnelles – permet de créer des liens d’affaires humains et durables entre des entrepreneurs et des professionnels qui ont des valeurs\, objectifs et aspirations très similaires. » \n\n– Caroline Lavallée\, Catalyst Communications\n\n.\n\n\n\n\n\n\n\n\n.\n. \nProcessus\n\n\n\n\n\n\n\n\n\n\n\n\n\n\n \nÉtape 1 :\nVous devez d’abord vous inscrire en ligne\, entrer vos informations personnelles et procéder au paiement.  \nVous pouvez vous inscrire maintenant aux prochaines cohortes. \nÀ noter :  l’inscription ne garantit pas d’avoir une place. Les places sont attribuées par un algorithme de jumelage. Les personnes qui ne sont pas jumelées sont remboursées et invitées à essayer à nouveau à la cohorte suivante.  \n.\nS’inscrire \n  \n\n\n\n\nATTENTION!\nVous recevrez un courriel de confirmation. La date qui s’y trouve n’est pas la date de votre groupe. C’est après le sondage et la date limite des inscriptions que vous connaîtrez la date de vos rencontres de clan. \n\n\n\n\n\n \nÉtape 2 :\nAprès la date limite des inscriptions\, vous recevrez un courriel contenant un lien vers le questionnaire qui servira à réaliser le maillage entre les participants pour vous assurer d’avoir le groupe qui correspond le mieux à vos besoins et à vos attentes. \nVous devez fournir au moins 3 plages de disponibilité parmi celles qui sont proposées pour la cohorte en cours pour maximiser les chances d’un maillage réussi et gagnant pour vous. \n\nDate limite d’inscription – 25 octobre 2021\nDate où les participants seront informés de leur jumelage – 1er novembre 2021\nDates offertes pour les rencontres de groupe: \nLes mardis matin (9h à 11h) : 16 novembre | 23 novembre | 30 novembre | 7 décembre  \nLes mardis après-midi (12h à 14h) : 16 novembre | 23 novembre | 30 novembre | 7 décembre  \nLes mercredis matin (9h à 11h) : 17 novembre | 24 novembre | 1er décembre | 8 décembre  \nLes mercredis après-midi (12h à 14h) : 17 novembre | 24 novembre | 1er décembre | 8 décembre  \nLes jeudis matin (9h à 11h) : 11 novembre | 18 novembre | 25 novembre | 2 décembre  \nLes jeudis après-midi (12h à 14h) : 11 novembre | 18 novembre | 25 novembre | 2 décembre  \nLes vendredis matin (9h à 11h) : 12 novembre | 19 novembre | 26 novembre | 3 décembre \nLes vendredis après-midi (12h à 14h) : 12 novembre | 19 novembre | 26 novembre | 3 décembre \n. \n\n\n\n\n\n\n\nPrix\n\nMembre : 225$  \nNon-membre : 295$ \n. \n\nS’inscrire\n\n\n\n\n\n\n\n\n\n\nVisitez la page des Clans d’affaires ! \n\n\n\n\n\n\n\n\n\n.
URL:https://ccirs.qc.ca/evenements/date-limite-dinscription-les-clans-daffaires-cohorte-novembre-2021/
CATEGORIES:Les Clans d'affaires
ATTACH;FMTTYPE=image/jpeg:https://ccirs.qc.ca/wp-content/uploads/2021/08/clans_affaires-1200x628_210930.jpg
END:VEVENT
END:VCALENDAR