BEGIN:VCALENDAR
VERSION:2.0
PRODID:-//CCIRS - ECPv6.15.18//NONSGML v1.0//EN
CALSCALE:GREGORIAN
METHOD:PUBLISH
X-ORIGINAL-URL:https://ccirs.qc.ca
X-WR-CALDESC:Évènements pour CCIRS
REFRESH-INTERVAL;VALUE=DURATION:PT1H
X-Robots-Tag:noindex
X-PUBLISHED-TTL:PT1H
BEGIN:VTIMEZONE
TZID:America/Toronto
BEGIN:DAYLIGHT
TZOFFSETFROM:-0500
TZOFFSETTO:-0400
TZNAME:EDT
DTSTART:20200308T070000
END:DAYLIGHT
BEGIN:STANDARD
TZOFFSETFROM:-0400
TZOFFSETTO:-0500
TZNAME:EST
DTSTART:20201101T060000
END:STANDARD
BEGIN:DAYLIGHT
TZOFFSETFROM:-0500
TZOFFSETTO:-0400
TZNAME:EDT
DTSTART:20210314T070000
END:DAYLIGHT
BEGIN:STANDARD
TZOFFSETFROM:-0400
TZOFFSETTO:-0500
TZNAME:EST
DTSTART:20211107T060000
END:STANDARD
BEGIN:DAYLIGHT
TZOFFSETFROM:-0500
TZOFFSETTO:-0400
TZNAME:EDT
DTSTART:20220313T070000
END:DAYLIGHT
BEGIN:STANDARD
TZOFFSETFROM:-0400
TZOFFSETTO:-0500
TZNAME:EST
DTSTART:20221106T060000
END:STANDARD
END:VTIMEZONE
BEGIN:VEVENT
DTSTART;VALUE=DATE:20210222
DTEND;VALUE=DATE:20210223
DTSTAMP:20260425T150042
CREATED:20210121T204057Z
LAST-MODIFIED:20210121T211358Z
UID:5614-1613952000-1614038399@ccirs.qc.ca
SUMMARY:Date limite: Dépôt de candidatures aux Prix Excellence 2020-2021
DESCRIPTION:La 37e édition du concours des Prix Excellence est une présentation de \n\n\n \n  \nLa CCIRS est fière de souligner le talent des entrepreneurs de la région avec les Prix Excellence\, un prestigieux concours entrepreneurial. \nLes prix Excellence encouragent et mettent en valeur l’excellence et le dynamisme des entreprises de la Rive-Sud. Divisés en 12 catégories\, les gagnants seront couronnés lors du Gala Dominique-Rollin. \n  \nLes catégories 2020-2021: \nNouvelle entreprise\nCommerce de détail\nRelève et transfert d’entreprise\nEntrepreneurs et métiers de la construction\nInnovation et technologies\nExportation\nEntreprise de services moins de 20 employés\nEntreprise de services 20 employés et plus\nEntreprise manufacturière ou distribution moins de 10 millions\nEntreprise manufacturière ou distribution 10 millions et plus\nPrix Étinc’ELLE\nBourse Aile Jeunesse\nNOUVELLE CATÉGORIE – Stratégie en temps de pandémie \n  \nPour s’inscrire au concours des Prix Excellence: \n1- Identifiez et contactez votre parrain ici > \n2- Complétez votre cahier de candidature à l’aide de votre parrain. \n3- Rendez-vous au dévoilement des finalistes le 25 mars 2021. \n  \n  \nVisiter la page web des Prix Excellence pour obtenir plus de détails >
URL:https://ccirs.qc.ca/evenements/date-limite-depot-de-candidatures-aux-prix-excellence-2020-2021/
LOCATION:Québec
CATEGORIES:Concours des prix Excellence
ATTACH;FMTTYPE=image/gif:https://ccirs.qc.ca/wp-content/uploads/2020/11/GIF_excellence_201119.gif
ORGANIZER;CN="CCIRS":MAILTO:info@ccirs.qc.ca
END:VEVENT
END:VCALENDAR