BEGIN:VCALENDAR
VERSION:2.0
PRODID:-//CCIRS - ECPv6.15.18//NONSGML v1.0//EN
CALSCALE:GREGORIAN
METHOD:PUBLISH
X-WR-CALNAME:CCIRS
X-ORIGINAL-URL:https://ccirs.qc.ca
X-WR-CALDESC:Évènements pour CCIRS
REFRESH-INTERVAL;VALUE=DURATION:PT1H
X-Robots-Tag:noindex
X-PUBLISHED-TTL:PT1H
BEGIN:VTIMEZONE
TZID:America/Toronto
BEGIN:DAYLIGHT
TZOFFSETFROM:-0500
TZOFFSETTO:-0400
TZNAME:EDT
DTSTART:20210314T070000
END:DAYLIGHT
BEGIN:STANDARD
TZOFFSETFROM:-0400
TZOFFSETTO:-0500
TZNAME:EST
DTSTART:20211107T060000
END:STANDARD
BEGIN:DAYLIGHT
TZOFFSETFROM:-0500
TZOFFSETTO:-0400
TZNAME:EDT
DTSTART:20220313T070000
END:DAYLIGHT
BEGIN:STANDARD
TZOFFSETFROM:-0400
TZOFFSETTO:-0500
TZNAME:EST
DTSTART:20221106T060000
END:STANDARD
BEGIN:DAYLIGHT
TZOFFSETFROM:-0500
TZOFFSETTO:-0400
TZNAME:EDT
DTSTART:20230312T070000
END:DAYLIGHT
BEGIN:STANDARD
TZOFFSETFROM:-0400
TZOFFSETTO:-0500
TZNAME:EST
DTSTART:20231105T060000
END:STANDARD
END:VTIMEZONE
BEGIN:VEVENT
DTSTART;TZID=America/Toronto:20220519T170000
DTEND;TZID=America/Toronto:20220519T213000
DTSTAMP:20260424T142409
CREATED:20220217T203150Z
LAST-MODIFIED:20220511T182357Z
UID:7610-1652979600-1652995800@ccirs.qc.ca
SUMMARY:COMPLET - Prix Excellence 2021-2022 - Gala Dominique-Rollin
DESCRIPTION:Le concours des Prix Excellence 2021-2022 est une présentation de :\n  \n \n  \nCET ÉVÉNEMENT EST COMPLET\nCet événement traditionnel\, prestigieux et de grande qualité vous plongera dans l’univers de l’entrepreneuriat et des entreprises de la Rive-Sud.  \nAssistez à l’incontournable Gala des Prix Excellence qui couronnera les grandes gagnants du concours.  \nRéunissant des professionnels et entrepreneurs fiers de présenter leurs réussites\, cette soirée promet d’être forte en émotion avec une programmation  animée par la célèbre Isabelle Racicot devant 400 convives\, des projections sur grands écrans\, un souper gastronomique précédé par un cocktail. \nConviez amis\, famille et collègues afin pour vivre ce moment soulignant l’excellence en Montérégie. \nMerci aux partenaires audiovisuels de l’événement \n    \n. \n 
URL:https://ccirs.qc.ca/evenements/prix-excellence-2021-2022-gala-dominique-rollin/
LOCATION:Courtyard by Marriott\, 3300 rue de l'Éclipse\, Brossard\, Québec\, J4Z0P5\, Canada
CATEGORIES:Concours des prix Excellence
ATTACH;FMTTYPE=image/jpeg:https://ccirs.qc.ca/wp-content/uploads/2022/02/visuels_2203144.jpg
ORGANIZER;CN="CCIRS":MAILTO:info@ccirs.qc.ca
END:VEVENT
END:VCALENDAR