BEGIN:VCALENDAR
VERSION:2.0
PRODID:-//CCIRS - ECPv6.15.18//NONSGML v1.0//EN
CALSCALE:GREGORIAN
METHOD:PUBLISH
X-WR-CALNAME:CCIRS
X-ORIGINAL-URL:https://ccirs.qc.ca
X-WR-CALDESC:Évènements pour CCIRS
REFRESH-INTERVAL;VALUE=DURATION:PT1H
X-Robots-Tag:noindex
X-PUBLISHED-TTL:PT1H
BEGIN:VTIMEZONE
TZID:America/Toronto
BEGIN:DAYLIGHT
TZOFFSETFROM:-0500
TZOFFSETTO:-0400
TZNAME:EDT
DTSTART:20200308T070000
END:DAYLIGHT
BEGIN:STANDARD
TZOFFSETFROM:-0400
TZOFFSETTO:-0500
TZNAME:EST
DTSTART:20201101T060000
END:STANDARD
BEGIN:DAYLIGHT
TZOFFSETFROM:-0500
TZOFFSETTO:-0400
TZNAME:EDT
DTSTART:20210314T070000
END:DAYLIGHT
BEGIN:STANDARD
TZOFFSETFROM:-0400
TZOFFSETTO:-0500
TZNAME:EST
DTSTART:20211107T060000
END:STANDARD
BEGIN:DAYLIGHT
TZOFFSETFROM:-0500
TZOFFSETTO:-0400
TZNAME:EDT
DTSTART:20220313T070000
END:DAYLIGHT
BEGIN:STANDARD
TZOFFSETFROM:-0400
TZOFFSETTO:-0500
TZNAME:EST
DTSTART:20221106T060000
END:STANDARD
END:VTIMEZONE
BEGIN:VEVENT
DTSTART;TZID=America/Toronto:20210621T150000
DTEND;TZID=America/Toronto:20210621T160000
DTSTAMP:20260425T071851
CREATED:20210601T194949Z
LAST-MODIFIED:20210601T195157Z
UID:6253-1624287600-1624291200@ccirs.qc.ca
SUMMARY:Remise des trophées des Prix Excellence 2021
DESCRIPTION:Le 20 mai dernier\, la CCIRS a couronné les lauréats du concours des Prix Excellence 2020-2021. \nDans le but de clôturer cette 37e édition\, la CCIRS organise une remise officielle afin de remettre en main propre le trophée aux lauréats de ses 12 catégories ainsi que ses prix spéciaux.\nVeuillez noter que toutes les mesures sanitaires ainsi que les règles gouvernementales en vigueur seront respectées lors de l’événement \n  \n* Cet événement est sur invitation seulement.\nCliquez ici pour consulter la liste des lauréats >
URL:https://ccirs.qc.ca/evenements/remise-des-trophees-des-prix-excellence-2021/
LOCATION:Parcours du Cerf\, 2500\, boulevard Fernand-Lafontaine\, Longueuil\, Québec\, J4N 1M5\, Canada
CATEGORIES:Concours des prix Excellence
ATTACH;FMTTYPE=image/jpeg:https://ccirs.qc.ca/wp-content/uploads/2021/06/1200x628.jpg
ORGANIZER;CN="CCIRS":MAILTO:info@ccirs.qc.ca
END:VEVENT
END:VCALENDAR