BEGIN:VCALENDAR
VERSION:2.0
PRODID:-//CCIRS - ECPv6.15.18//NONSGML v1.0//EN
CALSCALE:GREGORIAN
METHOD:PUBLISH
X-ORIGINAL-URL:https://ccirs.qc.ca
X-WR-CALDESC:Évènements pour CCIRS
REFRESH-INTERVAL;VALUE=DURATION:PT1H
X-Robots-Tag:noindex
X-PUBLISHED-TTL:PT1H
BEGIN:VTIMEZONE
TZID:America/Toronto
BEGIN:DAYLIGHT
TZOFFSETFROM:-0500
TZOFFSETTO:-0400
TZNAME:EDT
DTSTART:20230312T070000
END:DAYLIGHT
BEGIN:STANDARD
TZOFFSETFROM:-0400
TZOFFSETTO:-0500
TZNAME:EST
DTSTART:20231105T060000
END:STANDARD
BEGIN:DAYLIGHT
TZOFFSETFROM:-0500
TZOFFSETTO:-0400
TZNAME:EDT
DTSTART:20240310T070000
END:DAYLIGHT
BEGIN:STANDARD
TZOFFSETFROM:-0400
TZOFFSETTO:-0500
TZNAME:EST
DTSTART:20241103T060000
END:STANDARD
BEGIN:DAYLIGHT
TZOFFSETFROM:-0500
TZOFFSETTO:-0400
TZNAME:EDT
DTSTART:20250309T070000
END:DAYLIGHT
BEGIN:STANDARD
TZOFFSETFROM:-0400
TZOFFSETTO:-0500
TZNAME:EST
DTSTART:20251102T060000
END:STANDARD
END:VTIMEZONE
BEGIN:VEVENT
DTSTART;TZID=America/Toronto:20241205T070000
DTEND;TZID=America/Toronto:20241205T170000
DTSTAMP:20260422T125114
CREATED:20241104T194103Z
LAST-MODIFIED:20241112T214843Z
UID:12077-1733382000-1733418000@ccirs.qc.ca
SUMMARY:La Grande Guignolée des médias de la Rive-Sud 2024
DESCRIPTION:Nous sommes heureux de participer pour une 20e année à la Grande Guignolée des médias de la Rive-Sud qui se tiendra le 5 décembre prochain. Comme à son habitude\, l’équipe de la Chambre se rendra directement dans les entreprises participantes pour récupérer des denrées non périssables ou des dons en argent. Avec plus de 60 300 dépannages alimentaires réalisés en 2023 par les organismes communautaires de la Rive-Sud\, il est important plus que jamais de mobiliser la communauté d’affaires pour soutenir ceux qui en ont besoin.  \nDepuis la pandémie de la COVID-19\, les organismes communautaires observent une hausse marquée des demandes de dépannages alimentaires sur le territoire. Avec l’incertitude économique actuelle\, les familles ont de plus en plus de difficulté à joindre les deux bouts. C’est pourquoi la Chambre invite chaleureusement ses membres et les entreprises à s’engager et à faire preuve de générosité en contribuant à cette cause importante. À titre de seconde région économique en importance au Québec\, la participation des entreprises du territoire peut apporter une contribution significative pour soutenir les personnes et les familles dans le besoin\, tout en reflétant la solidarité exemplaire de la communauté d’affaires de la Rive-Sud.  \nLa Chambre remercie d’avance toutes les entreprises qui s’engageront dans cette démarche et souligne l’importance de faire de cette saison des fêtes un moment de partage et de solidarité pour l’ensemble de la communauté.  \nVoici comment vous impliquer : \n\nEn récoltant des denrées non périssables et des dons en argent au sein de votre entreprise. Nous irons les récupérer dans la journée du 5 décembre;\nEn mobilisant vos équipes et en devenant bénévole pour la collecte de rue;\nEn émettant un chèque au nom de la Grande Guignolée des médias de la Rive-Sud.\n\nLes entreprises souhaitant participer à cette initiative peuvent s’inscrire en cliquant sur ce lien. \nVous avez jusqu’au 3 décembre à midi pour vous inscrire. \nEn collaboration avec : 
URL:https://ccirs.qc.ca/evenements/la-grande-guignolee-des-medias-de-la-rive-sud-2024/
CATEGORIES:Autres
ATTACH;FMTTYPE=image/png:https://ccirs.qc.ca/wp-content/uploads/2024/11/Guignolee-2024_1200-x-628.png
END:VEVENT
END:VCALENDAR