BEGIN:VCALENDAR
VERSION:2.0
PRODID:-//CCIRS - ECPv6.15.18//NONSGML v1.0//EN
CALSCALE:GREGORIAN
METHOD:PUBLISH
X-ORIGINAL-URL:https://ccirs.qc.ca
X-WR-CALDESC:Évènements pour CCIRS
REFRESH-INTERVAL;VALUE=DURATION:PT1H
X-Robots-Tag:noindex
X-PUBLISHED-TTL:PT1H
BEGIN:VTIMEZONE
TZID:America/Toronto
BEGIN:DAYLIGHT
TZOFFSETFROM:-0500
TZOFFSETTO:-0400
TZNAME:EDT
DTSTART:20230312T070000
END:DAYLIGHT
BEGIN:STANDARD
TZOFFSETFROM:-0400
TZOFFSETTO:-0500
TZNAME:EST
DTSTART:20231105T060000
END:STANDARD
BEGIN:DAYLIGHT
TZOFFSETFROM:-0500
TZOFFSETTO:-0400
TZNAME:EDT
DTSTART:20240310T070000
END:DAYLIGHT
BEGIN:STANDARD
TZOFFSETFROM:-0400
TZOFFSETTO:-0500
TZNAME:EST
DTSTART:20241103T060000
END:STANDARD
BEGIN:DAYLIGHT
TZOFFSETFROM:-0500
TZOFFSETTO:-0400
TZNAME:EDT
DTSTART:20250309T070000
END:DAYLIGHT
BEGIN:STANDARD
TZOFFSETFROM:-0400
TZOFFSETTO:-0500
TZNAME:EST
DTSTART:20251102T060000
END:STANDARD
END:VTIMEZONE
BEGIN:VEVENT
DTSTART;TZID=America/Toronto:20240802T100000
DTEND;TZID=America/Toronto:20240802T160000
DTSTAMP:20260422T183232
CREATED:20240704T214020Z
LAST-MODIFIED:20240710T145737Z
UID:11472-1722592800-1722614400@ccirs.qc.ca
SUMMARY:Festi-Pétanque la Marseillaise : tournoi inter-entreprises 2024
DESCRIPTION:Pétanque 101 et le Festi-Pétanque la Marseillaise\, le plus grand tournoi de pétanque en Amérique du Nord\, invitent les entreprises de la Rive-Sud à s’inscrire au tournoi inter-entreprises qui se tiendra la 2 août prochain au Parc St. Mark\, en plein cœur du Vieux-Longueuil.\nPlusieurs moments de réseautage sont prévus durant la journée pour vous permettre de créer des liens privilégiés avec la communauté d’affaires de la Rive-Sud et de profiter de nombreuses opportunités de maillage. \nPour plus de détails sur Pétanque 101\, la seule compagnie en Team building pétanque au Québec\, ainsi que les détails du tournoi inter-entreprises\, visitez leur site web. \nPour plus de détails sur le Festi-Pétanque la Marseillaise\, suivez leur page Facebook \nInformations importantes : \n\n Il y aura 4 participants par équipe. Seulement 3 personnes jouent durant une partie. Ainsi\, chaque équipe a droit à un remplacement par partie.\nChaque équipe est assurée de jouer 3 parties de classement et une finale\, le cas échéant.\nDes boules pourront être fournies sur place.\nPour des questions de sécurité\, vous devrez porter des chaussures fermées.\n\nTarifs :  \nÉquipe (4 participants) : 245$ (+ taxes) avec le code CCIRS250 \nLe prix inclut 4 boîtes à lunch\, 4 coupons pour boissons sans alcool\, 4 coupons pour boissons alcoolisées et 4 coupons pour tirage de prix de présence. \nInscription
URL:https://ccirs.qc.ca/evenements/festi-petanque-la-marseillaise-tournoi-inter-entreprises-2024/
LOCATION:Parc St. Mark\, 340 Rue Saint-Charles O\, Longueuil\, Québec\, J4H 1E8\, Canada
CATEGORIES:Autres
ATTACH;FMTTYPE=image/png:https://ccirs.qc.ca/wp-content/uploads/2024/07/Petanque_1200-x-628.png
END:VEVENT
END:VCALENDAR