BEGIN:VCALENDAR
VERSION:2.0
PRODID:-//CCIRS - ECPv6.15.18//NONSGML v1.0//EN
CALSCALE:GREGORIAN
METHOD:PUBLISH
X-WR-CALNAME:CCIRS
X-ORIGINAL-URL:https://ccirs.qc.ca
X-WR-CALDESC:Évènements pour CCIRS
REFRESH-INTERVAL;VALUE=DURATION:PT1H
X-Robots-Tag:noindex
X-PUBLISHED-TTL:PT1H
BEGIN:VTIMEZONE
TZID:America/Toronto
BEGIN:DAYLIGHT
TZOFFSETFROM:-0500
TZOFFSETTO:-0400
TZNAME:EDT
DTSTART:20220313T070000
END:DAYLIGHT
BEGIN:STANDARD
TZOFFSETFROM:-0400
TZOFFSETTO:-0500
TZNAME:EST
DTSTART:20221106T060000
END:STANDARD
BEGIN:DAYLIGHT
TZOFFSETFROM:-0500
TZOFFSETTO:-0400
TZNAME:EDT
DTSTART:20230312T070000
END:DAYLIGHT
BEGIN:STANDARD
TZOFFSETFROM:-0400
TZOFFSETTO:-0500
TZNAME:EST
DTSTART:20231105T060000
END:STANDARD
BEGIN:DAYLIGHT
TZOFFSETFROM:-0500
TZOFFSETTO:-0400
TZNAME:EDT
DTSTART:20240310T070000
END:DAYLIGHT
BEGIN:STANDARD
TZOFFSETFROM:-0400
TZOFFSETTO:-0500
TZNAME:EST
DTSTART:20241103T060000
END:STANDARD
END:VTIMEZONE
BEGIN:VEVENT
DTSTART;TZID=America/Toronto:20231207T070000
DTEND;TZID=America/Toronto:20231207T180000
DTSTAMP:20260423T071257
CREATED:20231113T213246Z
LAST-MODIFIED:20231114T145925Z
UID:10354-1701932400-1701972000@ccirs.qc.ca
SUMMARY:La Grande Guignolée des médias de la Rive-Sud 2023
DESCRIPTION:Encore une fois cette année\, nous sommes fiers de participer à la Grande Guignolée des médias de la Rive-Sud qui se tiendra le 7 décembre prochain. En collaboration avec Télévision Rive-Sud (TVRS)\, l’équipe de la Chambre se rendra directement dans les entreprises participantes pour récupérer des denrées non périssables ou des dons en argent\, dans le but de venir en aide aux personnes dans le besoin.  \nNous invitons chaleureusement nos membres et les entreprises du territoire à s’engager et à faire preuve de générosité en contribuant à cette cause importante. À titre de seconde région économique en importance au Québec\, la participation des entreprises du territoire peut apporter une contribution significative pour soutenir les personnes et les familles dans le besoin\, tout en reflétant la solidarité exemplaire de la communauté d’affaires de la Rive-Sud.  \n« Dans l’incertitude économique actuelle\, la force de la communauté d’affaires réside dans sa mobilisation et sa solidarité. La Guignolée 2023 nous rappelle notre responsabilité envers ceux qui comptent sur notre soutien et notre générosité. Il s’agit d’une splendide opportunité de montrer qu’ensemble\, nous pouvons bâtir un avenir de bienveillance\, d’entraide et de perspectives positives »\, explique Jean-François Lévesque\, parrain d’honneur de la Grande Guignolée des médias de la Rive-Sud et président-directeur général de la Chambre de commerce et d’industrie de la Rive-Sud  \nLa Chambre remercie d’avance toutes les entreprises qui s’engageront dans cette démarche et souligne l’importance de faire de cette saison des fêtes un moment de partage et de solidarité pour l’ensemble de la communauté.  \nLes entreprises souhaitant participer à cette initiative peuvent s’inscrire en cliquant sur ce lien. \n  \nEn collaboration avec : 
URL:https://ccirs.qc.ca/evenements/la-grande-guignolee-des-medias-de-la-rive-sud-2023/
CATEGORIES:Autres
ATTACH;FMTTYPE=image/jpeg:https://ccirs.qc.ca/wp-content/uploads/2023/11/Guignolee-2023_1200-x-628.jpg
END:VEVENT
END:VCALENDAR