BEGIN:VCALENDAR
VERSION:2.0
PRODID:-//CCIRS - ECPv6.15.18//NONSGML v1.0//EN
CALSCALE:GREGORIAN
METHOD:PUBLISH
X-ORIGINAL-URL:https://ccirs.qc.ca
X-WR-CALDESC:Évènements pour CCIRS
REFRESH-INTERVAL;VALUE=DURATION:PT1H
X-Robots-Tag:noindex
X-PUBLISHED-TTL:PT1H
BEGIN:VTIMEZONE
TZID:America/Toronto
BEGIN:DAYLIGHT
TZOFFSETFROM:-0500
TZOFFSETTO:-0400
TZNAME:EDT
DTSTART:20220313T070000
END:DAYLIGHT
BEGIN:STANDARD
TZOFFSETFROM:-0400
TZOFFSETTO:-0500
TZNAME:EST
DTSTART:20221106T060000
END:STANDARD
BEGIN:DAYLIGHT
TZOFFSETFROM:-0500
TZOFFSETTO:-0400
TZNAME:EDT
DTSTART:20230312T070000
END:DAYLIGHT
BEGIN:STANDARD
TZOFFSETFROM:-0400
TZOFFSETTO:-0500
TZNAME:EST
DTSTART:20231105T060000
END:STANDARD
BEGIN:DAYLIGHT
TZOFFSETFROM:-0500
TZOFFSETTO:-0400
TZNAME:EDT
DTSTART:20240310T070000
END:DAYLIGHT
BEGIN:STANDARD
TZOFFSETFROM:-0400
TZOFFSETTO:-0500
TZNAME:EST
DTSTART:20241103T060000
END:STANDARD
END:VTIMEZONE
BEGIN:VEVENT
DTSTART;TZID=America/Toronto:20230803T133000
DTEND;TZID=America/Toronto:20230803T183000
DTSTAMP:20260423T131037
CREATED:20230417T154236Z
LAST-MODIFIED:20230602T123815Z
UID:9530-1691069400-1691087400@ccirs.qc.ca
SUMMARY:Tournoi de pétanque interentreprises
DESCRIPTION:Festi-Pétanque la Marseillaise\, le plus grand rassemblement de pétanque sportive et de compétition\, invite les entreprises de la Rive-Sud à s’inscrire au tournoi Interentreprises qui se tiendra la 3 août prochain\, au Parc St-Mark\, en plein cœur du Vieux-Longueuil. \nÉquipes de 3 personnes – les joueurs individuels seront jumelés en équipe de 3 ! \nEn cas de pluie\, l’évènement sera annulé et les participants seront remboursés. \nPour plus de détails sur le Festi-Pétanque La Marseillaise et connaître la programmation complète de l’événement\, suivez leur page Facebook \nTarifs :  \nIndividuel : Membres : 55 $ – Non-membres : 65 $ \nÉquipe (3) : Membres : 150 $ – Non-membres : 180 $ \nInscription
URL:https://ccirs.qc.ca/evenements/tournoi-de-petanque-interentreprises/
LOCATION:Vieux-Longueuil
CATEGORIES:Autres
ATTACH;FMTTYPE=image/jpeg:https://ccirs.qc.ca/wp-content/uploads/2023/04/tournoi-de-petanque-interentreprises.jpg
ORGANIZER;CN="CCIRS":MAILTO:info@ccirs.qc.ca
END:VEVENT
END:VCALENDAR