BEGIN:VCALENDAR
VERSION:2.0
PRODID:-//CCIRS - ECPv6.15.18//NONSGML v1.0//EN
CALSCALE:GREGORIAN
METHOD:PUBLISH
X-WR-CALNAME:CCIRS
X-ORIGINAL-URL:https://ccirs.qc.ca
X-WR-CALDESC:Évènements pour CCIRS
REFRESH-INTERVAL;VALUE=DURATION:PT1H
X-Robots-Tag:noindex
X-PUBLISHED-TTL:PT1H
BEGIN:VTIMEZONE
TZID:America/Toronto
BEGIN:DAYLIGHT
TZOFFSETFROM:-0500
TZOFFSETTO:-0400
TZNAME:EDT
DTSTART:20210314T070000
END:DAYLIGHT
BEGIN:STANDARD
TZOFFSETFROM:-0400
TZOFFSETTO:-0500
TZNAME:EST
DTSTART:20211107T060000
END:STANDARD
BEGIN:DAYLIGHT
TZOFFSETFROM:-0500
TZOFFSETTO:-0400
TZNAME:EDT
DTSTART:20220313T070000
END:DAYLIGHT
BEGIN:STANDARD
TZOFFSETFROM:-0400
TZOFFSETTO:-0500
TZNAME:EST
DTSTART:20221106T060000
END:STANDARD
BEGIN:DAYLIGHT
TZOFFSETFROM:-0500
TZOFFSETTO:-0400
TZNAME:EDT
DTSTART:20230312T070000
END:DAYLIGHT
BEGIN:STANDARD
TZOFFSETFROM:-0400
TZOFFSETTO:-0500
TZNAME:EST
DTSTART:20231105T060000
END:STANDARD
END:VTIMEZONE
BEGIN:VEVENT
DTSTART;TZID=America/Toronto:20220323T083000
DTEND;TZID=America/Toronto:20220323T093000
DTSTAMP:20260424T152920
CREATED:20220303T144455Z
LAST-MODIFIED:20220303T151023Z
UID:7663-1648024200-1648027800@ccirs.qc.ca
SUMMARY:Pourquoi votre transfert d'entreprise ne sera pas un succès?
DESCRIPTION:Cherchez-vous la voie pour progresser dans votre processus de transfert?\nAvez-vous peur que celui-ci échoue? \nPar où commencer pour assurer une transition harmonieuse dans le cadre de la vente de son entreprise? \nJoignez-vous à Josée Blondin\, experte en processus de relève\, le 23 mars prochain à 8h30 pour le webinaire : \nPourquoi votre transfert ne sera pas un succès? \nLe webinaire vous aidera à vous poser les bonnes questions pour propulser avec succès le transfert de votre entreprise et…. \n\nvous donner le goût d’avancer dans votre transaction\nfaire avancer la relève et le cédant en équipe de partenaires d’affaires\nfaire passer votre processus de relève de rêve à projet réel!\n\nRéservez votre place dès maintenant :
URL:https://ccirs.qc.ca/evenements/pourquoi-votre-transfert-dentreprise-ne-sera-pas-un-succes/
CATEGORIES:Autres
ATTACH;FMTTYPE=image/png:https://ccirs.qc.ca/wp-content/uploads/2022/03/Releve-Webinaire.png
END:VEVENT
END:VCALENDAR