BEGIN:VCALENDAR
VERSION:2.0
PRODID:-//CCIRS - ECPv6.15.18//NONSGML v1.0//EN
CALSCALE:GREGORIAN
METHOD:PUBLISH
X-ORIGINAL-URL:https://ccirs.qc.ca
X-WR-CALDESC:Évènements pour CCIRS
REFRESH-INTERVAL;VALUE=DURATION:PT1H
X-Robots-Tag:noindex
X-PUBLISHED-TTL:PT1H
BEGIN:VTIMEZONE
TZID:America/Toronto
BEGIN:DAYLIGHT
TZOFFSETFROM:-0500
TZOFFSETTO:-0400
TZNAME:EDT
DTSTART:20210314T070000
END:DAYLIGHT
BEGIN:STANDARD
TZOFFSETFROM:-0400
TZOFFSETTO:-0500
TZNAME:EST
DTSTART:20211107T060000
END:STANDARD
BEGIN:DAYLIGHT
TZOFFSETFROM:-0500
TZOFFSETTO:-0400
TZNAME:EDT
DTSTART:20220313T070000
END:DAYLIGHT
BEGIN:STANDARD
TZOFFSETFROM:-0400
TZOFFSETTO:-0500
TZNAME:EST
DTSTART:20221106T060000
END:STANDARD
BEGIN:DAYLIGHT
TZOFFSETFROM:-0500
TZOFFSETTO:-0400
TZNAME:EDT
DTSTART:20230312T070000
END:DAYLIGHT
BEGIN:STANDARD
TZOFFSETFROM:-0400
TZOFFSETTO:-0500
TZNAME:EST
DTSTART:20231105T060000
END:STANDARD
END:VTIMEZONE
BEGIN:VEVENT
DTSTART;TZID=America/Toronto:20220308T083000
DTEND;TZID=America/Toronto:20220308T103000
DTSTAMP:20260424T153142
CREATED:20220225T203306Z
LAST-MODIFIED:20220225T204214Z
UID:7652-1646728200-1646735400@ccirs.qc.ca
SUMMARY:Mémo\, mon assistant pour la francisation
DESCRIPTION:Présentation virtuelle des services Mémo\, mon assistant pour la francisation\nL’Office québécois de la langue française vous invite à une présentation virtuelle de ses services Mémo\, mon assistant pour la francisation. \nCe sera l’occasion d’en savoir plus sur ces services d’accompagnement gratuits qui s’adressent aux entreprises employant moins de 50 personnes. Vous pouvez dès maintenant bénéficier de l’expertise de l’Office afin d’adopter de bonnes pratiques linguistiques\, et ce\, à votre rythme.  \nDate : le mardi 8 mars\, de 9 h 30 à 10 h 30 \n  \nPour participer à l’une d’elles\, veuillez transmettre votre nom\, vos coordonnées et la date choisie à l’adresse accompagnement@oqlf.gouv.qc.ca. Une invitation Teams vous sera envoyé.
URL:https://ccirs.qc.ca/evenements/memo-mon-assistant-pour-la-francisation/
CATEGORIES:Autres
ATTACH;FMTTYPE=image/png:https://ccirs.qc.ca/wp-content/uploads/2022/02/Bandeau_Mémo_1350x400_V1-2.png
ORGANIZER;CN="OQLF":MAILTO:accompagnement@oqlf.gouv.qc.ca
END:VEVENT
END:VCALENDAR