BEGIN:VCALENDAR
VERSION:2.0
PRODID:-//CCIRS - ECPv6.15.18//NONSGML v1.0//EN
CALSCALE:GREGORIAN
METHOD:PUBLISH
X-ORIGINAL-URL:https://ccirs.qc.ca
X-WR-CALDESC:Évènements pour CCIRS
REFRESH-INTERVAL;VALUE=DURATION:PT1H
X-Robots-Tag:noindex
X-PUBLISHED-TTL:PT1H
BEGIN:VTIMEZONE
TZID:America/Toronto
BEGIN:DAYLIGHT
TZOFFSETFROM:-0500
TZOFFSETTO:-0400
TZNAME:EDT
DTSTART:20200308T070000
END:DAYLIGHT
BEGIN:STANDARD
TZOFFSETFROM:-0400
TZOFFSETTO:-0500
TZNAME:EST
DTSTART:20201101T060000
END:STANDARD
BEGIN:DAYLIGHT
TZOFFSETFROM:-0500
TZOFFSETTO:-0400
TZNAME:EDT
DTSTART:20210314T070000
END:DAYLIGHT
BEGIN:STANDARD
TZOFFSETFROM:-0400
TZOFFSETTO:-0500
TZNAME:EST
DTSTART:20211107T060000
END:STANDARD
BEGIN:DAYLIGHT
TZOFFSETFROM:-0500
TZOFFSETTO:-0400
TZNAME:EDT
DTSTART:20220313T070000
END:DAYLIGHT
BEGIN:STANDARD
TZOFFSETFROM:-0400
TZOFFSETTO:-0500
TZNAME:EST
DTSTART:20221106T060000
END:STANDARD
END:VTIMEZONE
BEGIN:VEVENT
DTSTART;TZID=America/Toronto:20210526T110000
DTEND;TZID=America/Toronto:20210526T113000
DTSTAMP:20260425T073422
CREATED:20210507T131319Z
LAST-MODIFIED:20210511T175531Z
UID:6174-1622026800-1622028600@ccirs.qc.ca
SUMMARY:Lancement du projet Avec vous jusqu'au bout: Desjardins et la CCIRS accompagnent les PME
DESCRIPTION:La CCIRS lance\, en collaboration avec Desjardins\, le projet Avec vous jusqu’au bout. \nPossible grâce à la participation financière du Fonds du Grand Mouvement de Desjardins\, ce programme permet d’offrir\, à 35 petites et moyennes entreprises de la Rive-Sud\, un accompagnement personnalisé avec des consultants externes choisis en fonction de leurs défis et besoins. \nIntéressé à en savoir plus sur le projet?\nPendant cet événement\, Desjardins et la CCIRS vous introduira le fonctionnement\, les critères d’admission\, les bénéfices ainsi que les partenaires du programme. \n. \nConsulter la page web du projet > \n. \nINSCRIPTION \n  \n 
URL:https://ccirs.qc.ca/evenements/lancement-du-projet-avec-vous-jusquau-bout-desjardins-et-la-ccirs-accompagnent-les-pme/
CATEGORIES:Autres
ATTACH;FMTTYPE=image/jpeg:https://ccirs.qc.ca/wp-content/uploads/2021/02/Visuel_1200x628.jpg
ORGANIZER;CN="CCIRS":MAILTO:info@ccirs.qc.ca
END:VEVENT
END:VCALENDAR