BEGIN:VCALENDAR
VERSION:2.0
PRODID:-//CCIRS - ECPv6.15.18//NONSGML v1.0//EN
CALSCALE:GREGORIAN
METHOD:PUBLISH
X-WR-CALNAME:CCIRS
X-ORIGINAL-URL:https://ccirs.qc.ca
X-WR-CALDESC:Évènements pour CCIRS
REFRESH-INTERVAL;VALUE=DURATION:PT1H
X-Robots-Tag:noindex
X-PUBLISHED-TTL:PT1H
BEGIN:VTIMEZONE
TZID:America/Toronto
BEGIN:DAYLIGHT
TZOFFSETFROM:-0500
TZOFFSETTO:-0400
TZNAME:EDT
DTSTART:20200308T070000
END:DAYLIGHT
BEGIN:STANDARD
TZOFFSETFROM:-0400
TZOFFSETTO:-0500
TZNAME:EST
DTSTART:20201101T060000
END:STANDARD
BEGIN:DAYLIGHT
TZOFFSETFROM:-0500
TZOFFSETTO:-0400
TZNAME:EDT
DTSTART:20210314T070000
END:DAYLIGHT
BEGIN:STANDARD
TZOFFSETFROM:-0400
TZOFFSETTO:-0500
TZNAME:EST
DTSTART:20211107T060000
END:STANDARD
BEGIN:DAYLIGHT
TZOFFSETFROM:-0500
TZOFFSETTO:-0400
TZNAME:EDT
DTSTART:20220313T070000
END:DAYLIGHT
BEGIN:STANDARD
TZOFFSETFROM:-0400
TZOFFSETTO:-0500
TZNAME:EST
DTSTART:20221106T060000
END:STANDARD
END:VTIMEZONE
BEGIN:VEVENT
DTSTART;TZID=America/Toronto:20210311T120000
DTEND;TZID=America/Toronto:20210311T134500
DTSTAMP:20260425T102932
CREATED:20210203T162922Z
LAST-MODIFIED:20210203T164424Z
UID:5718-1615464000-1615470300@ccirs.qc.ca
SUMMARY:Mois de promotion du commerce interprovincial  –  Le marché des biens de consommation au Canada
DESCRIPTION:La demande en matière de biens de consommation n’a cessé de progresser durant la pandémie. De nombreuses catégories de produits tels que les meubles\, l’habillement\, les produits de soins et de beauté ou encore la quincaillerie ont connu une demande croissante au cours des derniers mois. \nProfitez des connaissances et de l’expertise des cheffes de poste des Bureaux du Québec au Canada pour découvrir les occasions d’affaires dans ce secteur et bien positionner vos produits auprès des acheteurs canadiens des grandes chaînes de détaillants. \nDe plus\, vous profiterez de conseils avisés et de l’expérience d’une entreprise qui a développé avec succès ses activités et a su se démarquer sur ce marché. \nVous aurez également le privilège de pouvoir échanger de façon personnalisée avec les chefs de poste des Bureaux du Québec au Canada\, les représentants d’Investissement Québec et des organismes régionaux de promotion des exportations sur votre stratégie de croissance hors Québec lors d’une séance de réseautage éclair d’une durée de 8 minutes par entreprise à laquelle vous serez convié\, si vous souhaitez y participer\, entre 14 h et 16 h*. \nUn rendez-vous à ne pas manquer pour échanger avec les chefs de poste et réfléchir à votre stratégie de relance et de croissance hors Québec en commençant par nos voisins canadiens! \n  \n \nIntervenants : \n– Catherine Tadros\, cheffe de poste\, Bureau du Québec à Toronto\n– Maud-Andrée Lefebvre\, cheffe de poste\, Bureau du Québec dans les Provinces atlantiques\n– Agnès Gatignol\, directrice\, Export\, Marchés canadiens\, Investissement Québec International\n– Nadine Brassard\, présidente\, Commerce International Québec\n– René Vézina\, journaliste et chroniqueur économique\n– Vicky Boudreau\, chef de la direction et partenaire fondatrice\, bicom\n– Aude St-Pierre-Gagné\, directrice des ventes et conseillère technique\, Ganterie BCL Ltée \n  \n*Date limite pour l’inscription au réseautage éclair : 8 mars – Les places étant limitées\, les entreprises sélectionnées seront contactées au préalable. \nInscription\n  \n  \nProchain événement de la série Mois de promotion du commerce interprovincial à ne pas manquer: \nLe marché du transport au Canada : 18 mars\, de 12 h à 13 h 45  \n 
URL:https://ccirs.qc.ca/evenements/mois-de-promotion-du-commerce-interprovincial-le-marche-des-biens-de-consommation-au-canada/
CATEGORIES:Autres
ATTACH;FMTTYPE=image/png:https://ccirs.qc.ca/wp-content/uploads/2021/02/Biens-de-conso_Mois-de-promotion-du-commerce-interprovincial.png
END:VEVENT
END:VCALENDAR