BEGIN:VCALENDAR
VERSION:2.0
PRODID:-//CCIRS - ECPv6.15.18//NONSGML v1.0//EN
CALSCALE:GREGORIAN
METHOD:PUBLISH
X-WR-CALNAME:CCIRS
X-ORIGINAL-URL:https://ccirs.qc.ca
X-WR-CALDESC:Évènements pour CCIRS
REFRESH-INTERVAL;VALUE=DURATION:PT1H
X-Robots-Tag:noindex
X-PUBLISHED-TTL:PT1H
BEGIN:VTIMEZONE
TZID:America/Toronto
BEGIN:DAYLIGHT
TZOFFSETFROM:-0500
TZOFFSETTO:-0400
TZNAME:EDT
DTSTART:20200308T070000
END:DAYLIGHT
BEGIN:STANDARD
TZOFFSETFROM:-0400
TZOFFSETTO:-0500
TZNAME:EST
DTSTART:20201101T060000
END:STANDARD
BEGIN:DAYLIGHT
TZOFFSETFROM:-0500
TZOFFSETTO:-0400
TZNAME:EDT
DTSTART:20210314T070000
END:DAYLIGHT
BEGIN:STANDARD
TZOFFSETFROM:-0400
TZOFFSETTO:-0500
TZNAME:EST
DTSTART:20211107T060000
END:STANDARD
BEGIN:DAYLIGHT
TZOFFSETFROM:-0500
TZOFFSETTO:-0400
TZNAME:EDT
DTSTART:20220313T070000
END:DAYLIGHT
BEGIN:STANDARD
TZOFFSETFROM:-0400
TZOFFSETTO:-0500
TZNAME:EST
DTSTART:20221106T060000
END:STANDARD
END:VTIMEZONE
BEGIN:VEVENT
DTSTART;TZID=America/Toronto:20210218T120000
DTEND;TZID=America/Toronto:20210218T140000
DTSTAMP:20260425T115046
CREATED:20210203T154840Z
LAST-MODIFIED:20210203T163923Z
UID:5695-1613649600-1613656800@ccirs.qc.ca
SUMMARY:Mois de promotion du commerce interprovincial –  Activité de lancement multisectorielle
DESCRIPTION:Diversifiez vos marchés tout près de chez vous\, en profitant des nombreuses occasions d’affaires à travers le Canada et des avantages de l’Accord de libre-échange canadien (ALEC). \nCette rencontre virtuelle vous permettra d’échanger avec des intervenants de premier ordre sur les occasions d’affaires à saisir. Ainsi\, nos intervenants aborderont les particularités propres aux marchés des autres provinces et territoires du Canada\, discuteront des secteurs à surveiller pour la relance et vous donneront quelques conseils sur les meilleures stratégies à adopter pour réussir votre développement de marché à l’échelle interprovinciale. \nDe plus\, vous profiterez de conseils avisés et de l’expérience d’entreprises qui ont développé avec succès leurs activités et ont su se démarquer sur ce marché. \nVous aurez également le privilège de pouvoir échanger de façon personnalisée avec les chefs de poste des Bureaux du Québec au Canada\, les représentants d’Investissement Québec et des organismes régionaux de promotion des exportations sur votre stratégie de croissance hors Québec lors d’une séance de réseautage éclair d’une durée de 8 minutes par entreprise à laquelle vous serez convié\, si vous souhaitez y participer\, entre 14 h 15 et 16 h 15*. \nUn rendez-vous à ne pas manquer pour échanger avec les chefs de poste et réfléchir à votre stratégie de relance et de croissance hors Québec en commençant par nos voisins canadiens! \n \nIntervenants : \n– Hubert Bolduc\, président\, Investissement Québec International\n– Catherine Tadros\, cheffe de poste\, Bureau du Québec à Toronto\n– Maud-Andrée Lefebvre\, cheffe de poste\, Bureau du Québec dans les Provinces atlantiques\n– Mario Lavoie\, chef de poste et conseiller spécial en matière de Relations canadiennes\, Bureau du Québec à Ottawa\n– Marie-Andrée Marquis\, représentante du commerce intérieur\, Direction générale de la politique commerciale\, Ministère de l’Économie et de l’Innovation\n– Nadine Brassard\, présidente\, Commerce International Québec\n– René Vézina\, journaliste et chroniqueur économique\n– Jacques Gauthier\, vice-président\, Développement des affaires\, Upbrella Construction\n– Linda Timperio\, représentante\, Industrie Century \n  \n*Date limite pour l’inscription au réseautage éclair : 15 février – Les places étant limitées\, les entreprises sélectionnées seront contactées au préalable. \nInscription\n  \n  \nAutres événements de la série Mois de promotion du commerce interprovincial à ne pas manquer: \nLe marché de l’agroalimentaire au Canada : 25 février\, de 12 h à 13 h 45 \nLe marché des technologies de l’information et du divertissement au Canada : 9 mars\, de 12 h à 13 h 45 \nLe marché des biens de consommation au Canada : 11 mars\, de 12 h à 13 h 45 \nLe marché du transport au Canada : 18 mars\, de 12 h à 13 h 45
URL:https://ccirs.qc.ca/evenements/mois-de-promotion-du-commerce-interprovincial-activite-de-lancement-multisectorielle/
CATEGORIES:Autres
ATTACH;FMTTYPE=image/png:https://ccirs.qc.ca/wp-content/uploads/2021/02/Multisectoriel__Mois-de-promotion-du-commerce-interprovincial.png
END:VEVENT
END:VCALENDAR