BEGIN:VCALENDAR
VERSION:2.0
PRODID:-//CCIRS - ECPv6.15.18//NONSGML v1.0//EN
CALSCALE:GREGORIAN
METHOD:PUBLISH
X-WR-CALNAME:CCIRS
X-ORIGINAL-URL:https://ccirs.qc.ca
X-WR-CALDESC:Évènements pour CCIRS
REFRESH-INTERVAL;VALUE=DURATION:PT1H
X-Robots-Tag:noindex
X-PUBLISHED-TTL:PT1H
BEGIN:VTIMEZONE
TZID:America/Toronto
BEGIN:DAYLIGHT
TZOFFSETFROM:-0500
TZOFFSETTO:-0400
TZNAME:EDT
DTSTART:20200308T070000
END:DAYLIGHT
BEGIN:STANDARD
TZOFFSETFROM:-0400
TZOFFSETTO:-0500
TZNAME:EST
DTSTART:20201101T060000
END:STANDARD
BEGIN:DAYLIGHT
TZOFFSETFROM:-0500
TZOFFSETTO:-0400
TZNAME:EDT
DTSTART:20210314T070000
END:DAYLIGHT
BEGIN:STANDARD
TZOFFSETFROM:-0400
TZOFFSETTO:-0500
TZNAME:EST
DTSTART:20211107T060000
END:STANDARD
BEGIN:DAYLIGHT
TZOFFSETFROM:-0500
TZOFFSETTO:-0400
TZNAME:EDT
DTSTART:20220313T070000
END:DAYLIGHT
BEGIN:STANDARD
TZOFFSETFROM:-0400
TZOFFSETTO:-0500
TZNAME:EST
DTSTART:20221106T060000
END:STANDARD
END:VTIMEZONE
BEGIN:VEVENT
DTSTART;TZID=America/Toronto:20210309T120000
DTEND;TZID=America/Toronto:20210309T134500
DTSTAMP:20260425T084847
CREATED:20210203T162150Z
LAST-MODIFIED:20210203T164345Z
UID:5714-1615291200-1615297500@ccirs.qc.ca
SUMMARY:Mois de promotion du commerce interprovincial –  Le marché des technologies de l'information et du divertissement au Canada
DESCRIPTION:La crise sanitaire mondiale a démontré la nécessité de moderniser non seulement notre économie et nos industries\, mais également nos pratiques et nos technologies. L’innovation est l’un des principaux leviers de transformation pour assurer une relance plus verte et durable. Secteur en pleine expansion\, les technologies de l’information\, des communications et du divertissement présente des occasions d’affaires à ne pas manquer\, notamment sur le marché canadien. \nDes « Fintech » à Toronto\, aux défis associés à la croissance du secteur des technologies numériques en Atlantique\, en passant par les besoins permanents en matière de sécurité informatique\, les cheffes de poste des Bureaux du Québec au Canada mettront en lumière les occasions d’affaires offertes sur le marché canadien. Également propulsée par le numérique\, l’industrie du divertissement fera l’objet d’échanges avec nos experts. \nDe plus\, vous profiterez de conseils avisés et de l’expérience d’une entreprise qui a développé avec succès ses activités et a su se démarquer sur ce marché. \nVous aurez également le privilège de pouvoir échanger de façon personnalisée avec les chefs de poste des Bureaux du Québec au Canada\, les représentants d’Investissement Québec et des organismes régionaux de promotion des exportations sur votre stratégie de croissance hors Québec lors d’une séance de réseautage éclair d’une durée de 8 minutes par entreprise à laquelle vous serez convié\, si vous souhaitez y participer\, entre 14 h et 16 h *. \nUn rendez-vous à ne pas manquer pour échanger avec les chefs de poste et réfléchir à votre stratégie de relance et de croissance hors Québec en commençant par nos voisins canadiens! \n \n  \nIntervenants : \n– Catherine Tadros\, cheffe de poste\, Bureau du Québec à Toronto\n– Maud-Andrée Lefebvre\, cheffe de poste\, Bureau du Québec dans les Provinces atlantiques\n-Agnès Gatignol\, directrice\, Export\, Marchés canadiens\, Investissement Québec International\n– Nadine Brassard\, présidente\, Commerce International Québec\n– René Vézina\, journaliste et chroniqueur économique\n– Mehdi Merai\, co-fondateur et président-directeur général\, Dataperformers \n  \n*Date limite pour l’inscription au réseautage éclair : 5 mars – Les places étant limitées\, les entreprises sélectionnées seront contactées au préalable. \nInscription\n  \nAutres événements de la série Mois de promotion du commerce interprovincial à ne pas manquer: \nLe marché des biens de consommation au Canada : 11 mars\, de 12 h à 13 h 45 \nLe marché du transport au Canada : 18 mars\, de 12 h à 13 h 45 \n 
URL:https://ccirs.qc.ca/evenements/mois-de-promotion-du-commerce-interprovincial-le-marche-des-technologies-de-linformation-et-du-divertissement-au-canada/
CATEGORIES:Autres
ATTACH;FMTTYPE=image/png:https://ccirs.qc.ca/wp-content/uploads/2021/02/TIC_Mois-de-promotion-du-commerce-interprovincial.png
END:VEVENT
BEGIN:VEVENT
DTSTART;TZID=America/Toronto:20210311T120000
DTEND;TZID=America/Toronto:20210311T134500
DTSTAMP:20260425T084847
CREATED:20210203T162922Z
LAST-MODIFIED:20210203T164424Z
UID:5718-1615464000-1615470300@ccirs.qc.ca
SUMMARY:Mois de promotion du commerce interprovincial  –  Le marché des biens de consommation au Canada
DESCRIPTION:La demande en matière de biens de consommation n’a cessé de progresser durant la pandémie. De nombreuses catégories de produits tels que les meubles\, l’habillement\, les produits de soins et de beauté ou encore la quincaillerie ont connu une demande croissante au cours des derniers mois. \nProfitez des connaissances et de l’expertise des cheffes de poste des Bureaux du Québec au Canada pour découvrir les occasions d’affaires dans ce secteur et bien positionner vos produits auprès des acheteurs canadiens des grandes chaînes de détaillants. \nDe plus\, vous profiterez de conseils avisés et de l’expérience d’une entreprise qui a développé avec succès ses activités et a su se démarquer sur ce marché. \nVous aurez également le privilège de pouvoir échanger de façon personnalisée avec les chefs de poste des Bureaux du Québec au Canada\, les représentants d’Investissement Québec et des organismes régionaux de promotion des exportations sur votre stratégie de croissance hors Québec lors d’une séance de réseautage éclair d’une durée de 8 minutes par entreprise à laquelle vous serez convié\, si vous souhaitez y participer\, entre 14 h et 16 h*. \nUn rendez-vous à ne pas manquer pour échanger avec les chefs de poste et réfléchir à votre stratégie de relance et de croissance hors Québec en commençant par nos voisins canadiens! \n  \n \nIntervenants : \n– Catherine Tadros\, cheffe de poste\, Bureau du Québec à Toronto\n– Maud-Andrée Lefebvre\, cheffe de poste\, Bureau du Québec dans les Provinces atlantiques\n– Agnès Gatignol\, directrice\, Export\, Marchés canadiens\, Investissement Québec International\n– Nadine Brassard\, présidente\, Commerce International Québec\n– René Vézina\, journaliste et chroniqueur économique\n– Vicky Boudreau\, chef de la direction et partenaire fondatrice\, bicom\n– Aude St-Pierre-Gagné\, directrice des ventes et conseillère technique\, Ganterie BCL Ltée \n  \n*Date limite pour l’inscription au réseautage éclair : 8 mars – Les places étant limitées\, les entreprises sélectionnées seront contactées au préalable. \nInscription\n  \n  \nProchain événement de la série Mois de promotion du commerce interprovincial à ne pas manquer: \nLe marché du transport au Canada : 18 mars\, de 12 h à 13 h 45  \n 
URL:https://ccirs.qc.ca/evenements/mois-de-promotion-du-commerce-interprovincial-le-marche-des-biens-de-consommation-au-canada/
CATEGORIES:Autres
ATTACH;FMTTYPE=image/png:https://ccirs.qc.ca/wp-content/uploads/2021/02/Biens-de-conso_Mois-de-promotion-du-commerce-interprovincial.png
END:VEVENT
BEGIN:VEVENT
DTSTART;TZID=America/Toronto:20210318T120000
DTEND;TZID=America/Toronto:20210318T134500
DTSTAMP:20260425T084847
CREATED:20210203T163620Z
LAST-MODIFIED:20210203T163621Z
UID:5722-1616068800-1616075100@ccirs.qc.ca
SUMMARY:Mois de promotion du commerce interprovincial –  Le marché du transport au Canada
DESCRIPTION:Le gouvernement du Québec s’est engagé à appuyer les entreprises du secteur du transport afin qu’elles occupent une part florissante dans la relance économique. Industrie reconnue pour son dynamisme au Québec\, venez en apprendre davantage sur les occasions d’affaires présentes d’Est en Ouest et découvrez les services d’accompagnement offerts par les Bureaux du Québec au Canada. \nDe la demande croissante en matière d’électrification des transports en Colombie-Britannique\, en passant par le secteur maritime en Nouvelle-Écosse et l’industrie automobile en Ontario\, les cheffes de poste des Bureaux du Québec au Canada dresseront un portrait exhaustif des opportunités sur leurs territoires respectifs. \nDe plus\, vous profiterez de conseils avisés et de l’expérience d’une entreprise qui a développé avec succès ses activités et a su se démarquer sur ce marché. \nVous aurez également le privilège de pouvoir échanger de façon personnalisée avec les chefs de poste des Bureaux du Québec au Canada\, les représentants d’Investissement Québec et des organismes régionaux de promotion des exportations sur votre stratégie de croissance hors Québec lors d’une séance de réseautage éclair d’une durée de 8 minutes par entreprise à laquelle vous serez convié\, si vous souhaitez y participer\, entre 14 h et 16 h*. \nUn rendez-vous à ne pas manquer pour échanger avec les chefs de poste et réfléchir à votre stratégie de relance et de croissance hors Québec en commençant par nos voisins canadiens! \n \nIntervenants: \n– Catherine Tadros\, cheffe de poste\, Bureau du Québec à Toronto\n– Maud-Andrée Lefebvre\, cheffe de poste\, Bureau du Québec dans les Provinces atlantiques\n– Agnès Gatignol\, directrice\, Export\, Marchés canadiens\, Investissement Québec International\n– Nadine Brassard\, présidente\, Commerce International Québec\n– René Vézina\, journaliste et chroniqueur économique\n– Charles Boulanger\, chef de la direction\, LeddarTech \n  \n*Date limite pour l’inscription au réseautage éclair : 8 mars – Les places étant limitées\, les entreprises sélectionnées seront contactées au préalable. \nInscription
URL:https://ccirs.qc.ca/evenements/mois-de-promotion-du-commerce-interprovincial-le-marche-du-transport-au-canada/
CATEGORIES:Autres
ATTACH;FMTTYPE=image/png:https://ccirs.qc.ca/wp-content/uploads/2021/02/Transport_Mois-de-promotion-du-commerce-interprovincial.png
END:VEVENT
END:VCALENDAR