BEGIN:VCALENDAR
VERSION:2.0
PRODID:-//CCIRS - ECPv6.15.18//NONSGML v1.0//EN
CALSCALE:GREGORIAN
METHOD:PUBLISH
X-WR-CALNAME:CCIRS
X-ORIGINAL-URL:https://ccirs.qc.ca
X-WR-CALDESC:Évènements pour CCIRS
REFRESH-INTERVAL;VALUE=DURATION:PT1H
X-Robots-Tag:noindex
X-PUBLISHED-TTL:PT1H
BEGIN:VTIMEZONE
TZID:America/Toronto
BEGIN:DAYLIGHT
TZOFFSETFROM:-0500
TZOFFSETTO:-0400
TZNAME:EDT
DTSTART:20200308T070000
END:DAYLIGHT
BEGIN:STANDARD
TZOFFSETFROM:-0400
TZOFFSETTO:-0500
TZNAME:EST
DTSTART:20201101T060000
END:STANDARD
BEGIN:DAYLIGHT
TZOFFSETFROM:-0500
TZOFFSETTO:-0400
TZNAME:EDT
DTSTART:20210314T070000
END:DAYLIGHT
BEGIN:STANDARD
TZOFFSETFROM:-0400
TZOFFSETTO:-0500
TZNAME:EST
DTSTART:20211107T060000
END:STANDARD
BEGIN:DAYLIGHT
TZOFFSETFROM:-0500
TZOFFSETTO:-0400
TZNAME:EDT
DTSTART:20220313T070000
END:DAYLIGHT
BEGIN:STANDARD
TZOFFSETFROM:-0400
TZOFFSETTO:-0500
TZNAME:EST
DTSTART:20221106T060000
END:STANDARD
END:VTIMEZONE
BEGIN:VEVENT
DTSTART;TZID=America/Toronto:20210126T120000
DTEND;TZID=America/Toronto:20210126T130000
DTSTAMP:20260425T114721
CREATED:20201119T201134Z
LAST-MODIFIED:20210120T135944Z
UID:5272-1611662400-1611666000@ccirs.qc.ca
SUMMARY:La Gouvernance accessible à tous
DESCRIPTION:L’ABC d’un conseil d’administration \nVous souhaitez siéger sur un conseil d’administration à court\, moyen ou long terme? Vous ne savez pas nécessairement par où  commencer ou comment vous y prendre?  \nCette conférence s’adresse à toute personne intéressée à se joindre à un CA ou à perfectionner ses aptitudes d’administrateur.  \nLa CCIRS est heureuse de recevoir virtuellement Sophie-Emmanuelle Chebin\, présidente d’Arsenal Conseils\, qui saura vous outiller afin d’identifier les étapes clés à suivre pour vous joindre à un conseil d’administration et développer votre pouvoir d’influence. \n  \nLes sujets abordés pendant cette rencontre: \n\nBriser les tabous populaires sur l’accessibilité\nLes types de CA existants\nLa composition et la diversité des CA\nLa marche à suivre recommandée pour mettre les chances de son côté afin de joindre un CA\nComprendre les profils et les caractéristiques recherchés\nComment développer son pouvoir d’influence\n\n  \nTarif:\nMembre: gratuit \nNon membre: gratuit \n  \nInscription\n  \n  \n \nSophie-Emmanuelle Chebin\,\nPrésidente\, Arsenal Conseils \n  \nSophie-Emmanuelle Chebin a fondé et dirige Arsenal conseils\, une entreprise indépendante de services-conseils spécialisée en gouvernance\, en stratégie et en gestion des risques.  Leader stratégique et entrepreneure\, elle accompagne depuis plus de 25 ans les équipes de direction et les conseils d’administration dans l’élaboration et le déploiement de leurs stratégies d’affaires. Elle pilote notamment des mandats de réflexion stratégique\, et de constitution\, de gestion\, d’optimisation et d’évaluation des conseils d’administration. Elle est co-auteure du blogue Jeux de sociétés publié sur LesAffaires.com. \nElle a siégé au sein de nombreux conseils d’administration au fil des ans. Elle est actuellement administratrice de l’Aéroport international Jean-Lesage de Québec (YQB)\, de l’Association de pilotage des Laurentides (APL) et de Développement international Desjardins (DID). \n  \n \nUn cabinet de services-conseils indépendant spécialisé dans les domaines d’excellence suivants: \n\nLa gouvernance. Ils offrent une expertise de pointe pour mettre sur pied et optimiser les conseils d’administration et les comités consultatifs. Ils vous accompagnent dans l’instauration d’une saine gouvernance pour renforcer votre conseil d’administration ou votre comité consultatif afin qu’il constitue un atout\, contributeur actif de votre croissance.\nLa stratégie d’entreprise. Ils vous accompagnent dans l’élaboration et l’implantation de votre plan stratégique. Quel que soit votre secteur d’activités\, ils vous épaulent dans l’élaboration et le déploiement de stratégies porteuses qui génèrent des résultats tangibles.\n\n  \n  \nCette conférence est présentée grâce à la participation financière de :
URL:https://ccirs.qc.ca/evenements/la-gouvernance-accessible-a-tous/
CATEGORIES:Autres
ATTACH;FMTTYPE=image/jpeg:https://ccirs.qc.ca/wp-content/uploads/2020/11/Visuel-1200x628-1.jpg
ORGANIZER;CN="CCIRS":MAILTO:info@ccirs.qc.ca
END:VEVENT
END:VCALENDAR