BEGIN:VCALENDAR
VERSION:2.0
PRODID:-//CCIRS - ECPv6.15.18//NONSGML v1.0//EN
CALSCALE:GREGORIAN
METHOD:PUBLISH
X-WR-CALNAME:CCIRS
X-ORIGINAL-URL:https://ccirs.qc.ca
X-WR-CALDESC:Évènements pour CCIRS
REFRESH-INTERVAL;VALUE=DURATION:PT1H
X-Robots-Tag:noindex
X-PUBLISHED-TTL:PT1H
BEGIN:VTIMEZONE
TZID:America/Toronto
BEGIN:DAYLIGHT
TZOFFSETFROM:-0500
TZOFFSETTO:-0400
TZNAME:EDT
DTSTART:20210314T070000
END:DAYLIGHT
BEGIN:STANDARD
TZOFFSETFROM:-0400
TZOFFSETTO:-0500
TZNAME:EST
DTSTART:20211107T060000
END:STANDARD
BEGIN:DAYLIGHT
TZOFFSETFROM:-0500
TZOFFSETTO:-0400
TZNAME:EDT
DTSTART:20220313T070000
END:DAYLIGHT
BEGIN:STANDARD
TZOFFSETFROM:-0400
TZOFFSETTO:-0500
TZNAME:EST
DTSTART:20221106T060000
END:STANDARD
BEGIN:DAYLIGHT
TZOFFSETFROM:-0500
TZOFFSETTO:-0400
TZNAME:EDT
DTSTART:20230312T070000
END:DAYLIGHT
BEGIN:STANDARD
TZOFFSETFROM:-0400
TZOFFSETTO:-0500
TZNAME:EST
DTSTART:20231105T060000
END:STANDARD
END:VTIMEZONE
BEGIN:VEVENT
DTSTART;TZID=America/Toronto:20220201T103000
DTEND;TZID=America/Toronto:20220201T120000
DTSTAMP:20260424T173343
CREATED:20220110T191927Z
LAST-MODIFIED:20220110T195416Z
UID:7298-1643711400-1643716800@ccirs.qc.ca
SUMMARY:Atelier-conférence : Démasquer les relations toxiques et vous en libérer
DESCRIPTION:En collaboration avec : \n \nLes ravages causés par les pervers narcissiques sont cruels et douloureux. Lorsque l’on commence à se sentir piégé\, il est souvent tard… Cet individu saboteur aura tout fait pour mieux briller en diminuant l’autre. Deux options sont possibles : utiliser son passage et cette expérience pour se propulser ou rester une victime!\nRencontrez notre auteure\, coach en entreprise et formatrice. Une belle surprise vous sera remise. 😉 \nLes pervers narcissiques peuvent être la cause des épuisements professionnels de vos équipes\, de la baisse de la productivité et de l’augmentation du taux de roulement. Ils passent trop souvent inaperçus. \nDans cet atelier\, découvrez comment démasquer cet être saboteur; une arme essentielle pour  vous protéger et vous en libérer. \n  \nINSCRIPTION\n \n*Un hyperlien vous sera envoyé avant l’événement pour participer \n*Le prix inclut le livre écrit par notre partenaire : « Les relations toxiques en amour et en affaires »  \n\n\nBiographie de Maryse Audet\n \nBachelière en administration des affaires\, Maryse Audet accompagne les gestionnaires\, propriétaires de PME et professionnels pour transformer leurs pratiques de gestion et devenir un leader inspiré et inspirant. Elle offre des formations ainsi que des ateliers de codéveloppement en entreprise. Elle est auteure de deux livres et croit fortement que le monde des affaires vivra un point de bascule important. \nEn affaires depuis plus de 10 ans\, elle est intervenue auprès de plusieurs entreprises dans leur gestion du changement et le développement des ressources. Maryse a su développer des outils et des méthodes uniques qui permettent de déconstruire des croyances limitantes\, s’armer face à l’adversité et éclairer le leader pour qu’il reprenne son VRAI pouvoir. \n\nÀ propos des ateliers-conférences de la CCIRS :\nLes ateliers-conférences sont un nouveau concept développé par la CCIRS. L’atelier porte sur un sujet d’actualité et est dirigé sur une thématique. L’objectif est de susciter le partage entre les participants afin que tous repartent avec un nouveau bagage et de nouvelles pistes de réflexion.
URL:https://ccirs.qc.ca/evenements/atelier-conference-demasquer-les-relations-toxiques-et-vous-en-liberer/
LOCATION:Québec
CATEGORIES:Atelier-conférence
ATTACH;FMTTYPE=image/jpeg:https://ccirs.qc.ca/wp-content/uploads/2022/01/Atelier-conference_Relations-toxiques.jpg
ORGANIZER;CN="CCIRS":MAILTO:info@ccirs.qc.ca
END:VEVENT
END:VCALENDAR