BEGIN:VCALENDAR
VERSION:2.0
PRODID:-//CCIRS - ECPv6.15.18//NONSGML v1.0//EN
CALSCALE:GREGORIAN
METHOD:PUBLISH
X-WR-CALNAME:CCIRS
X-ORIGINAL-URL:https://ccirs.qc.ca
X-WR-CALDESC:Évènements pour CCIRS
REFRESH-INTERVAL;VALUE=DURATION:PT1H
X-Robots-Tag:noindex
X-PUBLISHED-TTL:PT1H
BEGIN:VTIMEZONE
TZID:America/Toronto
BEGIN:DAYLIGHT
TZOFFSETFROM:-0500
TZOFFSETTO:-0400
TZNAME:EDT
DTSTART:20240310T070000
END:DAYLIGHT
BEGIN:STANDARD
TZOFFSETFROM:-0400
TZOFFSETTO:-0500
TZNAME:EST
DTSTART:20241103T060000
END:STANDARD
BEGIN:DAYLIGHT
TZOFFSETFROM:-0500
TZOFFSETTO:-0400
TZNAME:EDT
DTSTART:20250309T070000
END:DAYLIGHT
BEGIN:STANDARD
TZOFFSETFROM:-0400
TZOFFSETTO:-0500
TZNAME:EST
DTSTART:20251102T060000
END:STANDARD
BEGIN:DAYLIGHT
TZOFFSETFROM:-0500
TZOFFSETTO:-0400
TZNAME:EDT
DTSTART:20260308T070000
END:DAYLIGHT
BEGIN:STANDARD
TZOFFSETFROM:-0400
TZOFFSETTO:-0500
TZNAME:EST
DTSTART:20261101T060000
END:STANDARD
END:VTIMEZONE
BEGIN:VEVENT
DTSTART;TZID=America/Toronto:20251029T160000
DTEND;TZID=America/Toronto:20251029T170000
DTSTAMP:20260423T105846
CREATED:20250930T204201Z
LAST-MODIFIED:20251029T165947Z
UID:13433-1761753600-1761757200@ccirs.qc.ca
SUMMARY:Assemblée générale annuelle
DESCRIPTION:Nous avons le plaisir de vous convier à l’Assemblée générale annuelle (AGA) de la Chambre de commerce et d’industrie de la Rive-Sud\, un moment clé pour notre organisation. Votre participation active à cette assemblée est essentielle pour façonner l’avenir de la Chambre et de notre communauté d’affaires. \nEn plus de la présentation du rapport financier de l’année précédente\, cet événement vous donnera l’occasion de rencontrer les membres actuels du conseil d’administration de la Chambre et de prendre part au processus d’élection des nouveaux administrateurs. \nVotre présence et votre engagement à l’AGA sont importants pour assurer la vitalité de notre Chambre. Nous espérons vous y voir nombreux\, prêts à contribuer à la croissance et aux succès de la deuxième région économique en importance au Québec. \nOuverture des portes : 15 h 30 \nHeure AGA : 16 h à 17 h \nOrdre du jour de l’assemblée : Cliquez ici \nDécouvrir les candidatures : Cliquez ici \nÉtats financiers 2024-2025 : à venir  \nProcès-verbal de l’AGA 2024 : Cliquez ici \nPrix : Gratuit (Accessible aux membres en règle** seulement) \n*L’assemblée est ouverte aux membres en règle seulement.\n**Un membre en règle est un membre qui a payé sa cotisation au 25 octobre 2025\nSeuls les délégués associés au compte membre peuvent voter à l’AGA\, le nombre de délégués permis par entreprise est déterminé en fonction de la taille de l’entreprise. Si vous ne retrouvez pas votre nom lors de l’inscription\, écrivez à membres@ccirs.qc.ca \nInscription\n  \nDans une atmosphère décontractée et conviviale\, l’Assemblée générale annuelle sera suivie d’un cocktail réseautage ouvert à tous. Le 29 octobre dès 17 h\, venez rencontrer la communauté d’affaires de la Rive-Sud et profiter de belles opportunités de maillage. Nous en profiterons également pour lancer la 42e édition des Prix Excellence de la Rive-Sud! \nEn savoir plus
URL:https://ccirs.qc.ca/evenements/assemblee-generale-annuelle-6/
LOCATION:Hôtel Alt\, 6500 Boul. de Rome\, Brossard\, Québec\, J4Y 0B6\, Canada
CATEGORIES:Assemblée générale annuelle
ATTACH;FMTTYPE=image/png:https://ccirs.qc.ca/wp-content/uploads/2025/09/AGA_1200-x-628-1.png
END:VEVENT
END:VCALENDAR