BEGIN:VCALENDAR
VERSION:2.0
PRODID:-//CCIRS - ECPv6.15.18//NONSGML v1.0//EN
CALSCALE:GREGORIAN
METHOD:PUBLISH
X-ORIGINAL-URL:https://ccirs.qc.ca
X-WR-CALDESC:Évènements pour CCIRS
REFRESH-INTERVAL;VALUE=DURATION:PT1H
X-Robots-Tag:noindex
X-PUBLISHED-TTL:PT1H
BEGIN:VTIMEZONE
TZID:America/Toronto
BEGIN:DAYLIGHT
TZOFFSETFROM:-0500
TZOFFSETTO:-0400
TZNAME:EDT
DTSTART:20220313T070000
END:DAYLIGHT
BEGIN:STANDARD
TZOFFSETFROM:-0400
TZOFFSETTO:-0500
TZNAME:EST
DTSTART:20221106T060000
END:STANDARD
BEGIN:DAYLIGHT
TZOFFSETFROM:-0500
TZOFFSETTO:-0400
TZNAME:EDT
DTSTART:20230312T070000
END:DAYLIGHT
BEGIN:STANDARD
TZOFFSETFROM:-0400
TZOFFSETTO:-0500
TZNAME:EST
DTSTART:20231105T060000
END:STANDARD
BEGIN:DAYLIGHT
TZOFFSETFROM:-0500
TZOFFSETTO:-0400
TZNAME:EDT
DTSTART:20240310T070000
END:DAYLIGHT
BEGIN:STANDARD
TZOFFSETFROM:-0400
TZOFFSETTO:-0500
TZNAME:EST
DTSTART:20241103T060000
END:STANDARD
END:VTIMEZONE
BEGIN:VEVENT
DTSTART;TZID=America/Toronto:20231025T160000
DTEND;TZID=America/Toronto:20231025T170000
DTSTAMP:20260424T102854
CREATED:20230928T150405Z
LAST-MODIFIED:20231023T140940Z
UID:9920-1698249600-1698253200@ccirs.qc.ca
SUMMARY:Assemblée générale annuelle
DESCRIPTION:Nous avons le plaisir de vous convier à l’Assemblée générale annuelle (AGA) de la CCIRS\, un moment clé pour notre organisation. Votre participation active à cette assemblée est essentielle pour façonner l’avenir de la Chambre et de notre communauté d’affaires. \nEn plus de la présentation du rapport financier de l’année précédente\, cet événement vous donnera l’occasion de rencontrer les membres actuels du conseil d’administration de la Chambre et de prendre part au processus d’élection des nouveaux administrateurs. \nVotre présence et votre engagement à l’AGA sont importants pour assurer la vitalité de notre Chambre. Nous espérons vous y voir nombreux\, prêts à contribuer à la croissance et aux succès de la deuxième région économique en importance au Québec. \nLieu : Hôtel Mortagne\, Boucherville \nHeure : 16 h à 17 h \nOrdre du jour de l’assemblée : cliquez ici \nDécouvrir les candidatures : cliquez ici \nNos nouveaux Règlements généraux : cliquez ici \nÉtats financiers 2022-2023 : cliquez ici \nProcès-verbal de l’AGA 2022 : cliquez ici \nPrix : Gratuit (Accessible aux membres en règle** seulement) \n*L’assemblée est ouverte aux membres en règle seulement.\n**Un membre en règle est un membre qui a payé sa cotisation au 25 octobre 2023\nInscription\n  \nPlusieurs membres de la Chambre nous ont demandé une activité de réseautage cet automne : nous vous avons écouté! Dans une atmosphère décontractée et conviviale\, l’Assemblée générale annuelle sera suivie d’un cocktail ouvert à tous. Le 25 octobre dès 17 h\, venez rencontrer la communauté d’affaires de la Rive-Sud et profiter de belles opportunités de maillage. \nEn savoir plus
URL:https://ccirs.qc.ca/evenements/assemblee-generale-annuelle-2023/
LOCATION:Hôtel Mortagne\, 1228 rue Nobel\, Boucherville\, Québec\, J4B 5H1\, Canada
CATEGORIES:Assemblée générale annuelle
ATTACH;FMTTYPE=image/png:https://ccirs.qc.ca/wp-content/uploads/2023/09/Visuel-horizontal-3.png
END:VEVENT
END:VCALENDAR