BEGIN:VCALENDAR
VERSION:2.0
PRODID:-//CCIRS - ECPv6.15.18//NONSGML v1.0//EN
CALSCALE:GREGORIAN
METHOD:PUBLISH
X-WR-CALNAME:CCIRS
X-ORIGINAL-URL:https://ccirs.qc.ca
X-WR-CALDESC:Évènements pour CCIRS
REFRESH-INTERVAL;VALUE=DURATION:PT1H
X-Robots-Tag:noindex
X-PUBLISHED-TTL:PT1H
BEGIN:VTIMEZONE
TZID:America/Toronto
BEGIN:DAYLIGHT
TZOFFSETFROM:-0500
TZOFFSETTO:-0400
TZNAME:EDT
DTSTART:20210314T070000
END:DAYLIGHT
BEGIN:STANDARD
TZOFFSETFROM:-0400
TZOFFSETTO:-0500
TZNAME:EST
DTSTART:20211107T060000
END:STANDARD
BEGIN:DAYLIGHT
TZOFFSETFROM:-0500
TZOFFSETTO:-0400
TZNAME:EDT
DTSTART:20220313T070000
END:DAYLIGHT
BEGIN:STANDARD
TZOFFSETFROM:-0400
TZOFFSETTO:-0500
TZNAME:EST
DTSTART:20221106T060000
END:STANDARD
BEGIN:DAYLIGHT
TZOFFSETFROM:-0500
TZOFFSETTO:-0400
TZNAME:EDT
DTSTART:20230312T070000
END:DAYLIGHT
BEGIN:STANDARD
TZOFFSETFROM:-0400
TZOFFSETTO:-0500
TZNAME:EST
DTSTART:20231105T060000
END:STANDARD
END:VTIMEZONE
BEGIN:VEVENT
DTSTART;TZID=America/Toronto:20220921T170000
DTEND;TZID=America/Toronto:20220921T190000
DTSTAMP:20260425T115140
CREATED:20220801T173013Z
LAST-MODIFIED:20220913T203017Z
UID:8111-1663779600-1663786800@ccirs.qc.ca
SUMMARY:5 à 7 Aile Jeunesse
DESCRIPTION:Nous sommes heureux de vous annoncer la date officielle du retour des événements en personne de l’Aile Jeunesse de la CCIRS:  \nle mercredi 21 septembre  \nLes 5@7 nous ont manqué dans les deux dernières années. Nous avons hâte de vous retrouver pour souligner la rentrée.  \nSoirée festive\, rassembleuse et rafraîchissante en vue 🍹 \nInclus dans votre billet: de nombreuses bouchées exquises\, un cocktail et des activités de réseautage. \nL’Aile Jeunesse est soutenue par : \n \nMerci à l’ambassadeur de cet événement : \n \nTarifs : membre – 85$ non-membre – 100$ \nInscription \n 
URL:https://ccirs.qc.ca/evenements/5-a-7-aile-jeunesse/
LOCATION:Restaurant UBORA\, 3135 Bd Moïse-Vincent #106\, Saint-Hubert\, Québec\, J3Y 8Y5\, Canada
CATEGORIES:5 à 7,Aile Jeunesse
ATTACH;FMTTYPE=image/jpeg:https://ccirs.qc.ca/wp-content/uploads/2022/08/AJ_5-7_1200x628_220909.jpg
END:VEVENT
END:VCALENDAR