BEGIN:VCALENDAR
VERSION:2.0
PRODID:-//CCIRS - ECPv6.15.18//NONSGML v1.0//EN
CALSCALE:GREGORIAN
METHOD:PUBLISH
X-WR-CALNAME:CCIRS
X-ORIGINAL-URL:https://ccirs.qc.ca
X-WR-CALDESC:Évènements pour CCIRS
REFRESH-INTERVAL;VALUE=DURATION:PT1H
X-Robots-Tag:noindex
X-PUBLISHED-TTL:PT1H
BEGIN:VTIMEZONE
TZID:America/Toronto
BEGIN:DAYLIGHT
TZOFFSETFROM:-0500
TZOFFSETTO:-0400
TZNAME:EDT
DTSTART:20250309T070000
END:DAYLIGHT
BEGIN:STANDARD
TZOFFSETFROM:-0400
TZOFFSETTO:-0500
TZNAME:EST
DTSTART:20251102T060000
END:STANDARD
BEGIN:DAYLIGHT
TZOFFSETFROM:-0500
TZOFFSETTO:-0400
TZNAME:EDT
DTSTART:20260308T070000
END:DAYLIGHT
BEGIN:STANDARD
TZOFFSETFROM:-0400
TZOFFSETTO:-0500
TZNAME:EST
DTSTART:20261101T060000
END:STANDARD
BEGIN:DAYLIGHT
TZOFFSETFROM:-0500
TZOFFSETTO:-0400
TZNAME:EDT
DTSTART:20270314T070000
END:DAYLIGHT
BEGIN:STANDARD
TZOFFSETFROM:-0400
TZOFFSETTO:-0500
TZNAME:EST
DTSTART:20271107T060000
END:STANDARD
END:VTIMEZONE
BEGIN:VEVENT
DTSTART;TZID=America/Toronto:20260316T163000
DTEND;TZID=America/Toronto:20260316T193000
DTSTAMP:20260422T212646
CREATED:20260122T155929Z
LAST-MODIFIED:20260316T140501Z
UID:14118-1773678600-1773689400@ccirs.qc.ca
SUMMARY:COMPLET – Dévoilement des finalistes du 42e Gala Excellence de la Rive-Sud et cocktail réseautage
DESCRIPTION:*L’événement affiche maintenant complet* \nC’est lors de cet événement rassembleur et riche en émotions que seront dévoilés les finalistes de la 42ᵉ édition du prestigieux Gala Excellence de la Rive-Sud. Une occasion unique de bénéficier d’une visibilité exceptionnelle auprès des leaders économiques de la région. Invitez vos collègues\, partenaires et amis à venir célébrer le succès et le dynamisme des entreprises d’ici. \nLe dévoilement sera suivi d’un cocktail réseautage\, offrant une occasion privilégiée de créer des liens avec la communauté d’affaires de la Rive-Sud et de saisir de belles opportunités de maillage. \nDepuis plus de 40 ans\, la Chambre est fière de promouvoir l’excellence et de récompenser les entreprises qui se distinguent dans leur domaine. Au fil des éditions\, le Gala a honoré plus de 500 entreprises et mis en lumière la contribution de plus de 1 000 finalistes. \nCet événement est ouvert à tous! \n*Stationnement payant* \nTarifs :\nMembre : 55$\nNon membre : 75$ \nInscription\n  \nPartenaire présentateur des Prix Excellence : 
URL:https://ccirs.qc.ca/evenements/devoilement-des-finalistes-du-42e-gala-excellence-de-la-rive-sud-et-cocktail-reseautage/
LOCATION:Théâtre de la Ville\, 150 Rue de Gentilly E\, Longueuil\, Québec\, J4H 4A9\, Canada
CATEGORIES:Gala Excellence de la Rive-Sud,Réseautage
ATTACH;FMTTYPE=image/png:https://ccirs.qc.ca/wp-content/uploads/2026/01/Excellence-2026_1200-x-628_Devoilement-finalistes-v1-1.png
END:VEVENT
END:VCALENDAR