BEGIN:VCALENDAR
VERSION:2.0
PRODID:-//CCIRS - ECPv6.15.18//NONSGML v1.0//EN
CALSCALE:GREGORIAN
METHOD:PUBLISH
X-WR-CALNAME:CCIRS
X-ORIGINAL-URL:https://ccirs.qc.ca
X-WR-CALDESC:Évènements pour CCIRS
REFRESH-INTERVAL;VALUE=DURATION:PT1H
X-Robots-Tag:noindex
X-PUBLISHED-TTL:PT1H
BEGIN:VTIMEZONE
TZID:America/Toronto
BEGIN:DAYLIGHT
TZOFFSETFROM:-0500
TZOFFSETTO:-0400
TZNAME:EDT
DTSTART:20250309T070000
END:DAYLIGHT
BEGIN:STANDARD
TZOFFSETFROM:-0400
TZOFFSETTO:-0500
TZNAME:EST
DTSTART:20251102T060000
END:STANDARD
BEGIN:DAYLIGHT
TZOFFSETFROM:-0500
TZOFFSETTO:-0400
TZNAME:EDT
DTSTART:20260308T070000
END:DAYLIGHT
BEGIN:STANDARD
TZOFFSETFROM:-0400
TZOFFSETTO:-0500
TZNAME:EST
DTSTART:20261101T060000
END:STANDARD
BEGIN:DAYLIGHT
TZOFFSETFROM:-0500
TZOFFSETTO:-0400
TZNAME:EDT
DTSTART:20270314T070000
END:DAYLIGHT
BEGIN:STANDARD
TZOFFSETFROM:-0400
TZOFFSETTO:-0500
TZNAME:EST
DTSTART:20271107T060000
END:STANDARD
END:VTIMEZONE
BEGIN:VEVENT
DTSTART;TZID=America/Toronto:20260312T073000
DTEND;TZID=America/Toronto:20260312T110000
DTSTAMP:20260422T182840
CREATED:20260122T155107Z
LAST-MODIFIED:20260304T162349Z
UID:14112-1773300600-1773313200@ccirs.qc.ca
SUMMARY:Déjeuner au féminin 2026
DESCRIPTION:Rejoignez-nous le 12 mars prochain au Parcours du Cerf à Longueuil lors de notre traditionnel Déjeuner au féminin. Venez puiser l’inspiration auprès de panélistes chevronnées qui partageront leurs parcours uniques. \nNous aurons le plaisir d’accueillir : \n\nKathy Baig\, directrice générale et cheffe de la direction de l’École de technologie supérieure – ÉTS\nAlison Green\, fondatrice et présidente de Bien chez soi\nKarine Pomerleau\, directrice générale chez Trans-Herbe\n\nAprès le panel\, des ateliers dynamiques seront animés par nos ambassadrices pour vous outiller et vous inspirer dans le développement de votre carrière. Vous pourrez ensuite profiter d’une période de réseautage pour échanger des idées\, tisser des liens et renforcer votre réseau professionnel. \nUne occasion à ne pas manquer pour bâtir des relations et célébrer les parcours inspirants de femmes d’affaires! \nLe Déjeuner au féminin est aussi une occasion unique de mettre en lumière votre entreprise grâce à notre plan de partenariat avantageux. Vous aimeriez être partenaire de cet événement? Communiquez avec Amine et Marion : developpement@ccirs.qc.ca \nTarifs : \nMembres : 95$\nNon-membres : 125$ \nInscription\n  \nPrésenté par : 
URL:https://ccirs.qc.ca/evenements/dejeuner-au-feminin-2026/
LOCATION:Parcours du Cerf\, 2500\, boulevard Fernand-Lafontaine\, Longueuil\, Québec\, J4N 1M5\, Canada
CATEGORIES:Déjeuner au féminin
ATTACH;FMTTYPE=image/png:https://ccirs.qc.ca/wp-content/uploads/2026/01/Dejeuner-feminin-2026_1200-x-628-V2-3.png
END:VEVENT
END:VCALENDAR