BEGIN:VCALENDAR
VERSION:2.0
PRODID:-//CCIRS - ECPv6.15.18//NONSGML v1.0//EN
CALSCALE:GREGORIAN
METHOD:PUBLISH
X-ORIGINAL-URL:https://ccirs.qc.ca
X-WR-CALDESC:Évènements pour CCIRS
REFRESH-INTERVAL;VALUE=DURATION:PT1H
X-Robots-Tag:noindex
X-PUBLISHED-TTL:PT1H
BEGIN:VTIMEZONE
TZID:America/Toronto
BEGIN:DAYLIGHT
TZOFFSETFROM:-0500
TZOFFSETTO:-0400
TZNAME:EDT
DTSTART:20250309T070000
END:DAYLIGHT
BEGIN:STANDARD
TZOFFSETFROM:-0400
TZOFFSETTO:-0500
TZNAME:EST
DTSTART:20251102T060000
END:STANDARD
BEGIN:DAYLIGHT
TZOFFSETFROM:-0500
TZOFFSETTO:-0400
TZNAME:EDT
DTSTART:20260308T070000
END:DAYLIGHT
BEGIN:STANDARD
TZOFFSETFROM:-0400
TZOFFSETTO:-0500
TZNAME:EST
DTSTART:20261101T060000
END:STANDARD
BEGIN:DAYLIGHT
TZOFFSETFROM:-0500
TZOFFSETTO:-0400
TZNAME:EDT
DTSTART:20270314T070000
END:DAYLIGHT
BEGIN:STANDARD
TZOFFSETFROM:-0400
TZOFFSETTO:-0500
TZNAME:EST
DTSTART:20271107T060000
END:STANDARD
END:VTIMEZONE
BEGIN:VEVENT
DTSTART;TZID=America/Toronto:20260203T120000
DTEND;TZID=America/Toronto:20260203T140000
DTSTAMP:20260422T171031
CREATED:20251211T185422Z
LAST-MODIFIED:20260202T185030Z
UID:14015-1770120000-1770127200@ccirs.qc.ca
SUMMARY:Grande Rencontre – Perspectives économiques 2026 avec Isabelle Hudon et Pierre Cléroux (BDC)
DESCRIPTION:La Chambre de commerce et d’industrie de la Rive-Sud vous convie à sa Grande Rencontre annuelle consacrée aux perspectives économiques de l’année 2026 — un rendez-vous incontournable pour les dirigeants et décideurs qui souhaitent amorcer l’année avec une lecture juste des tendances et des leviers d’action. \nDans un contexte où les entreprises doivent composer avec des environnements économiques\, financiers et géopolitiques incertains\, cette rencontre offrira une analyse rigoureuse des principaux indicateurs à surveiller\, ainsi qu’un éclairage stratégique sur les opportunités et les risques à venir. \nPierre Cléroux\, vice-président\, Recherche et économiste en chef de la Banque de développement du Canada (BDC)\, livrera son analyse des grandes tendances économiques qui façonneront l’année 2026\, avec un focus particulier sur les PME\, l’investissement\, la productivité et l’innovation. \nIsabelle Hudon\, présidente et cheffe de la direction de la Banque de développement du Canada\, et figure de proue du milieu des affaires\, apportera pour sa part un regard privilégié de dirigeante sur les défis de leadership\, la transformation des organisations\, l’accès au capital et la croissance des entreprises dans un contexte de transition économique. \nUne occasion unique de conjuguer lecture macroéconomique\, vision d’affaires et réflexion stratégique pour mieux orienter ses décisions en début d’année. \nVous aimeriez être partenaire de cet événement? Communiquez avec Amine et Marion : developpement@ccirs.qc.ca \nTarifs :\nMembre : 115$\nRégulier : 150$ \nTables (8 personnes) :\nMembre : 920$\nRégulier : 1200$  \nTables VIP (8 personnes) :\nMembre : 1750$ \n\nTable de 8 personnes avec logo de l’entreprise\n2 passes VIP \n\nRégulier : 2000$ \n\nTable de 8 personnes avec logo de l’entreprise\n2 passes VIP \n\nLe billet inclut un repas 3 services. \nInscription\n  \nPartenaires des Grandes Rencontres de la Rive-Sud \n \n \n  \n  \n  \n  \nPartenaires de l’événement 
URL:https://ccirs.qc.ca/evenements/grande-rencontre-perspectives-economiques-2026-avec-isabelle-hudon-et-pierre-cleroux-bdc/
LOCATION:Parcours du Cerf\, 2500\, boulevard Fernand-Lafontaine\, Longueuil\, Québec\, J4N 1M5\, Canada
CATEGORIES:Grande rencontre
ATTACH;FMTTYPE=image/png:https://ccirs.qc.ca/wp-content/uploads/2025/12/Grande-Rencontre_Perspectives-economiques-2026_1200-x-628-VF-3.png
END:VEVENT
END:VCALENDAR