BEGIN:VCALENDAR
VERSION:2.0
PRODID:-//CCIRS - ECPv6.15.18//NONSGML v1.0//EN
CALSCALE:GREGORIAN
METHOD:PUBLISH
X-WR-CALNAME:CCIRS
X-ORIGINAL-URL:https://ccirs.qc.ca
X-WR-CALDESC:Évènements pour CCIRS
REFRESH-INTERVAL;VALUE=DURATION:PT1H
X-Robots-Tag:noindex
X-PUBLISHED-TTL:PT1H
BEGIN:VTIMEZONE
TZID:America/Toronto
BEGIN:DAYLIGHT
TZOFFSETFROM:-0500
TZOFFSETTO:-0400
TZNAME:EDT
DTSTART:20240310T070000
END:DAYLIGHT
BEGIN:STANDARD
TZOFFSETFROM:-0400
TZOFFSETTO:-0500
TZNAME:EST
DTSTART:20241103T060000
END:STANDARD
BEGIN:DAYLIGHT
TZOFFSETFROM:-0500
TZOFFSETTO:-0400
TZNAME:EDT
DTSTART:20250309T070000
END:DAYLIGHT
BEGIN:STANDARD
TZOFFSETFROM:-0400
TZOFFSETTO:-0500
TZNAME:EST
DTSTART:20251102T060000
END:STANDARD
BEGIN:DAYLIGHT
TZOFFSETFROM:-0500
TZOFFSETTO:-0400
TZNAME:EDT
DTSTART:20260308T070000
END:DAYLIGHT
BEGIN:STANDARD
TZOFFSETFROM:-0400
TZOFFSETTO:-0500
TZNAME:EST
DTSTART:20261101T060000
END:STANDARD
END:VTIMEZONE
BEGIN:VEVENT
DTSTART;TZID=America/Toronto:20251209T120000
DTEND;TZID=America/Toronto:20251209T140000
DTSTAMP:20260422T124707
CREATED:20251028T175418Z
LAST-MODIFIED:20251118T165241Z
UID:13657-1765281600-1765288800@ccirs.qc.ca
SUMMARY:Grande Rencontre – Michael Keroullé\, président d’Alstom Amériques : la Rive-Sud au cœur de la mobilité durable nord-américaine
DESCRIPTION:La Chambre de commerce et d’industrie de la Rive-Sud est fière d’accueillir Michael Keroullé\, président d’Alstom Amériques\, pour une Grande Rencontre consacrée à l’avenir du transport collectif et aux ambitions d’Alstom sur le continent. \nDepuis 2021\, c’est à Saint-Bruno-de-Montarville que se déploie la direction des Amériques d’Alstom. Près de 1 000 employés y conjuguent expertise en conception\, ingénierie\, prototypage et innovation\, faisant de ce site un véritable pôle stratégique. Leur savoir-faire unique contribue à des projets majeurs en cours comme le REM ou le Skytrain de Vancouver\, ainsi qu’en préparation tels que les nouvelles voitures de trains de banlieue de la MTA à New York\, le tramway de Québec ou encore les voitures du métro de Toronto. \nDans un contexte de croissance soutenue\, Michael Keroullé partagera sa vision stratégique pour Alstom Amériques : accélérer la transition vers une mobilité intelligente et décarbonée\, renforcer le rôle du Québec comme pôle d’innovation ferroviaire et répondre aux besoins pressants en infrastructures de transport durable. \nUne occasion unique d’échanger avec un leader mondial sur les perspectives de développement de la Rive-Sud\, du Québec et de toute l’Amérique du Nord. \nVous aimeriez être partenaire de cet événement? Communiquez avec Amine et Marion : developpement@ccirs.qc.ca \nTarifs :\nMembre : 115$\nRégulier : 150$ \nTables (8 personnes) :\nMembre : 920$\nRégulier : 1200$  \nTables VIP (8 personnes) :\nMembre : 1750$ \n\nTable de 8 personnes avec logo de l’entreprise\n2 passes VIP \n\nRégulier : 2000$ \n\nTable de 8 personnes avec logo de l’entreprise\n2 passes VIP \n\nLe billet inclut un repas 3 services. \nInscription\n  \nPartenaires des Grandes Rencontres de la Rive-Sud \n \n \n \n \n  \n  \n  \n  \nPartenaires réseau
URL:https://ccirs.qc.ca/evenements/grande-rencontre-michael-keroulle-president-dalstom-ameriques-la-rive-sud-au-coeur-de-la-mobilite-durable-nord-americaine/
LOCATION:Hôtel Courtyard – Salle Saturne 2\, 3300 R. de l'Éclipse\, Brossard\, Québec\, J4Z 0P5\, Canada
CATEGORIES:Grande rencontre
ATTACH;FMTTYPE=image/png:https://ccirs.qc.ca/wp-content/uploads/2025/10/Grande-Rencontre_1200-X-628_Michael-Keroulle-2.png
END:VEVENT
END:VCALENDAR