BEGIN:VCALENDAR
VERSION:2.0
PRODID:-//CCIRS - ECPv6.15.18//NONSGML v1.0//EN
CALSCALE:GREGORIAN
METHOD:PUBLISH
X-WR-CALNAME:CCIRS
X-ORIGINAL-URL:https://ccirs.qc.ca
X-WR-CALDESC:Évènements pour CCIRS
REFRESH-INTERVAL;VALUE=DURATION:PT1H
X-Robots-Tag:noindex
X-PUBLISHED-TTL:PT1H
BEGIN:VTIMEZONE
TZID:America/Toronto
BEGIN:DAYLIGHT
TZOFFSETFROM:-0500
TZOFFSETTO:-0400
TZNAME:EDT
DTSTART:20240310T070000
END:DAYLIGHT
BEGIN:STANDARD
TZOFFSETFROM:-0400
TZOFFSETTO:-0500
TZNAME:EST
DTSTART:20241103T060000
END:STANDARD
BEGIN:DAYLIGHT
TZOFFSETFROM:-0500
TZOFFSETTO:-0400
TZNAME:EDT
DTSTART:20250309T070000
END:DAYLIGHT
BEGIN:STANDARD
TZOFFSETFROM:-0400
TZOFFSETTO:-0500
TZNAME:EST
DTSTART:20251102T060000
END:STANDARD
BEGIN:DAYLIGHT
TZOFFSETFROM:-0500
TZOFFSETTO:-0400
TZNAME:EDT
DTSTART:20260308T070000
END:DAYLIGHT
BEGIN:STANDARD
TZOFFSETFROM:-0400
TZOFFSETTO:-0500
TZNAME:EST
DTSTART:20261101T060000
END:STANDARD
END:VTIMEZONE
BEGIN:VEVENT
DTSTART;TZID=America/Toronto:20251120T113000
DTEND;TZID=America/Toronto:20251120T140000
DTSTAMP:20260422T114402
CREATED:20251020T162215Z
LAST-MODIFIED:20251118T162902Z
UID:13530-1763638200-1763647200@ccirs.qc.ca
SUMMARY:COMPLET – Aile jeunesse – Dîner tournant au Iru Izakaya\, à Brossard
DESCRIPTION:*L’événement affiche maintenant complet.** \nL’Aile jeunesse vous invite à un dîner tournant au Iru Izakaya\, à Brossard\, une occasion unique de rencontrer les gens d’affaires de la Rive-Sud et d’élargir votre réseau professionnel. Participez à cet événement dynamique pour échanger des idées\, amorcer des conversations enrichissantes et explorer de nouvelles possibilités de collaboration. Un cadre convivial et stimulant vous attend pour tisser des liens durables au sein de la communauté d’affaires de la Rive-Sud. \nLe dîner inclut une entrée\, un plat principal\, un dessert\, ainsi qu’une boisson non alcoolisée. Entre chaque service\, une rotation sera effectuée afin de vous permettre de rencontrer un maximum de personnes présentes. \nTarifs :   \nMembres : 70 $\nRégulier : 85 $ \nLe billet inclut un repas 3 services et une boisson non alcoolisée. \nInscription \n  \nPartenaire présentateur de l’Aile jeunesse : \n \n  \n  \n  \nPartenaires de l’événement :
URL:https://ccirs.qc.ca/evenements/aile-jeunesse-diner-tournant-au-iru-izakaya-a-brossard/
LOCATION:Iru Izakaya\, 3050 de l'Éclipse\, Brossard\, Québec\, J4Z 0P3\, Canada
CATEGORIES:Aile Jeunesse,Réseautage
ATTACH;FMTTYPE=image/png:https://ccirs.qc.ca/wp-content/uploads/2025/10/AJ_1200-x-628_Diner-tournant-2025-4.png
END:VEVENT
END:VCALENDAR