BEGIN:VCALENDAR
VERSION:2.0
PRODID:-//CCIRS - ECPv6.15.18//NONSGML v1.0//EN
CALSCALE:GREGORIAN
METHOD:PUBLISH
X-WR-CALNAME:CCIRS
X-ORIGINAL-URL:https://ccirs.qc.ca
X-WR-CALDESC:Évènements pour CCIRS
REFRESH-INTERVAL;VALUE=DURATION:PT1H
X-Robots-Tag:noindex
X-PUBLISHED-TTL:PT1H
BEGIN:VTIMEZONE
TZID:America/Toronto
BEGIN:DAYLIGHT
TZOFFSETFROM:-0500
TZOFFSETTO:-0400
TZNAME:EDT
DTSTART:20240310T070000
END:DAYLIGHT
BEGIN:STANDARD
TZOFFSETFROM:-0400
TZOFFSETTO:-0500
TZNAME:EST
DTSTART:20241103T060000
END:STANDARD
BEGIN:DAYLIGHT
TZOFFSETFROM:-0500
TZOFFSETTO:-0400
TZNAME:EDT
DTSTART:20250309T070000
END:DAYLIGHT
BEGIN:STANDARD
TZOFFSETFROM:-0400
TZOFFSETTO:-0500
TZNAME:EST
DTSTART:20251102T060000
END:STANDARD
BEGIN:DAYLIGHT
TZOFFSETFROM:-0500
TZOFFSETTO:-0400
TZNAME:EDT
DTSTART:20260308T070000
END:DAYLIGHT
BEGIN:STANDARD
TZOFFSETFROM:-0400
TZOFFSETTO:-0500
TZNAME:EST
DTSTART:20261101T060000
END:STANDARD
END:VTIMEZONE
BEGIN:VEVENT
DTSTART;TZID=America/Toronto:20251023T120000
DTEND;TZID=America/Toronto:20251023T140000
DTSTAMP:20260422T095311
CREATED:20250925T133150Z
LAST-MODIFIED:20251020T160451Z
UID:13422-1761220800-1761228000@ccirs.qc.ca
SUMMARY:Grande Rencontre : Stéphane Brochu – ArcelorMittal : L’industrie de l’acier au cœur de notre souveraineté économique
DESCRIPTION:Véritable fleuron de la Rive-Sud\, ArcelorMittal Produits longs Canada façonne bien plus que de l’acier : l’entreprise forge un pan essentiel de notre économie et de notre souveraineté industrielle. À l’occasion de cette Grande Rencontre\, nous accueillerons son président-directeur général\, Stéphane Brochu\, pour une discussion franche et stratégique sur l’avenir d’un secteur méconnu mais vital. \nL’acier demeure le socle invisible de nos infrastructures\, de nos réseaux de transport\, de notre transition énergétique et de notre sécurité nationale. Selon l’Association canadienne des producteurs d’acier (ACPA)\, chaque emploi direct dans cette industrie soutient environ quatre emplois additionnels dans l’économie. ArcelorMittal représente à lui seul près de 45 % de la production nationale\, confirmant son rôle central dans la chaîne d’approvisionnement. \nPourtant\, cette industrie doit composer avec des pressions commerciales persistantes\, des tarifs étrangers lourds et une concurrence mondiale exacerbée. Dans ce contexte\, la question dépasse la simple production : comment le Canada peut-il se doter d’outils stratégiques – qu’il s’agisse d’un stock national d’acier\, de politiques d’achats publics responsables ou d’incitatifs vers l’acier à faible empreinte carbone – pour assurer sa résilience et son autonomie? \nCette rencontre offrira l’occasion d’explorer ces choix collectifs\, alors que l’acier redevient un enjeu central de prospérité et d’indépendance économique. \nVous aimeriez être partenaire de cet événement? Communiquez avec Amine Essoulimani\, Gestionnaire de projets et développement des affaires et Marion Cordier\, Responsable\, Croissance et partenariats stratégiques : developpement@ccirs.qc.ca \nTarifs :\nMembre : 115$\nRégulier : 150$ \nTables (8 personnes) :\nMembre : 920$\nRégulier : 1200$  \nTables VIP (8 personnes) :\nMembre : 1750$ \n\nTable de 8 personnes avec logo de l’entreprise\n2 passes VIP \n\nRégulier : 2000$ \n\nTable de 8 personnes avec logo de l’entreprise\n2 passes VIP \n\nInscription\n  \nPartenaires des Grandes Rencontres de la Rive-Sud \n \n \n \n \n  \n  \n  \n  \nPartenaire réseau
URL:https://ccirs.qc.ca/evenements/grande-rencontre-stephane-brochu-arcelormittal-lindustrie-de-lacier-au-coeur-de-notre-souverainete-economique/
LOCATION:Parcours du Cerf\, 2500\, boulevard Fernand-Lafontaine\, Longueuil\, Québec\, J4N 1M5\, Canada
CATEGORIES:Grande rencontre
ATTACH;FMTTYPE=image/png:https://ccirs.qc.ca/wp-content/uploads/2025/09/Grande-Rencontre_1200-X-628_Martin-Brassard-7.png
END:VEVENT
BEGIN:VEVENT
DTSTART;TZID=America/Toronto:20251023T170000
DTEND;TZID=America/Toronto:20251023T200000
DTSTAMP:20260422T095311
CREATED:20250902T192905Z
LAST-MODIFIED:20251021T180407Z
UID:13330-1761238800-1761249600@ccirs.qc.ca
SUMMARY:COMPLET – Le Rendez-vous Montérégie Affaires
DESCRIPTION:*L’événement affiche maintenant complet.** \n  \nUnir. Connecter. Rayonner.\nUne grande première en Montérégie!\nPour la toute première fois\, Montérégie Affaires et les neuf chambres de commerce de la région s’unissent pour vous présenter l’événement d’affaires à ne pas manquer cet automne. \nCette première édition sera accueillie par la Chambre de commerce et d’industrie de la Rive-Sud\, fière chambre hôte de l’événement\, qui ouvre ses portes afin de rassembler la communauté d’affaires de toute la Montérégie. Ce moment privilégié est l’occasion parfaite pour développer votre réseau\, renforcer vos relations d’affaires et découvrir toute la force et la diversité de la Montérégie. \nCet événement unique a pour objectif de créer des liens durables\, stimuler de nouvelles collaborations et mettre en lumière la richesse de notre belle et grande région comme moteur d’affaires incontournable. Le temps d’une soirée\, retrouvez-vous dans une ambiance chaleureuse aux allures de paradis tropical grâce à Oasis Surf\, où opportunités d’affaires\, synergies\, inspirations et succès vous attendent. \nAu programme : un cadre festif et chaleureux\, réseautage de qualité\, moments d’échange inspirants et cadeaux exclusifs. \nTarifs :\nTous : 75$ (+taxes) \nLe billet inclut un cocktail de bienvenue\, deux consommations et un repas cocktail dînatoire. \nMontérégie Affaires versera les surplus de la soirée à un organisme de la région. \nInscription\n  \n À propos de Montérégie Affaires \nDirigé par Marie-Josée Grenier\, Directrice des ventes affaires chez Tourisme Montérégie\, Montérégie Affaires a pour mission de positionner la région comme une destination incontournable pour le tourisme d’affaires et les événements corporatifs. \nGrâce à un service gratuit d’accompagnement\, l’équipe soutient les entreprises\, associations et organisateurs dans la planification et la réalisation de leurs événements\, en mettant de l’avant la diversité des infrastructures\, la richesse de l’offre régionale et la qualité de l’accueil en Montérégie. \nSon objectif : simplifier vos démarches\, créer des liens avec les bons partenaires et faire rayonner la Montérégie comme moteur d’affaires et d’innovation.
URL:https://ccirs.qc.ca/evenements/le-rendez-vous-monteregie-affaires/
LOCATION:Oasis Surf\, 9520 boulevard Leduc suite 01\, Brossard\, Québec\, J4Y 0B3\, Canada
CATEGORIES:Réseautage
ATTACH;FMTTYPE=image/png:https://ccirs.qc.ca/wp-content/uploads/2025/09/Invitation.png
END:VEVENT
END:VCALENDAR